BEGIN:VCALENDAR
VERSION:2.0
PRODID:-//EZFacility.com, Inc.//EZL 2.5.5.28621
BEGIN:VEVENT
UID:14302944@ezleagues.ezfacility.com
DTSTAMP:20260426T033607Z
CREATED:20260426T033607Z
DTSTART:20220321T020500Z
DTEND:20220321T030500Z
LOCATION:Rocky River 3/4 Blue
CONTACT:
SUMMARY:Lakewood VS. The Spy Who Megged Me
DESCRIPTION:League Name: Adult Coed - Sunday Open Division - Winter II\nGam
 e Type: Regular\nGame Status: Complete\nHome Team: Lakewood\nAway Team: Th
 e Spy Who Megged Me\nHome Score: 3\nAway Score: 3
END:VEVENT
BEGIN:VEVENT
UID:14302958@ezleagues.ezfacility.com
DTSTAMP:20260426T033607Z
CREATED:20260426T033607Z
DTSTART:20220404T010500Z
DTEND:20220404T020500Z
LOCATION:Westlake Full Field
CONTACT:
SUMMARY:Lakewood VS. Goal Diggers
DESCRIPTION:League Name: Adult Coed - Sunday Open Division - Winter II\nGam
 e Type: Regular\nGame Status: Complete\nHome Team: Lakewood\nAway Team: Go
 al Diggers\nHome Score: 5\nAway Score: 4
END:VEVENT
BEGIN:VEVENT
UID:14302965@ezleagues.ezfacility.com
DTSTAMP:20260426T033607Z
CREATED:20260426T033607Z
DTSTART:20220411T003000Z
DTEND:20220411T013000Z
LOCATION:Rocky River 3/4 Yellow
CONTACT:
SUMMARY:Breakaways VS. Lakewood
DESCRIPTION:League Name: Adult Coed - Sunday Open Division - Winter II\nGam
 e Type: Regular\nGame Status: Complete\nHome Team: Breakaways\nAway Team: 
 Lakewood\nHome Score: 6\nAway Score: 6
END:VEVENT
BEGIN:VEVENT
UID:14302978@ezleagues.ezfacility.com
DTSTAMP:20260426T033607Z
CREATED:20260426T033607Z
DTSTART:20220425T003000Z
DTEND:20220425T013000Z
LOCATION:Rocky River 3/4 Yellow
CONTACT:
SUMMARY:NARPs VS. Lakewood
DESCRIPTION:League Name: Adult Coed - Sunday Open Division - Winter II\nGam
 e Type: Regular\nGame Status: Complete\nHome Team: NARPs\nAway Team: Lakew
 ood\nHome Score: 9\nAway Score: 2
END:VEVENT
BEGIN:VEVENT
UID:14302983@ezleagues.ezfacility.com
DTSTAMP:20260426T033607Z
CREATED:20260426T033607Z
DTSTART:20220502T000500Z
DTEND:20220502T010500Z
LOCATION:Rocky River 3/4 Yellow
CONTACT:
SUMMARY:The underdogs VS. Lakewood
DESCRIPTION:League Name: Adult Coed - Sunday Open Division - Winter II\nGam
 e Type: Regular\nGame Status: Complete\nHome Team: The underdogs\nAway Tea
 m: Lakewood\nHome Score: 3\nAway Score: 4
END:VEVENT
BEGIN:VEVENT
UID:14302972@ezleagues.ezfacility.com
DTSTAMP:20260426T033607Z
CREATED:20260426T033607Z
DTSTART:20220516T000500Z
DTEND:20220516T010500Z
LOCATION:Rocky River 3/4 Blue
CONTACT:
SUMMARY:Lakewood VS. FC Unreal
DESCRIPTION:League Name: Adult Coed - Sunday Open Division - Winter II\nGam
 e Type: Regular\nGame Status: Complete\nHome Team: Lakewood\nAway Team: FC
  Unreal\nHome Score: 9\nAway Score: 3
END:VEVENT
BEGIN:VEVENT
UID:14302951@ezleagues.ezfacility.com
DTSTAMP:20260426T033607Z
CREATED:20260426T033607Z
DTSTART:20220523T000500Z
DTEND:20220523T010500Z
LOCATION:Rocky River 3/4 Yellow
CONTACT:
SUMMARY:Lakewood VS. RSM
DESCRIPTION:League Name: Adult Coed - Sunday Open Division - Winter II\nGam
 e Type: Regular\nGame Status: Complete\nHome Team: Lakewood\nAway Team: RS
 M\nHome Score: 4\nAway Score: 6
END:VEVENT
BEGIN:VEVENT
UID:14302988@ezleagues.ezfacility.com
DTSTAMP:20260426T033607Z
CREATED:20260426T033607Z
DTSTART:20220524T000500Z
DTEND:20220524T010500Z
LOCATION:Rocky River 3/4 Blue
CONTACT:
SUMMARY:Mastodons FC VS. Lakewood
DESCRIPTION:League Name: Adult Coed - Sunday Open Division - Winter II\nGam
 e Type: Regular\nGame Status: Complete\nHome Team: Mastodons FC\nAway Team
 : Lakewood\nHome Score: 0\nAway Score: 4
END:VEVENT
END:VCALENDAR
