BEGIN:VCALENDAR
VERSION:2.0
PRODID:-//EZFacility.com, Inc.//EZL 2.5.5.28621
BEGIN:VEVENT
UID:14313731@ezleagues.ezfacility.com
DTSTAMP:20260420T042037Z
CREATED:20260420T042037Z
DTSTART:20220327T174800Z
DTEND:20220327T184000Z
LOCATION:Field   ID 1
CONTACT:
SUMMARY:TEAM ENTROTECH VS. SACKS + RACKS
DESCRIPTION:League Name: Spring Indoor 2022 Coed Open Red (Sundays)\nGame T
 ype: Regular\nGame Status: Complete\nHome Team: TEAM ENTROTECH\nAway Team:
  SACKS + RACKS\nHome Score: 4\nAway Score: 3
END:VEVENT
BEGIN:VEVENT
UID:14313749@ezleagues.ezfacility.com
DTSTAMP:20260420T042037Z
CREATED:20260420T042037Z
DTSTART:20220403T165500Z
DTEND:20220403T174700Z
LOCATION:Field   ID 1
CONTACT:
SUMMARY:TEAM ENTROTECH VS. GRANDVIEW FC
DESCRIPTION:League Name: Spring Indoor 2022 Coed Open Red (Sundays)\nGame T
 ype: Regular\nGame Status: Complete\nHome Team: TEAM ENTROTECH\nAway Team:
  GRANDVIEW FC\nHome Score: 2\nAway Score: 9
END:VEVENT
BEGIN:VEVENT
UID:14313752@ezleagues.ezfacility.com
DTSTAMP:20260420T042037Z
CREATED:20260420T042037Z
DTSTART:20220410T160200Z
DTEND:20220410T165400Z
LOCATION:Field   ID 1
CONTACT:
SUMMARY:AC INFERNO VS. TEAM ENTROTECH
DESCRIPTION:League Name: Spring Indoor 2022 Coed Open Red (Sundays)\nGame T
 ype: Regular\nGame Status: Complete\nHome Team: AC INFERNO\nAway Team: TEA
 M ENTROTECH\nHome Score: 3\nAway Score: 1
END:VEVENT
BEGIN:VEVENT
UID:14313805@ezleagues.ezfacility.com
DTSTAMP:20260420T042037Z
CREATED:20260420T042037Z
DTSTART:20220424T174800Z
DTEND:20220424T184000Z
LOCATION:Field   ID 1
CONTACT:
SUMMARY:TEAM ENTROTECH VS. TBD
DESCRIPTION:League Name: Spring Indoor 2022 Coed Open Red (Sundays)\nGame T
 ype: Regular\nGame Status: Complete\nHome Team: TEAM ENTROTECH\nAway Team:
  TBD\nHome Score: 4\nAway Score: 8
END:VEVENT
BEGIN:VEVENT
UID:14313809@ezleagues.ezfacility.com
DTSTAMP:20260420T042037Z
CREATED:20260420T042037Z
DTSTART:20220501T165500Z
DTEND:20220501T174700Z
LOCATION:Field   ID 2
CONTACT:
SUMMARY:ACUTE FC VS. TEAM ENTROTECH
DESCRIPTION:League Name: Spring Indoor 2022 Coed Open Red (Sundays)\nGame T
 ype: Regular\nGame Status: Complete\nHome Team: ACUTE FC\nAway Team: TEAM 
 ENTROTECH\nHome Score: 4\nAway Score: 6
END:VEVENT
BEGIN:VEVENT
UID:14313817@ezleagues.ezfacility.com
DTSTAMP:20260420T042037Z
CREATED:20260420T042037Z
DTSTART:20220508T184100Z
DTEND:20220508T193300Z
LOCATION:Field   ID 1
CONTACT:
SUMMARY:SURVIVORS VS. TEAM ENTROTECH
DESCRIPTION:League Name: Spring Indoor 2022 Coed Open Red (Sundays)\nGame T
 ype: Regular\nGame Status: Complete\nHome Team: SURVIVORS\nAway Team: TEAM
  ENTROTECH\nHome Score: 0\nAway Score: 3
END:VEVENT
END:VCALENDAR
