BEGIN:VCALENDAR
VERSION:2.0
PRODID:-//EZFacility.com, Inc.//EZL 2.5.5.28621
BEGIN:VEVENT
UID:14320964@ezleagues.ezfacility.com
DTSTAMP:20260420T204119Z
CREATED:20260420T204119Z
DTSTART:20220402T200000Z
DTEND:20220402T210000Z
LOCATION:Turf 1
CONTACT:
SUMMARY:Bills VS. Seahawks
DESCRIPTION:League Name: Youth Flag Football session 2\nGame Type: Regular\
 nGame Status: Complete\nHome Team: Bills\nAway Team: Seahawks\nHome Score:
  12\nAway Score: 47
END:VEVENT
BEGIN:VEVENT
UID:14320968@ezleagues.ezfacility.com
DTSTAMP:20260420T204119Z
CREATED:20260420T204119Z
DTSTART:20220409T190000Z
DTEND:20220409T200000Z
LOCATION:Turf 1
CONTACT:
SUMMARY:Seahawks VS. Bears
DESCRIPTION:League Name: Youth Flag Football session 2\nGame Type: Regular\
 nGame Status: Complete\nHome Team: Seahawks\nAway Team: Bears\nHome Score:
  14\nAway Score: 0
END:VEVENT
BEGIN:VEVENT
UID:14320977@ezleagues.ezfacility.com
DTSTAMP:20260420T204119Z
CREATED:20260420T204119Z
DTSTART:20220416T210000Z
DTEND:20220416T220000Z
LOCATION:Turf 1
CONTACT:
SUMMARY:Patriots VS. Seahawks
DESCRIPTION:League Name: Youth Flag Football session 2\nGame Type: Regular\
 nGame Status: Complete\nHome Team: Patriots\nAway Team: Seahawks\nHome Sco
 re: 24\nAway Score: 25
END:VEVENT
BEGIN:VEVENT
UID:14320978@ezleagues.ezfacility.com
DTSTAMP:20260420T204119Z
CREATED:20260420T204119Z
DTSTART:20220430T170000Z
DTEND:20220430T180000Z
LOCATION:Turf 1
CONTACT:
SUMMARY:Bills VS. Seahawks
DESCRIPTION:League Name: Youth Flag Football session 2\nGame Type: Regular\
 nGame Status: Complete\nHome Team: Bills\nAway Team: Seahawks\nHome Score:
  6\nAway Score: 38
END:VEVENT
BEGIN:VEVENT
UID:14320979@ezleagues.ezfacility.com
DTSTAMP:20260420T204119Z
CREATED:20260420T204119Z
DTSTART:20220430T180000Z
DTEND:20220430T190000Z
LOCATION:Turf 1
CONTACT:
SUMMARY:Seahawks VS. The Buccaneers
DESCRIPTION:League Name: Youth Flag Football session 2\nGame Type: Regular\
 nGame Status: Complete\nHome Team: Seahawks\nAway Team: The Buccaneers\nHo
 me Score: 39\nAway Score: 6
END:VEVENT
BEGIN:VEVENT
UID:14321036@ezleagues.ezfacility.com
DTSTAMP:20260420T204119Z
CREATED:20260420T204119Z
DTSTART:20220507T210000Z
DTEND:20220507T220000Z
LOCATION:Turf 1
CONTACT:
SUMMARY:Seahawks VS. Eagles
DESCRIPTION:League Name: Youth Flag Football session 2\nGame Type: Regular\
 nGame Status: Complete\nHome Team: Seahawks\nAway Team: Eagles\nHome Score
 : 32\nAway Score: 14
END:VEVENT
BEGIN:VEVENT
UID:14320990@ezleagues.ezfacility.com
DTSTAMP:20260420T204119Z
CREATED:20260420T204119Z
DTSTART:20220514T200000Z
DTEND:20220514T210000Z
LOCATION:Turf 1
CONTACT:
SUMMARY:Patriots VS. Seahawks
DESCRIPTION:League Name: Youth Flag Football session 2\nGame Type: Regular\
 nGame Status: Complete\nHome Team: Patriots\nAway Team: Seahawks\nHome Sco
 re: 13\nAway Score: 26
END:VEVENT
BEGIN:VEVENT
UID:14321039@ezleagues.ezfacility.com
DTSTAMP:20260420T204119Z
CREATED:20260420T204119Z
DTSTART:20220521T190000Z
DTEND:20220521T200000Z
LOCATION:Turf 1
CONTACT:
SUMMARY:Patriots VS. Seahawks
DESCRIPTION:League Name: Youth Flag Football session 2\nGame Type: Regular\
 nGame Status: Complete\nHome Team: Patriots\nAway Team: Seahawks\nHome Sco
 re: 18\nAway Score: 30
END:VEVENT
BEGIN:VEVENT
UID:14400355@ezleagues.ezfacility.com
DTSTAMP:20260420T204119Z
CREATED:20260420T204119Z
DTSTART:20220528T210000Z
DTEND:20220528T220000Z
LOCATION:Turf 2
CONTACT:
SUMMARY:Seahawks VS. Patriots
DESCRIPTION:League Name: Youth Flag Football session 2\nGame Type: Regular\
 nGame Status: Complete\nHome Team: Seahawks\nAway Team: Patriots\nHome Sco
 re: 13\nAway Score: 12
END:VEVENT
BEGIN:VEVENT
UID:14400357@ezleagues.ezfacility.com
DTSTAMP:20260420T204119Z
CREATED:20260420T204119Z
DTSTART:20220604T200000Z
DTEND:20220604T210000Z
LOCATION:Turf 2
CONTACT:
SUMMARY:Seahawks VS. Bills
DESCRIPTION:League Name: Youth Flag Football session 2\nGame Type: Regular\
 nGame Status: Pending\nHome Team: Seahawks\nAway Team: Bills\n
END:VEVENT
END:VCALENDAR
