BEGIN:VCALENDAR
VERSION:2.0
PRODID:-//EZFacility.com, Inc.//EZL 2.5.5.28621
BEGIN:VEVENT
UID:14322440@ezleagues.ezfacility.com
DTSTAMP:20260424T044342Z
CREATED:20260424T044342Z
DTSTART:20220330T224500Z
DTEND:20220330T233000Z
LOCATION:Volleyball Court 2
CONTACT:
SUMMARY:Blue VS. Pink
DESCRIPTION:League Name: Catholic league Rec\nGame Type: Regular\nGame Stat
 us: Complete\nHome Team: Blue\nAway Team: Pink\nHome Score: 3\nAway Score:
  0
END:VEVENT
BEGIN:VEVENT
UID:14322446@ezleagues.ezfacility.com
DTSTAMP:20260424T044342Z
CREATED:20260424T044342Z
DTSTART:20220406T220000Z
DTEND:20220406T224500Z
LOCATION:Volleyball Court 2
CONTACT:
SUMMARY:Blue VS. Purple 
DESCRIPTION:League Name: Catholic league Rec\nGame Type: Regular\nGame Stat
 us: Complete\nHome Team: Blue\nAway Team: Purple \nHome Score: 2\nAway Sco
 re: 0
END:VEVENT
BEGIN:VEVENT
UID:14322458@ezleagues.ezfacility.com
DTSTAMP:20260424T044342Z
CREATED:20260424T044342Z
DTSTART:20220421T010000Z
DTEND:20220421T014500Z
LOCATION:Volleyball Court 2
CONTACT:
SUMMARY:Blue VS. Silver
DESCRIPTION:League Name: Catholic league Rec\nGame Type: Regular\nGame Stat
 us: Complete\nHome Team: Blue\nAway Team: Silver\nHome Score: 2\nAway Scor
 e: 0
END:VEVENT
BEGIN:VEVENT
UID:14322463@ezleagues.ezfacility.com
DTSTAMP:20260424T044342Z
CREATED:20260424T044342Z
DTSTART:20220428T010000Z
DTEND:20220428T014500Z
LOCATION:Volleyball Court 2
CONTACT:
SUMMARY:Navy VS. Blue
DESCRIPTION:League Name: Catholic league Rec\nGame Type: Regular\nGame Stat
 us: Complete\nHome Team: Navy\nAway Team: Blue\nHome Score: 2\nAway Score:
  0
END:VEVENT
BEGIN:VEVENT
UID:14322467@ezleagues.ezfacility.com
DTSTAMP:20260424T044342Z
CREATED:20260424T044342Z
DTSTART:20220505T001500Z
DTEND:20220505T010000Z
LOCATION:Volleyball Court 2
CONTACT:
SUMMARY:Yellow VS. Blue
DESCRIPTION:League Name: Catholic league Rec\nGame Type: Regular\nGame Stat
 us: Complete\nHome Team: Yellow\nAway Team: Blue\nHome Score: 2\nAway Scor
 e: 0
END:VEVENT
BEGIN:VEVENT
UID:14322471@ezleagues.ezfacility.com
DTSTAMP:20260424T044342Z
CREATED:20260424T044342Z
DTSTART:20220511T233000Z
DTEND:20220512T001500Z
LOCATION:Volleyball Court 2
CONTACT:
SUMMARY:Orange VS. Blue
DESCRIPTION:League Name: Catholic league Rec\nGame Type: Regular\nGame Stat
 us: Complete\nHome Team: Orange\nAway Team: Blue\nHome Score: 0\nAway Scor
 e: 2
END:VEVENT
BEGIN:VEVENT
UID:14322500@ezleagues.ezfacility.com
DTSTAMP:20260424T044342Z
CREATED:20260424T044342Z
DTSTART:20220518T233000Z
DTEND:20220519T001500Z
LOCATION:Volleyball Court 2
CONTACT:
SUMMARY:Black VS. Blue
DESCRIPTION:League Name: Catholic league Rec\nGame Type: Regular\nGame Stat
 us: Complete\nHome Team: Black\nAway Team: Blue\nHome Score: 2\nAway Score
 : 1
END:VEVENT
END:VCALENDAR
