BEGIN:VCALENDAR
VERSION:2.0
PRODID:-//EZFacility.com, Inc.//EZL 2.5.5.28621
BEGIN:VEVENT
UID:14324905@ezleagues.ezfacility.com
DTSTAMP:20260420T000122Z
CREATED:20260420T000122Z
DTSTART:20220409T130000Z
DTEND:20220409T134500Z
LOCATION:Bridgeville RollerPlex
CONTACT:
SUMMARY:Vipers NORTH VS. Vipers SOUTH
DESCRIPTION:League Name: z Archive 2022 Vipers WHEELING Division\nGame Type
 : Regular\nGame Status: Rescheduled\nHome Team: Vipers NORTH\nAway Team: V
 ipers SOUTH\n
END:VEVENT
BEGIN:VEVENT
UID:14324908@ezleagues.ezfacility.com
DTSTAMP:20260420T000122Z
CREATED:20260420T000122Z
DTSTART:20220423T130000Z
DTEND:20220423T134500Z
LOCATION:Bridgeville RollerPlex
CONTACT:
SUMMARY:Vipers SOUTH VS. Vipers EAST
DESCRIPTION:League Name: z Archive 2022 Vipers WHEELING Division\nGame Type
 : Regular\nGame Status: Complete\nHome Team: Vipers SOUTH\nAway Team: Vipe
 rs EAST\nHome Score: 11\nAway Score: 5
END:VEVENT
BEGIN:VEVENT
UID:14324910@ezleagues.ezfacility.com
DTSTAMP:20260420T000122Z
CREATED:20260420T000122Z
DTSTART:20220430T140000Z
DTEND:20220430T144500Z
LOCATION:Bridgeville RollerPlex
CONTACT:
SUMMARY:Vipers WEST VS. Vipers SOUTH
DESCRIPTION:League Name: z Archive 2022 Vipers WHEELING Division\nGame Type
 : Regular\nGame Status: Complete\nHome Team: Vipers WEST\nAway Team: Viper
 s SOUTH\nHome Score: 6\nAway Score: 9
END:VEVENT
BEGIN:VEVENT
UID:14324912@ezleagues.ezfacility.com
DTSTAMP:20260420T000122Z
CREATED:20260420T000122Z
DTSTART:20220507T140000Z
DTEND:20220507T144500Z
LOCATION:Bridgeville RollerPlex
CONTACT:
SUMMARY:Vipers SOUTH VS. Vipers NORTH
DESCRIPTION:League Name: z Archive 2022 Vipers WHEELING Division\nGame Type
 : Regular\nGame Status: Complete\nHome Team: Vipers SOUTH\nAway Team: Vipe
 rs NORTH\nHome Score: 3\nAway Score: 7
END:VEVENT
BEGIN:VEVENT
UID:14324913@ezleagues.ezfacility.com
DTSTAMP:20260420T000122Z
CREATED:20260420T000122Z
DTSTART:20220514T140000Z
DTEND:20220514T144500Z
LOCATION:Bridgeville RollerPlex
CONTACT:
SUMMARY:Vipers EAST VS. Vipers SOUTH
DESCRIPTION:League Name: z Archive 2022 Vipers WHEELING Division\nGame Type
 : Regular\nGame Status: Complete\nHome Team: Vipers EAST\nAway Team: Viper
 s SOUTH\nHome Score: 7\nAway Score: 3
END:VEVENT
BEGIN:VEVENT
UID:14324915@ezleagues.ezfacility.com
DTSTAMP:20260420T000122Z
CREATED:20260420T000122Z
DTSTART:20220521T130000Z
DTEND:20220521T134500Z
LOCATION:Bridgeville RollerPlex
CONTACT:
SUMMARY:Vipers SOUTH VS. Vipers WEST
DESCRIPTION:League Name: z Archive 2022 Vipers WHEELING Division\nGame Type
 : Regular\nGame Status: Complete\nHome Team: Vipers SOUTH\nAway Team: Vipe
 rs WEST\nHome Score: 11\nAway Score: 6
END:VEVENT
BEGIN:VEVENT
UID:14399043@ezleagues.ezfacility.com
DTSTAMP:20260420T000122Z
CREATED:20260420T000122Z
DTSTART:20220604T130000Z
DTEND:20220604T134500Z
LOCATION:Bridgeville RollerPlex
CONTACT:
SUMMARY:Vipers NORTH VS. Vipers SOUTH
DESCRIPTION:League Name: z Archive 2022 Vipers WHEELING Division\nGame Type
 : Regular\nGame Status: Complete\nHome Team: Vipers NORTH\nAway Team: Vipe
 rs SOUTH\nHome Score: 4\nAway Score: 7
END:VEVENT
BEGIN:VEVENT
UID:14324918@ezleagues.ezfacility.com
DTSTAMP:20260420T000122Z
CREATED:20260420T000122Z
DTSTART:20220611T140000Z
DTEND:20220611T144500Z
LOCATION:Bridgeville RollerPlex
CONTACT:
SUMMARY:Vipers SOUTH VS. Vipers NORTH
DESCRIPTION:League Name: z Archive 2022 Vipers WHEELING Division\nGame Type
 : Postseason\nGame Status: Complete\nHome Team: Vipers SOUTH\nAway Team: V
 ipers NORTH\nHome Score: 4\nAway Score: 3
END:VEVENT
BEGIN:VEVENT
UID:14324924@ezleagues.ezfacility.com
DTSTAMP:20260420T000122Z
CREATED:20260420T000122Z
DTSTART:20220618T130000Z
DTEND:20220618T134500Z
LOCATION:Bridgeville RollerPlex
CONTACT:
SUMMARY:Vipers EAST VS. Vipers SOUTH
DESCRIPTION:League Name: z Archive 2022 Vipers WHEELING Division\nGame Type
 : Postseason\nGame Status: Complete\nHome Team: Vipers EAST\nAway Team: Vi
 pers SOUTH\nHome Score: 6\nAway Score: 7
END:VEVENT
BEGIN:VEVENT
UID:14324928@ezleagues.ezfacility.com
DTSTAMP:20260420T000122Z
CREATED:20260420T000122Z
DTSTART:20220625T140000Z
DTEND:20220625T144500Z
LOCATION:Bridgeville RollerPlex
CONTACT:
SUMMARY:Vipers WEST VS. Vipers SOUTH
DESCRIPTION:League Name: z Archive 2022 Vipers WHEELING Division\nGame Type
 : Exhibition\nGame Status: Complete\nHome Team: Vipers WEST\nAway Team: Vi
 pers SOUTH\nHome Score: 0\nAway Score: 0
END:VEVENT
END:VCALENDAR
