BEGIN:VCALENDAR
VERSION:2.0
PRODID:-//EZFacility.com, Inc.//EZL 2.5.5.28621
BEGIN:VEVENT
UID:14352133@ezleagues.ezfacility.com
DTSTAMP:20260425T015122Z
CREATED:20260425T015122Z
DTSTART:20220422T011500Z
DTEND:20220422T021500Z
LOCATION:Hockey Rink
CONTACT:Revo\, McDermott
SUMMARY:Knuckle Puck VS. Impeachable Offense
DESCRIPTION:League Name: April 2022 Bronze Inline Hockey\nGame Type: Regula
 r\nGame Status: Complete\nHome Team: Knuckle Puck\nAway Team: Impeachable 
 Offense\nHome Score: 5\nAway Score: 14
END:VEVENT
BEGIN:VEVENT
UID:14352223@ezleagues.ezfacility.com
DTSTAMP:20260425T015122Z
CREATED:20260425T015122Z
DTSTART:20220424T221500Z
DTEND:20220424T231500Z
LOCATION:Hockey Rink
CONTACT:Revo
SUMMARY:Roly Moly VS. Impeachable Offense
DESCRIPTION:League Name: April 2022 Bronze Inline Hockey\nGame Type: Regula
 r\nGame Status: Complete\nHome Team: Roly Moly\nAway Team: Impeachable Off
 ense\nHome Score: 1\nAway Score: 11
END:VEVENT
BEGIN:VEVENT
UID:14352228@ezleagues.ezfacility.com
DTSTAMP:20260425T015122Z
CREATED:20260425T015122Z
DTSTART:20220429T011500Z
DTEND:20220429T021500Z
LOCATION:Hockey Rink
CONTACT:McDermott\, Revo
SUMMARY:Tequila Train VS. Impeachable Offense
DESCRIPTION:League Name: April 2022 Bronze Inline Hockey\nGame Type: Regula
 r\nGame Status: Complete\nHome Team: Tequila Train\nAway Team: Impeachable
  Offense\nHome Score: 2\nAway Score: 10
END:VEVENT
END:VCALENDAR
