BEGIN:VCALENDAR
VERSION:2.0
PRODID:-//EZFacility.com, Inc.//EZL 2.5.5.28621
BEGIN:VEVENT
UID:14355112@ezleagues.ezfacility.com
DTSTAMP:20260422T155116Z
CREATED:20260422T155116Z
DTSTART:20220420T005000Z
DTEND:20220420T014500Z
LOCATION:Field 1
CONTACT:Esquerre
SUMMARY:Caspian VS. Cougar Hunters
DESCRIPTION:League Name: Tuesday April 12, 2022 Men's Over 35\nGame Type: R
 egular\nGame Status: Complete\nHome Team: Caspian\nAway Team: Cougar Hunte
 rs\nHome Score: 12\nAway Score: 4
END:VEVENT
BEGIN:VEVENT
UID:14364649@ezleagues.ezfacility.com
DTSTAMP:20260422T155116Z
CREATED:20260422T155116Z
DTSTART:20220427T010000Z
DTEND:20220427T015500Z
LOCATION:Field 1
CONTACT:Esquerre
SUMMARY:Cougar Hunters VS. DSP Panthers
DESCRIPTION:League Name: Tuesday April 12, 2022 Men's Over 35\nGame Type: R
 egular\nGame Status: Complete\nHome Team: Cougar Hunters\nAway Team: DSP P
 anthers\nHome Score: 6\nAway Score: 1
END:VEVENT
BEGIN:VEVENT
UID:14364654@ezleagues.ezfacility.com
DTSTAMP:20260422T155116Z
CREATED:20260422T155116Z
DTSTART:20220504T000000Z
DTEND:20220504T005500Z
LOCATION:Field 1
CONTACT:Esquerre
SUMMARY:Cougar Hunters VS. Nerf Herders
DESCRIPTION:League Name: Tuesday April 12, 2022 Men's Over 35\nGame Type: R
 egular\nGame Status: Complete\nHome Team: Cougar Hunters\nAway Team: Nerf 
 Herders\nHome Score: 5\nAway Score: 9
END:VEVENT
BEGIN:VEVENT
UID:14364656@ezleagues.ezfacility.com
DTSTAMP:20260422T155116Z
CREATED:20260422T155116Z
DTSTART:20220511T000000Z
DTEND:20220511T005500Z
LOCATION:Field 1
CONTACT:Esquerre
SUMMARY:Old Superstars VS. Cougar Hunters
DESCRIPTION:League Name: Tuesday April 12, 2022 Men's Over 35\nGame Type: R
 egular\nGame Status: Complete\nHome Team: Old Superstars\nAway Team: Couga
 r Hunters\nHome Score: 6\nAway Score: 4
END:VEVENT
BEGIN:VEVENT
UID:14364663@ezleagues.ezfacility.com
DTSTAMP:20260422T155116Z
CREATED:20260422T155116Z
DTSTART:20220518T010000Z
DTEND:20220518T015500Z
LOCATION:VA Army National Guard Field 2
CONTACT:Martinez
SUMMARY:Humo Y Cebada FC VS. Cougar Hunters
DESCRIPTION:League Name: Tuesday April 12, 2022 Men's Over 35\nGame Type: R
 egular\nGame Status: Complete\nHome Team: Humo Y Cebada FC\nAway Team: Cou
 gar Hunters\nHome Score: 12\nAway Score: 5
END:VEVENT
BEGIN:VEVENT
UID:14364664@ezleagues.ezfacility.com
DTSTAMP:20260422T155116Z
CREATED:20260422T155116Z
DTSTART:20220524T230000Z
DTEND:20220524T235500Z
LOCATION:VA Army National Guard Field 2
CONTACT:Martinez
SUMMARY:Longshots VS. Cougar Hunters
DESCRIPTION:League Name: Tuesday April 12, 2022 Men's Over 35\nGame Type: R
 egular\nGame Status: Complete\nHome Team: Longshots\nAway Team: Cougar Hun
 ters\nHome Score: 3\nAway Score: 13
END:VEVENT
BEGIN:VEVENT
UID:14364690@ezleagues.ezfacility.com
DTSTAMP:20260422T155116Z
CREATED:20260422T155116Z
DTSTART:20220601T010000Z
DTEND:20220601T015500Z
LOCATION:VA Army National Guard Field 2
CONTACT:Chea
SUMMARY:Old Superstars VS. Cougar Hunters
DESCRIPTION:League Name: Tuesday April 12, 2022 Men's Over 35\nGame Type: P
 ostseason\nGame Status: Complete\nHome Team: Old Superstars\nAway Team: Co
 ugar Hunters\nHome Score: 10\nAway Score: 6
END:VEVENT
END:VCALENDAR
