BEGIN:VCALENDAR
VERSION:2.0
PRODID:-//EZFacility.com, Inc.//EZL 2.5.5.28621
BEGIN:VEVENT
UID:14360732@ezleagues.ezfacility.com
DTSTAMP:20260422T042514Z
CREATED:20260422T042514Z
DTSTART:20220423T203000Z
DTEND:20220423T223000Z
LOCATION:Baseball Field 4
CONTACT:
SUMMARY:GoWags 2026 VS. MA Show National
DESCRIPTION:League Name: Spring '22 April Classic 14U\nGame Type: Regular\n
 Game Status: Complete\nHome Team: GoWags 2026\nAway Team: MA Show National
 \nHome Score: 4\nAway Score: 9
END:VEVENT
BEGIN:VEVENT
UID:14360734@ezleagues.ezfacility.com
DTSTAMP:20260422T042514Z
CREATED:20260422T042514Z
DTSTART:20220424T003000Z
DTEND:20220424T023000Z
LOCATION:Baseball Field 4
CONTACT:
SUMMARY:Powerballers VS. GoWags 2026
DESCRIPTION:League Name: Spring '22 April Classic 14U\nGame Type: Regular\n
 Game Status: Complete\nHome Team: Powerballers\nAway Team: GoWags 2026\nHo
 me Score: 7\nAway Score: 2
END:VEVENT
BEGIN:VEVENT
UID:14360735@ezleagues.ezfacility.com
DTSTAMP:20260422T042514Z
CREATED:20260422T042514Z
DTSTART:20220424T120000Z
DTEND:20220424T140000Z
LOCATION:Baseball Field 4
CONTACT:
SUMMARY:Stewartstown Young Vets VS. GoWags 2026
DESCRIPTION:League Name: Spring '22 April Classic 14U\nGame Type: Regular\n
 Game Status: Complete\nHome Team: Stewartstown Young Vets\nAway Team: GoWa
 gs 2026\nHome Score: 3\nAway Score: 4
END:VEVENT
END:VCALENDAR
