BEGIN:VCALENDAR
VERSION:2.0
PRODID:-//EZFacility.com, Inc.//EZL 2.5.5.28621
BEGIN:VEVENT
UID:14389026@ezleagues.ezfacility.com
DTSTAMP:20260424T044425Z
CREATED:20260424T044425Z
DTSTART:20220515T163000Z
DTEND:20220515T174500Z
LOCATION:Field A
CONTACT:
SUMMARY:All Luck No Skill VS. Pumas
DESCRIPTION:League Name: Spring Outdoor Coed Open 7v7 Red  - (Sundays)\nGam
 e Type: Regular\nGame Status: Complete\nHome Team: All Luck No Skill\nAway
  Team: Pumas\nHome Score: 7\nAway Score: 5
END:VEVENT
BEGIN:VEVENT
UID:14389030@ezleagues.ezfacility.com
DTSTAMP:20260424T044425Z
CREATED:20260424T044425Z
DTSTART:20220522T180000Z
DTEND:20220522T191500Z
LOCATION:Field D
CONTACT:
SUMMARY:All Luck No Skill VS. Gunners Z
DESCRIPTION:League Name: Spring Outdoor Coed Open 7v7 Red  - (Sundays)\nGam
 e Type: Regular\nGame Status: Complete\nHome Team: All Luck No Skill\nAway
  Team: Gunners Z\nHome Score: 5\nAway Score: 3
END:VEVENT
BEGIN:VEVENT
UID:14389038@ezleagues.ezfacility.com
DTSTAMP:20260424T044425Z
CREATED:20260424T044425Z
DTSTART:20220605T180000Z
DTEND:20220605T191500Z
LOCATION:Field E
CONTACT:
SUMMARY:All Luck No Skill VS. Red Tail Roofing
DESCRIPTION:League Name: Spring Outdoor Coed Open 7v7 Red  - (Sundays)\nGam
 e Type: Regular\nGame Status: Complete\nHome Team: All Luck No Skill\nAway
  Team: Red Tail Roofing\nHome Score: 6\nAway Score: 9
END:VEVENT
BEGIN:VEVENT
UID:14389042@ezleagues.ezfacility.com
DTSTAMP:20260424T044425Z
CREATED:20260424T044425Z
DTSTART:20220612T180000Z
DTEND:20220612T191500Z
LOCATION:Field C
CONTACT:
SUMMARY:Multiple Scorgasm VS. All Luck No Skill
DESCRIPTION:League Name: Spring Outdoor Coed Open 7v7 Red  - (Sundays)\nGam
 e Type: Regular\nGame Status: Complete\nHome Team: Multiple Scorgasm\nAway
  Team: All Luck No Skill\nHome Score: 3\nAway Score: 4
END:VEVENT
BEGIN:VEVENT
UID:14389046@ezleagues.ezfacility.com
DTSTAMP:20260424T044425Z
CREATED:20260424T044425Z
DTSTART:20220619T163000Z
DTEND:20220619T174500Z
LOCATION:Field A
CONTACT:
SUMMARY:Sacks and Racks VS. All Luck No Skill
DESCRIPTION:League Name: Spring Outdoor Coed Open 7v7 Red  - (Sundays)\nGam
 e Type: Regular\nGame Status: Complete\nHome Team: Sacks and Racks\nAway T
 eam: All Luck No Skill\nHome Score: 0\nAway Score: 3
END:VEVENT
BEGIN:VEVENT
UID:14389050@ezleagues.ezfacility.com
DTSTAMP:20260424T044425Z
CREATED:20260424T044425Z
DTSTART:20220626T193000Z
DTEND:20220626T204500Z
LOCATION:Field C
CONTACT:
SUMMARY:Prestige Worldwide FC VS. All Luck No Skill
DESCRIPTION:League Name: Spring Outdoor Coed Open 7v7 Red  - (Sundays)\nGam
 e Type: Regular\nGame Status: Complete\nHome Team: Prestige Worldwide FC\n
 Away Team: All Luck No Skill\nHome Score: 3\nAway Score: 10
END:VEVENT
BEGIN:VEVENT
UID:14389034@ezleagues.ezfacility.com
DTSTAMP:20260424T044425Z
CREATED:20260424T044425Z
DTSTART:20220710T163000Z
DTEND:20220710T174500Z
LOCATION:Field C
CONTACT:
SUMMARY:All Luck No Skill VS. Showtime FC
DESCRIPTION:League Name: Spring Outdoor Coed Open 7v7 Red  - (Sundays)\nGam
 e Type: Regular\nGame Status: Complete\nHome Team: All Luck No Skill\nAway
  Team: Showtime FC\nHome Score: 6\nAway Score: 4
END:VEVENT
BEGIN:VEVENT
UID:14389054@ezleagues.ezfacility.com
DTSTAMP:20260424T044425Z
CREATED:20260424T044425Z
DTSTART:20220717T180000Z
DTEND:20220717T191500Z
LOCATION:Field B
CONTACT:
SUMMARY:Pumas VS. All Luck No Skill
DESCRIPTION:League Name: Spring Outdoor Coed Open 7v7 Red  - (Sundays)\nGam
 e Type: Regular\nGame Status: Rescheduled\nHome Team: Pumas\nAway Team: Al
 l Luck No Skill\n
END:VEVENT
BEGIN:VEVENT
UID:14487770@ezleagues.ezfacility.com
DTSTAMP:20260424T044425Z
CREATED:20260424T044425Z
DTSTART:20220724T163000Z
DTEND:20220724T174500Z
LOCATION:Field A
CONTACT:
SUMMARY:Pumas VS. All Luck No Skill
DESCRIPTION:League Name: Spring Outdoor Coed Open 7v7 Red  - (Sundays)\nGam
 e Type: Regular\nGame Status: Complete\nHome Team: Pumas\nAway Team: All L
 uck No Skill\nHome Score: 7\nAway Score: 8
END:VEVENT
BEGIN:VEVENT
UID:14499645@ezleagues.ezfacility.com
DTSTAMP:20260424T044425Z
CREATED:20260424T044425Z
DTSTART:20220731T150000Z
DTEND:20220731T161500Z
LOCATION:Field B
CONTACT:
SUMMARY:All Luck No Skill VS. Sacks and Racks
DESCRIPTION:League Name: Spring Outdoor Coed Open 7v7 Red  - (Sundays)\nGam
 e Type: Postseason\nGame Status: Complete\nHome Team: All Luck No Skill\nA
 way Team: Sacks and Racks\nHome Score: 3\nAway Score: 2
END:VEVENT
END:VCALENDAR
