BEGIN:VCALENDAR
VERSION:2.0
PRODID:-//EZFacility.com, Inc.//EZL 2.5.5.28621
BEGIN:VEVENT
UID:14405053@ezleagues.ezfacility.com
DTSTAMP:20260426T035048Z
CREATED:20260426T035048Z
DTSTART:20220605T000500Z
DTEND:20220605T005500Z
LOCATION:Field 4 North
CONTACT:
SUMMARY:2013 NOKC SC Storm (  ) VS. SC Thunder (Black)
DESCRIPTION:League Name: Boys U10 - Summer 1\nGame Type: Regular\nGame Stat
 us: Complete\nHome Team: 2013 NOKC SC Storm (  )\nAway Team: SC Thunder (B
 lack)\nHome Score: 6\nAway Score: 7
END:VEVENT
BEGIN:VEVENT
UID:14405058@ezleagues.ezfacility.com
DTSTAMP:20260426T035048Z
CREATED:20260426T035048Z
DTSTART:20220612T000500Z
DTEND:20220612T005500Z
LOCATION:Field 4 North
CONTACT:
SUMMARY:2013 NOKC SC Storm (  ) VS. Wolfpack (  )
DESCRIPTION:League Name: Boys U10 - Summer 1\nGame Type: Regular\nGame Stat
 us: Complete\nHome Team: 2013 NOKC SC Storm (  )\nAway Team: Wolfpack (  )
 \nHome Score: 1\nAway Score: 11
END:VEVENT
BEGIN:VEVENT
UID:14405063@ezleagues.ezfacility.com
DTSTAMP:20260426T035048Z
CREATED:20260426T035048Z
DTSTART:20220621T003000Z
DTEND:20220621T012000Z
LOCATION:Field 4 North
CONTACT:
SUMMARY:Raven Sharks (black) VS. 2013 NOKC SC Storm (  )
DESCRIPTION:League Name: Boys U10 - Summer 1\nGame Type: Regular\nGame Stat
 us: Complete\nHome Team: Raven Sharks (black)\nAway Team: 2013 NOKC SC Sto
 rm (  )\nHome Score: 1\nAway Score: 11
END:VEVENT
BEGIN:VEVENT
UID:14405068@ezleagues.ezfacility.com
DTSTAMP:20260426T035048Z
CREATED:20260426T035048Z
DTSTART:20220625T183500Z
DTEND:20220625T192500Z
LOCATION:Field 4 North
CONTACT:
SUMMARY:The Football Club FC (  ) VS. 2013 NOKC SC Storm (  )
DESCRIPTION:League Name: Boys U10 - Summer 1\nGame Type: Regular\nGame Stat
 us: Complete\nHome Team: The Football Club FC (  )\nAway Team: 2013 NOKC S
 C Storm (  )\nHome Score: 5\nAway Score: 3
END:VEVENT
BEGIN:VEVENT
UID:14405073@ezleagues.ezfacility.com
DTSTAMP:20260426T035048Z
CREATED:20260426T035048Z
DTSTART:20220702T212000Z
DTEND:20220702T221000Z
LOCATION:Field 4 North
CONTACT:
SUMMARY:SC Cyclones (White) VS. 2013 NOKC SC Storm (  )
DESCRIPTION:League Name: Boys U10 - Summer 1\nGame Type: Regular\nGame Stat
 us: Complete\nHome Team: SC Cyclones (White)\nAway Team: 2013 NOKC SC Stor
 m (  )\nHome Score: 3\nAway Score: 11
END:VEVENT
BEGIN:VEVENT
UID:14405078@ezleagues.ezfacility.com
DTSTAMP:20260426T035048Z
CREATED:20260426T035048Z
DTSTART:20220709T183500Z
DTEND:20220709T192500Z
LOCATION:Field 4 North
CONTACT:
SUMMARY:Raven Sharks (black) VS. 2013 NOKC SC Storm (  )
DESCRIPTION:League Name: Boys U10 - Summer 1\nGame Type: Regular\nGame Stat
 us: Complete\nHome Team: Raven Sharks (black)\nAway Team: 2013 NOKC SC Sto
 rm (  )\nHome Score: 2\nAway Score: 12
END:VEVENT
BEGIN:VEVENT
UID:14405048@ezleagues.ezfacility.com
DTSTAMP:20260426T035048Z
CREATED:20260426T035048Z
DTSTART:20220716T221500Z
DTEND:20220716T230500Z
LOCATION:Field 4 North
CONTACT:
SUMMARY:2013 NOKC SC Storm (  ) VS. SC Avalanche (Blue)
DESCRIPTION:League Name: Boys U10 - Summer 1\nGame Type: Regular\nGame Stat
 us: Complete\nHome Team: 2013 NOKC SC Storm (  )\nAway Team: SC Avalanche 
 (Blue)\nHome Score: 10\nAway Score: 1
END:VEVENT
BEGIN:VEVENT
UID:14405043@ezleagues.ezfacility.com
DTSTAMP:20260426T035048Z
CREATED:20260426T035048Z
DTSTART:20220717T212500Z
DTEND:20220717T221500Z
LOCATION:Field 4 North
CONTACT:
SUMMARY:2013 NOKC SC Storm (  ) VS. Harrah Alliance FC (  )
DESCRIPTION:League Name: Boys U10 - Summer 1\nGame Type: Regular\nGame Stat
 us: Complete\nHome Team: 2013 NOKC SC Storm (  )\nAway Team: Harrah Allian
 ce FC (  )\nHome Score: 15\nAway Score: 5
END:VEVENT
END:VCALENDAR
