BEGIN:VCALENDAR
VERSION:2.0
PRODID:-//EZFacility.com, Inc.//EZL 2.5.5.28621
BEGIN:VEVENT
UID:14405045@ezleagues.ezfacility.com
DTSTAMP:20260426T035028Z
CREATED:20260426T035028Z
DTSTART:20220521T202500Z
DTEND:20220521T211500Z
LOCATION:Field 4 North
CONTACT:
SUMMARY:Green Monsters (Green) VS. SC Thunder (Black)
DESCRIPTION:League Name: Boys U10 - Summer 1\nGame Type: Regular\nGame Stat
 us: Complete\nHome Team: Green Monsters (Green)\nAway Team: SC Thunder (Bl
 ack)\nHome Score: 14\nAway Score: 4
END:VEVENT
BEGIN:VEVENT
UID:14405053@ezleagues.ezfacility.com
DTSTAMP:20260426T035028Z
CREATED:20260426T035028Z
DTSTART:20220605T000500Z
DTEND:20220605T005500Z
LOCATION:Field 4 North
CONTACT:
SUMMARY:2013 NOKC SC Storm (  ) VS. SC Thunder (Black)
DESCRIPTION:League Name: Boys U10 - Summer 1\nGame Type: Regular\nGame Stat
 us: Complete\nHome Team: 2013 NOKC SC Storm (  )\nAway Team: SC Thunder (B
 lack)\nHome Score: 6\nAway Score: 7
END:VEVENT
BEGIN:VEVENT
UID:14405059@ezleagues.ezfacility.com
DTSTAMP:20260426T035028Z
CREATED:20260426T035028Z
DTSTART:20220611T183500Z
DTEND:20220611T192500Z
LOCATION:Field 4 North
CONTACT:
SUMMARY:SC Thunder (Black) VS. Young Lions (  )
DESCRIPTION:League Name: Boys U10 - Summer 1\nGame Type: Regular\nGame Stat
 us: Complete\nHome Team: SC Thunder (Black)\nAway Team: Young Lions (  )\n
 Home Score: 14\nAway Score: 6
END:VEVENT
BEGIN:VEVENT
UID:14405065@ezleagues.ezfacility.com
DTSTAMP:20260426T035028Z
CREATED:20260426T035028Z
DTSTART:20220618T183500Z
DTEND:20220618T192500Z
LOCATION:Field 4 North
CONTACT:
SUMMARY:SC Thunder (Black) VS. SC Cyclones (White)
DESCRIPTION:League Name: Boys U10 - Summer 1\nGame Type: Regular\nGame Stat
 us: Complete\nHome Team: SC Thunder (Black)\nAway Team: SC Cyclones (White
 )\nHome Score: 7\nAway Score: 9
END:VEVENT
BEGIN:VEVENT
UID:14405072@ezleagues.ezfacility.com
DTSTAMP:20260426T035028Z
CREATED:20260426T035028Z
DTSTART:20220625T221500Z
DTEND:20220625T230500Z
LOCATION:Field 4 North
CONTACT:
SUMMARY:SC Thunder (Black) VS. Raven Sharks (black)
DESCRIPTION:League Name: Boys U10 - Summer 1\nGame Type: Regular\nGame Stat
 us: Complete\nHome Team: SC Thunder (Black)\nAway Team: Raven Sharks (blac
 k)\nHome Score: 14\nAway Score: 4
END:VEVENT
BEGIN:VEVENT
UID:14405077@ezleagues.ezfacility.com
DTSTAMP:20260426T035028Z
CREATED:20260426T035028Z
DTSTART:20220702T183500Z
DTEND:20220702T192500Z
LOCATION:Field 4 North
CONTACT:
SUMMARY:SC Thunder (Black) VS. SC Avalanche (Blue)
DESCRIPTION:League Name: Boys U10 - Summer 1\nGame Type: Regular\nGame Stat
 us: Complete\nHome Team: SC Thunder (Black)\nAway Team: SC Avalanche (Blue
 )\nHome Score: 12\nAway Score: 3
END:VEVENT
BEGIN:VEVENT
UID:14405049@ezleagues.ezfacility.com
DTSTAMP:20260426T035028Z
CREATED:20260426T035028Z
DTSTART:20220716T202500Z
DTEND:20220716T211500Z
LOCATION:Field 4 North
CONTACT:
SUMMARY:Harrah Alliance FC (  ) VS. SC Thunder (Black)
DESCRIPTION:League Name: Boys U10 - Summer 1\nGame Type: Regular\nGame Stat
 us: Complete\nHome Team: Harrah Alliance FC (  )\nAway Team: SC Thunder (B
 lack)\nHome Score: 8\nAway Score: 7
END:VEVENT
BEGIN:VEVENT
UID:14405082@ezleagues.ezfacility.com
DTSTAMP:20260426T035028Z
CREATED:20260426T035028Z
DTSTART:20220717T194000Z
DTEND:20220717T203000Z
LOCATION:Field 4 North
CONTACT:
SUMMARY:Wolfpack (  ) VS. SC Thunder (Black)
DESCRIPTION:League Name: Boys U10 - Summer 1\nGame Type: Regular\nGame Stat
 us: Complete\nHome Team: Wolfpack (  )\nAway Team: SC Thunder (Black)\nHom
 e Score: 12\nAway Score: 2
END:VEVENT
END:VCALENDAR
