BEGIN:VCALENDAR
VERSION:2.0
PRODID:-//EZFacility.com, Inc.//EZL 2.5.5.28621
BEGIN:VEVENT
UID:14416147@ezleagues.ezfacility.com
DTSTAMP:20260425T195300Z
CREATED:20260425T195300Z
DTSTART:20220603T220000Z
DTEND:20220604T000000Z
LOCATION:Russellton Baseball 1
CONTACT:
SUMMARY:Hardcore Elite Red VS. Canon Mac Blaze
DESCRIPTION:League Name: 14U Steel Town Showdown 2022\nGame Type: Regular\n
 Game Status: Complete\nHome Team: Hardcore Elite Red\nAway Team: Canon Mac
  Blaze\nHome Score: 10\nAway Score: 2
END:VEVENT
BEGIN:VEVENT
UID:14416157@ezleagues.ezfacility.com
DTSTAMP:20260425T195300Z
CREATED:20260425T195300Z
DTSTART:20220604T220000Z
DTEND:20220605T000000Z
LOCATION:Tarentum Field 7
CONTACT:
SUMMARY:McKean Fire Frogs 14U Godel VS. Hardcore Elite Red
DESCRIPTION:League Name: 14U Steel Town Showdown 2022\nGame Type: Regular\n
 Game Status: Complete\nHome Team: McKean Fire Frogs 14U Godel\nAway Team: 
 Hardcore Elite Red\nHome Score: 2\nAway Score: 13
END:VEVENT
BEGIN:VEVENT
UID:14416212@ezleagues.ezfacility.com
DTSTAMP:20260425T195300Z
CREATED:20260425T195300Z
DTSTART:20220605T180000Z
DTEND:20220605T200000Z
LOCATION:Valencia 2
CONTACT:
SUMMARY:Hardcore Elite Red VS. Rawlings Tigers 14u Nelson
DESCRIPTION:League Name: 14U Steel Town Showdown 2022\nGame Type: Postseaso
 n\nGame Status: Complete\nHome Team: Hardcore Elite Red\nAway Team: Rawlin
 gs Tigers 14u Nelson\nHome Score: 8\nAway Score: 0
END:VEVENT
BEGIN:VEVENT
UID:14416213@ezleagues.ezfacility.com
DTSTAMP:20260425T195300Z
CREATED:20260425T195300Z
DTSTART:20220605T200000Z
DTEND:20220605T220000Z
LOCATION:Valencia 2
CONTACT:
SUMMARY:Penn-Trafford Warriors VS. Hardcore Elite Red
DESCRIPTION:League Name: 14U Steel Town Showdown 2022\nGame Type: Postseaso
 n\nGame Status: Complete\nHome Team: Penn-Trafford Warriors\nAway Team: Ha
 rdcore Elite Red\nHome Score: 6\nAway Score: 11
END:VEVENT
END:VCALENDAR
