BEGIN:VCALENDAR
VERSION:2.0
PRODID:-//EZFacility.com, Inc.//EZL 2.5.5.28621
BEGIN:VEVENT
UID:14421409@ezleagues.ezfacility.com
DTSTAMP:20260426T034111Z
CREATED:20260426T034111Z
DTSTART:20220602T000000Z
DTEND:20220602T010000Z
LOCATION:Arena 1
CONTACT:
SUMMARY:Super Express VS. Troy City Joes
DESCRIPTION:League Name: Wednesdays (B+) 05/22\nGame Type: Regular\nGame St
 atus: Complete\nHome Team: Super Express\nAway Team: Troy City Joes\nHome 
 Score: 12\nAway Score: 5
END:VEVENT
BEGIN:VEVENT
UID:14421411@ezleagues.ezfacility.com
DTSTAMP:20260426T034111Z
CREATED:20260426T034111Z
DTSTART:20220602T010000Z
DTEND:20220602T020000Z
LOCATION:Arena 1
CONTACT:
SUMMARY:Pizza Hollywood VS. Super Express
DESCRIPTION:League Name: Wednesdays (B+) 05/22\nGame Type: Regular\nGame St
 atus: Complete\nHome Team: Pizza Hollywood\nAway Team: Super Express\nHome
  Score: 8\nAway Score: 5
END:VEVENT
BEGIN:VEVENT
UID:14421414@ezleagues.ezfacility.com
DTSTAMP:20260426T034111Z
CREATED:20260426T034111Z
DTSTART:20220608T230000Z
DTEND:20220609T000000Z
LOCATION:Arena 1
CONTACT:
SUMMARY:Bastards Inline VS. Super Express
DESCRIPTION:League Name: Wednesdays (B+) 05/22\nGame Type: Regular\nGame St
 atus: Complete\nHome Team: Bastards Inline\nAway Team: Super Express\nHome
  Score: 5\nAway Score: 4
END:VEVENT
BEGIN:VEVENT
UID:14434361@ezleagues.ezfacility.com
DTSTAMP:20260426T034111Z
CREATED:20260426T034111Z
DTSTART:20220616T010000Z
DTEND:20220616T020000Z
LOCATION:Arena 1
CONTACT:
SUMMARY:Dust Collectors VS. Super Express
DESCRIPTION:League Name: Wednesdays (B+) 05/22\nGame Type: Regular\nGame St
 atus: Complete\nHome Team: Dust Collectors\nAway Team: Super Express\nHome
  Score: 7\nAway Score: 6
END:VEVENT
BEGIN:VEVENT
UID:14421433@ezleagues.ezfacility.com
DTSTAMP:20260426T034111Z
CREATED:20260426T034111Z
DTSTART:20220629T230000Z
DTEND:20220630T000000Z
LOCATION:Arena 1
CONTACT:
SUMMARY:Super Express VS. Bastards Inline
DESCRIPTION:League Name: Wednesdays (B+) 05/22\nGame Type: Regular\nGame St
 atus: Complete\nHome Team: Super Express\nAway Team: Bastards Inline\nHome
  Score: 3\nAway Score: 1
END:VEVENT
BEGIN:VEVENT
UID:14421440@ezleagues.ezfacility.com
DTSTAMP:20260426T034111Z
CREATED:20260426T034111Z
DTSTART:20220707T010000Z
DTEND:20220707T020000Z
LOCATION:Arena 1
CONTACT:
SUMMARY:Super Express VS. Pizza Hollywood
DESCRIPTION:League Name: Wednesdays (B+) 05/22\nGame Type: Regular\nGame St
 atus: Complete\nHome Team: Super Express\nAway Team: Pizza Hollywood\nHome
  Score: 4\nAway Score: 5
END:VEVENT
BEGIN:VEVENT
UID:14421444@ezleagues.ezfacility.com
DTSTAMP:20260426T034111Z
CREATED:20260426T034111Z
DTSTART:20220714T010000Z
DTEND:20220714T020000Z
LOCATION:Arena 1
CONTACT:
SUMMARY:Super Express VS. Dust Collectors
DESCRIPTION:League Name: Wednesdays (B+) 05/22\nGame Type: Regular\nGame St
 atus: Complete\nHome Team: Super Express\nAway Team: Dust Collectors\nHome
  Score: 9\nAway Score: 2
END:VEVENT
BEGIN:VEVENT
UID:14421454@ezleagues.ezfacility.com
DTSTAMP:20260426T034111Z
CREATED:20260426T034111Z
DTSTART:20220727T230000Z
DTEND:20220728T000000Z
LOCATION:Arena 1
CONTACT:
SUMMARY:Greasebuckets VS. Super Express
DESCRIPTION:League Name: Wednesdays (B+) 05/22\nGame Type: Regular\nGame St
 atus: Complete\nHome Team: Greasebuckets\nAway Team: Super Express\nHome S
 core: 3\nAway Score: 4
END:VEVENT
BEGIN:VEVENT
UID:14445846@ezleagues.ezfacility.com
DTSTAMP:20260426T034111Z
CREATED:20260426T034111Z
DTSTART:20220804T010000Z
DTEND:20220804T020000Z
LOCATION:Arena 1
CONTACT:
SUMMARY:Troy City Joes VS. Super Express
DESCRIPTION:League Name: Wednesdays (B+) 05/22\nGame Type: Regular\nGame St
 atus: Complete\nHome Team: Troy City Joes\nAway Team: Super Express\nHome 
 Score: 1\nAway Score: 8
END:VEVENT
BEGIN:VEVENT
UID:14445847@ezleagues.ezfacility.com
DTSTAMP:20260426T034111Z
CREATED:20260426T034111Z
DTSTART:20220804T020000Z
DTEND:20220804T030000Z
LOCATION:Arena 1
CONTACT:
SUMMARY:Super Express VS. Whalers
DESCRIPTION:League Name: Wednesdays (B+) 05/22\nGame Type: Regular\nGame St
 atus: Complete\nHome Team: Super Express\nAway Team: Whalers\nHome Score: 
 0\nAway Score: 1
END:VEVENT
BEGIN:VEVENT
UID:14502210@ezleagues.ezfacility.com
DTSTAMP:20260426T034111Z
CREATED:20260426T034111Z
DTSTART:20220811T010000Z
DTEND:20220811T020000Z
LOCATION:Arena 1
CONTACT:
SUMMARY:Pizza Hollywood VS. Super Express
DESCRIPTION:League Name: Wednesdays (B+) 05/22\nGame Type: Postseason\nGame
  Status: Complete\nHome Team: Pizza Hollywood\nAway Team: Super Express\nH
 ome Score: 10\nAway Score: 5
END:VEVENT
END:VCALENDAR
