BEGIN:VCALENDAR
VERSION:2.0
PRODID:-//EZFacility.com, Inc.//EZL 2.5.5.28621
BEGIN:VEVENT
UID:14431513@ezleagues.ezfacility.com
DTSTAMP:20260426T035006Z
CREATED:20260426T035006Z
DTSTART:20220603T233000Z
DTEND:20220604T003000Z
LOCATION:Husson University 
CONTACT:
SUMMARY:Bangor United VS. United Gunners
DESCRIPTION:League Name: 7v7 Men's Outdoor League\nGame Type: Regular\nGame
  Status: Complete\nHome Team: Bangor United\nAway Team: United Gunners\nHo
 me Score: 5\nAway Score: 3
END:VEVENT
BEGIN:VEVENT
UID:14440198@ezleagues.ezfacility.com
DTSTAMP:20260426T035006Z
CREATED:20260426T035006Z
DTSTART:20220610T233000Z
DTEND:20220611T003000Z
LOCATION:Husson University 
CONTACT:
SUMMARY:Bangor United VS. Los Caballeros
DESCRIPTION:League Name: 7v7 Men's Outdoor League\nGame Type: Regular\nGame
  Status: Complete\nHome Team: Bangor United\nAway Team: Los Caballeros\nHo
 me Score: 2\nAway Score: 4
END:VEVENT
BEGIN:VEVENT
UID:14453236@ezleagues.ezfacility.com
DTSTAMP:20260426T035006Z
CREATED:20260426T035006Z
DTSTART:20220617T233000Z
DTEND:20220618T003000Z
LOCATION:Husson University 
CONTACT:
SUMMARY:Bangor United VS. Husson OG
DESCRIPTION:League Name: 7v7 Men's Outdoor League\nGame Type: Regular\nGame
  Status: Complete\nHome Team: Bangor United\nAway Team: Husson OG\nHome Sc
 ore: 6\nAway Score: 9
END:VEVENT
BEGIN:VEVENT
UID:14453241@ezleagues.ezfacility.com
DTSTAMP:20260426T035006Z
CREATED:20260426T035006Z
DTSTART:20220624T233000Z
DTEND:20220625T003000Z
LOCATION:Husson University 
CONTACT:
SUMMARY:Bangor United VS. Brewer FC
DESCRIPTION:League Name: 7v7 Men's Outdoor League\nGame Type: Regular\nGame
  Status: Complete\nHome Team: Bangor United\nAway Team: Brewer FC\nHome Sc
 ore: 4\nAway Score: 1
END:VEVENT
BEGIN:VEVENT
UID:14453252@ezleagues.ezfacility.com
DTSTAMP:20260426T035006Z
CREATED:20260426T035006Z
DTSTART:20220702T000000Z
DTEND:20220702T010000Z
LOCATION:Husson University 
CONTACT:
SUMMARY:Bangor United VS. Eagles FC
DESCRIPTION:League Name: 7v7 Men's Outdoor League\nGame Type: Regular\nGame
  Status: Complete\nHome Team: Bangor United\nAway Team: Eagles FC\nHome Sc
 ore: 8\nAway Score: 4
END:VEVENT
BEGIN:VEVENT
UID:14465733@ezleagues.ezfacility.com
DTSTAMP:20260426T035006Z
CREATED:20260426T035006Z
DTSTART:20220702T010000Z
DTEND:20220702T020000Z
LOCATION:Husson University 
CONTACT:
SUMMARY:Bangor United VS. Hollywood FC
DESCRIPTION:League Name: 7v7 Men's Outdoor League\nGame Type: Regular\nGame
  Status: Complete\nHome Team: Bangor United\nAway Team: Hollywood FC\nHome
  Score: 7\nAway Score: 8
END:VEVENT
BEGIN:VEVENT
UID:14465727@ezleagues.ezfacility.com
DTSTAMP:20260426T035006Z
CREATED:20260426T035006Z
DTSTART:20220708T230000Z
DTEND:20220709T000000Z
LOCATION:Husson University 
CONTACT:
SUMMARY:Bangor United VS. Samsung Sport Banter FC
DESCRIPTION:League Name: 7v7 Men's Outdoor League\nGame Type: Regular\nGame
  Status: Complete\nHome Team: Bangor United\nAway Team: Samsung Sport Bant
 er FC\nHome Score: 0\nAway Score: 4
END:VEVENT
BEGIN:VEVENT
UID:14465740@ezleagues.ezfacility.com
DTSTAMP:20260426T035006Z
CREATED:20260426T035006Z
DTSTART:20220729T230000Z
DTEND:20220730T000000Z
LOCATION:Husson University 
CONTACT:
SUMMARY:Hollywood FC VS. Bangor United
DESCRIPTION:League Name: 7v7 Men's Outdoor League\nGame Type: Regular\nGame
  Status: Pending\nHome Team: Hollywood FC\nAway Team: Bangor United\n
END:VEVENT
END:VCALENDAR
