BEGIN:VCALENDAR
VERSION:2.0
PRODID:-//EZFacility.com, Inc.//EZL 2.5.5.28621
BEGIN:VEVENT
UID:14450162@ezleagues.ezfacility.com
DTSTAMP:20260426T021425Z
CREATED:20260426T021425Z
DTSTART:20220628T020000Z
DTEND:20220628T030000Z
LOCATION:Field 3
CONTACT:Far Side
SUMMARY:cuervos fc VS. Purple Rain
DESCRIPTION:League Name: Coed Soccer - Summer 2022\nGame Type: Regular\nGam
 e Status: Complete\nHome Team: cuervos fc\nAway Team: Purple Rain\nHome Sc
 ore: 5\nAway Score: 2
END:VEVENT
BEGIN:VEVENT
UID:14450172@ezleagues.ezfacility.com
DTSTAMP:20260426T021425Z
CREATED:20260426T021425Z
DTSTART:20220712T020000Z
DTEND:20220712T030000Z
LOCATION:Field 3
CONTACT:Far Side
SUMMARY:B Y O B VS. Purple Rain
DESCRIPTION:League Name: Coed Soccer - Summer 2022\nGame Type: Regular\nGam
 e Status: Complete\nHome Team: B Y O B\nAway Team: Purple Rain\nHome Score
 : 1\nAway Score: 0
END:VEVENT
BEGIN:VEVENT
UID:14450179@ezleagues.ezfacility.com
DTSTAMP:20260426T021425Z
CREATED:20260426T021425Z
DTSTART:20220719T030000Z
DTEND:20220719T040000Z
LOCATION:Field 3
CONTACT:Far Side
SUMMARY:Purple Rain VS. Wolfpack
DESCRIPTION:League Name: Coed Soccer - Summer 2022\nGame Type: Regular\nGam
 e Status: Complete\nHome Team: Purple Rain\nAway Team: Wolfpack\nHome Scor
 e: 4\nAway Score: 1
END:VEVENT
BEGIN:VEVENT
UID:14450186@ezleagues.ezfacility.com
DTSTAMP:20260426T021425Z
CREATED:20260426T021425Z
DTSTART:20220726T020000Z
DTEND:20220726T030000Z
LOCATION:Field 3
CONTACT:Far Side
SUMMARY:Purple Rain VS. Pink Panthers
DESCRIPTION:League Name: Coed Soccer - Summer 2022\nGame Type: Regular\nGam
 e Status: Complete\nHome Team: Purple Rain\nAway Team: Pink Panthers\nHome
  Score: 9\nAway Score: 0
END:VEVENT
BEGIN:VEVENT
UID:14450193@ezleagues.ezfacility.com
DTSTAMP:20260426T021425Z
CREATED:20260426T021425Z
DTSTART:20220802T030000Z
DTEND:20220802T040000Z
LOCATION:Field 3
CONTACT:
SUMMARY:Purple Rain VS. Los Guerreros
DESCRIPTION:League Name: Coed Soccer - Summer 2022\nGame Type: Regular\nGam
 e Status: Complete\nHome Team: Purple Rain\nAway Team: Los Guerreros\nHome
  Score: 2\nAway Score: 3
END:VEVENT
BEGIN:VEVENT
UID:14450200@ezleagues.ezfacility.com
DTSTAMP:20260426T021425Z
CREATED:20260426T021425Z
DTSTART:20220809T040000Z
DTEND:20220809T050000Z
LOCATION:Field 3
CONTACT:Far Side
SUMMARY:Purple Rain VS. Fuego FC
DESCRIPTION:League Name: Coed Soccer - Summer 2022\nGame Type: Regular\nGam
 e Status: Complete\nHome Team: Purple Rain\nAway Team: Fuego FC\nHome Scor
 e: 2\nAway Score: 3
END:VEVENT
BEGIN:VEVENT
UID:14453222@ezleagues.ezfacility.com
DTSTAMP:20260426T021425Z
CREATED:20260426T021425Z
DTSTART:20220816T030000Z
DTEND:20220816T040000Z
LOCATION:Field 3
CONTACT:
SUMMARY:Purple Rain VS. Deportivo Venta
DESCRIPTION:League Name: Coed Soccer - Summer 2022\nGame Type: Regular\nGam
 e Status: Complete\nHome Team: Purple Rain\nAway Team: Deportivo Venta\nHo
 me Score: 7\nAway Score: 1
END:VEVENT
BEGIN:VEVENT
UID:14450213@ezleagues.ezfacility.com
DTSTAMP:20260426T021425Z
CREATED:20260426T021425Z
DTSTART:20220823T040000Z
DTEND:20220823T050000Z
LOCATION:Field 3
CONTACT:Far Side
SUMMARY:The Krew VS. Purple Rain
DESCRIPTION:League Name: Coed Soccer - Summer 2022\nGame Type: Regular\nGam
 e Status: Complete\nHome Team: The Krew\nAway Team: Purple Rain\nHome Scor
 e: 5\nAway Score: 2
END:VEVENT
BEGIN:VEVENT
UID:14450167@ezleagues.ezfacility.com
DTSTAMP:20260426T021425Z
CREATED:20260426T021425Z
DTSTART:20220830T030000Z
DTEND:20220830T040000Z
LOCATION:Field 3
CONTACT:Far Side
SUMMARY:Mean Machines VS. Purple Rain
DESCRIPTION:League Name: Coed Soccer - Summer 2022\nGame Type: Regular\nGam
 e Status: Complete\nHome Team: Mean Machines\nAway Team: Purple Rain\nHome
  Score: 1\nAway Score: 3
END:VEVENT
BEGIN:VEVENT
UID:14466723@ezleagues.ezfacility.com
DTSTAMP:20260426T021425Z
CREATED:20260426T021425Z
DTSTART:20220913T040000Z
DTEND:20220913T050000Z
LOCATION:Field 3
CONTACT:Far Side
SUMMARY:Purple Rain VS. Scoregasms FC
DESCRIPTION:League Name: Coed Soccer - Summer 2022\nGame Type: Regular\nGam
 e Status: Complete\nHome Team: Purple Rain\nAway Team: Scoregasms FC\nHome
  Score: 6\nAway Score: 3
END:VEVENT
BEGIN:VEVENT
UID:14568848@ezleagues.ezfacility.com
DTSTAMP:20260426T021425Z
CREATED:20260426T021425Z
DTSTART:20220920T020000Z
DTEND:20220920T030000Z
LOCATION:Field 3
CONTACT:Far Side
SUMMARY:Fuego FC VS. Purple Rain
DESCRIPTION:League Name: Coed Soccer - Summer 2022\nGame Type: Postseason\n
 Game Status: Complete\nHome Team: Fuego FC\nAway Team: Purple Rain\nHome S
 core: 5\nAway Score: 1
END:VEVENT
END:VCALENDAR
