BEGIN:VCALENDAR
VERSION:2.0
PRODID:-//EZFacility.com, Inc.//EZL 2.5.5.28621
BEGIN:VEVENT
UID:14450159@ezleagues.ezfacility.com
DTSTAMP:20260426T035028Z
CREATED:20260426T035028Z
DTSTART:20220621T040000Z
DTEND:20220621T050000Z
LOCATION:Field 3
CONTACT:Far Side
SUMMARY:Scoregasms FC VS. Wolfpack
DESCRIPTION:League Name: Coed Soccer - Summer 2022\nGame Type: Regular\nGam
 e Status: Complete\nHome Team: Scoregasms FC\nAway Team: Wolfpack\nHome Sc
 ore: 0\nAway Score: 7
END:VEVENT
BEGIN:VEVENT
UID:14450174@ezleagues.ezfacility.com
DTSTAMP:20260426T035028Z
CREATED:20260426T035028Z
DTSTART:20220712T040000Z
DTEND:20220712T050000Z
LOCATION:Field 3
CONTACT:
SUMMARY:Mean Machines VS. Wolfpack
DESCRIPTION:League Name: Coed Soccer - Summer 2022\nGame Type: Regular\nGam
 e Status: Complete\nHome Team: Mean Machines\nAway Team: Wolfpack\nHome Sc
 ore: 1\nAway Score: 1
END:VEVENT
BEGIN:VEVENT
UID:14450179@ezleagues.ezfacility.com
DTSTAMP:20260426T035028Z
CREATED:20260426T035028Z
DTSTART:20220719T030000Z
DTEND:20220719T040000Z
LOCATION:Field 3
CONTACT:Far Side
SUMMARY:Purple Rain VS. Wolfpack
DESCRIPTION:League Name: Coed Soccer - Summer 2022\nGame Type: Regular\nGam
 e Status: Complete\nHome Team: Purple Rain\nAway Team: Wolfpack\nHome Scor
 e: 4\nAway Score: 1
END:VEVENT
BEGIN:VEVENT
UID:14450184@ezleagues.ezfacility.com
DTSTAMP:20260426T035028Z
CREATED:20260426T035028Z
DTSTART:20220726T030000Z
DTEND:20220726T040000Z
LOCATION:Field 3
CONTACT:
SUMMARY:Wolfpack VS. B Y O B
DESCRIPTION:League Name: Coed Soccer - Summer 2022\nGame Type: Regular\nGam
 e Status: Complete\nHome Team: Wolfpack\nAway Team: B Y O B\nHome Score: 0
 \nAway Score: 2
END:VEVENT
BEGIN:VEVENT
UID:14450191@ezleagues.ezfacility.com
DTSTAMP:20260426T035028Z
CREATED:20260426T035028Z
DTSTART:20220802T020000Z
DTEND:20220802T030000Z
LOCATION:Field 3
CONTACT:Far Side
SUMMARY:Wolfpack VS. Pink Panthers
DESCRIPTION:League Name: Coed Soccer - Summer 2022\nGame Type: Regular\nGam
 e Status: Complete\nHome Team: Wolfpack\nAway Team: Pink Panthers\nHome Sc
 ore: 5\nAway Score: 0
END:VEVENT
BEGIN:VEVENT
UID:14450198@ezleagues.ezfacility.com
DTSTAMP:20260426T035028Z
CREATED:20260426T035028Z
DTSTART:20220809T030000Z
DTEND:20220809T040000Z
LOCATION:Field 3
CONTACT:
SUMMARY:Wolfpack VS. Los Guerreros
DESCRIPTION:League Name: Coed Soccer - Summer 2022\nGame Type: Regular\nGam
 e Status: Complete\nHome Team: Wolfpack\nAway Team: Los Guerreros\nHome Sc
 ore: 3\nAway Score: 7
END:VEVENT
BEGIN:VEVENT
UID:14450205@ezleagues.ezfacility.com
DTSTAMP:20260426T035028Z
CREATED:20260426T035028Z
DTSTART:20220816T040000Z
DTEND:20220816T050000Z
LOCATION:Field 3
CONTACT:Far Side
SUMMARY:Wolfpack VS. Fuego FC
DESCRIPTION:League Name: Coed Soccer - Summer 2022\nGame Type: Regular\nGam
 e Status: Complete\nHome Team: Wolfpack\nAway Team: Fuego FC\nHome Score: 
 0\nAway Score: 5
END:VEVENT
BEGIN:VEVENT
UID:14453223@ezleagues.ezfacility.com
DTSTAMP:20260426T035028Z
CREATED:20260426T035028Z
DTSTART:20220823T040000Z
DTEND:20220823T050000Z
LOCATION:Field 3
CONTACT:
SUMMARY:Deportivo Venta VS. Wolfpack
DESCRIPTION:League Name: Coed Soccer - Summer 2022\nGame Type: Regular\nGam
 e Status: Complete\nHome Team: Deportivo Venta\nAway Team: Wolfpack\nHome 
 Score: 2\nAway Score: 6
END:VEVENT
BEGIN:VEVENT
UID:14450169@ezleagues.ezfacility.com
DTSTAMP:20260426T035028Z
CREATED:20260426T035028Z
DTSTART:20220830T040000Z
DTEND:20220830T050000Z
LOCATION:Field 3
CONTACT:Far Side
SUMMARY:cuervos fc VS. Wolfpack
DESCRIPTION:League Name: Coed Soccer - Summer 2022\nGame Type: Regular\nGam
 e Status: Complete\nHome Team: cuervos fc\nAway Team: Wolfpack\nHome Score
 : 3\nAway Score: 4
END:VEVENT
BEGIN:VEVENT
UID:14466720@ezleagues.ezfacility.com
DTSTAMP:20260426T035028Z
CREATED:20260426T035028Z
DTSTART:20220913T040000Z
DTEND:20220913T050000Z
LOCATION:Field 3
CONTACT:
SUMMARY:Wolfpack VS. The Krew
DESCRIPTION:League Name: Coed Soccer - Summer 2022\nGame Type: Regular\nGam
 e Status: Complete\nHome Team: Wolfpack\nAway Team: The Krew\nHome Score: 
 5\nAway Score: 5
END:VEVENT
BEGIN:VEVENT
UID:14568850@ezleagues.ezfacility.com
DTSTAMP:20260426T035028Z
CREATED:20260426T035028Z
DTSTART:20220920T030000Z
DTEND:20220920T040000Z
LOCATION:Field 3
CONTACT:Far Side
SUMMARY:The Krew VS. Wolfpack
DESCRIPTION:League Name: Coed Soccer - Summer 2022\nGame Type: Postseason\n
 Game Status: Complete\nHome Team: The Krew\nAway Team: Wolfpack\nHome Scor
 e: 11\nAway Score: 1
END:VEVENT
END:VCALENDAR
