BEGIN:VCALENDAR
VERSION:2.0
PRODID:-//EZFacility.com, Inc.//EZL 2.5.5.28621
BEGIN:VEVENT
UID:14468285@ezleagues.ezfacility.com
DTSTAMP:20260426T035029Z
CREATED:20260426T035029Z
DTSTART:20220621T180000Z
DTEND:20220621T184500Z
LOCATION:5 Neville Southall
CONTACT:
SUMMARY:r/Cardiff FC VS. Ceri and the Pacemakers
DESCRIPTION:League Name: Tuesday League Division 2\nGame Type: Regular\nGam
 e Status: Complete\nHome Team: r/Cardiff FC\nAway Team: Ceri and the Pacem
 akers\nHome Score: 3\nAway Score: 5
END:VEVENT
BEGIN:VEVENT
UID:14468288@ezleagues.ezfacility.com
DTSTAMP:20260426T035029Z
CREATED:20260426T035029Z
DTSTART:20220628T193000Z
DTEND:20220628T201500Z
LOCATION:6 Joey Jones
CONTACT:
SUMMARY:r/Cardiff FC VS. Bayern Maiden
DESCRIPTION:League Name: Tuesday League Division 2\nGame Type: Regular\nGam
 e Status: Complete\nHome Team: r/Cardiff FC\nAway Team: Bayern Maiden\nHom
 e Score: 4\nAway Score: 7
END:VEVENT
BEGIN:VEVENT
UID:14468291@ezleagues.ezfacility.com
DTSTAMP:20260426T035029Z
CREATED:20260426T035029Z
DTSTART:20220705T184500Z
DTEND:20220705T193000Z
LOCATION:3 Ian Rush
CONTACT:
SUMMARY:Pique Blinders VS. r/Cardiff FC
DESCRIPTION:League Name: Tuesday League Division 2\nGame Type: Regular\nGam
 e Status: Complete\nHome Team: Pique Blinders\nAway Team: r/Cardiff FC\nHo
 me Score: 7\nAway Score: 6
END:VEVENT
BEGIN:VEVENT
UID:14468296@ezleagues.ezfacility.com
DTSTAMP:20260426T035029Z
CREATED:20260426T035029Z
DTSTART:20220712T201500Z
DTEND:20220712T210000Z
LOCATION:4 Mark Hughes
CONTACT:
SUMMARY:Out On Bale VS. r/Cardiff FC
DESCRIPTION:League Name: Tuesday League Division 2\nGame Type: Regular\nGam
 e Status: Complete\nHome Team: Out On Bale\nAway Team: r/Cardiff FC\nHome 
 Score: 4\nAway Score: 4
END:VEVENT
BEGIN:VEVENT
UID:14468301@ezleagues.ezfacility.com
DTSTAMP:20260426T035029Z
CREATED:20260426T035029Z
DTSTART:20220719T193000Z
DTEND:20220719T201500Z
LOCATION:6 Joey Jones
CONTACT:
SUMMARY:3lygs VS. r/Cardiff FC
DESCRIPTION:League Name: Tuesday League Division 2\nGame Type: Regular\nGam
 e Status: Complete\nHome Team: 3lygs\nAway Team: r/Cardiff FC\nHome Score:
  4\nAway Score: 3
END:VEVENT
BEGIN:VEVENT
UID:14468306@ezleagues.ezfacility.com
DTSTAMP:20260426T035029Z
CREATED:20260426T035029Z
DTSTART:20220726T193000Z
DTEND:20220726T201500Z
LOCATION:3 Ian Rush
CONTACT:
SUMMARY:Sporting Beergut  VS. r/Cardiff FC
DESCRIPTION:League Name: Tuesday League Division 2\nGame Type: Regular\nGam
 e Status: Complete\nHome Team: Sporting Beergut \nAway Team: r/Cardiff FC\
 nHome Score: 5\nAway Score: 4
END:VEVENT
BEGIN:VEVENT
UID:14468310@ezleagues.ezfacility.com
DTSTAMP:20260426T035029Z
CREATED:20260426T035029Z
DTSTART:20220802T193000Z
DTEND:20220802T201500Z
LOCATION:3 Ian Rush
CONTACT:
SUMMARY:r/Cardiff FC VS. Gangsters Allardyce
DESCRIPTION:League Name: Tuesday League Division 2\nGame Type: Regular\nGam
 e Status: Complete\nHome Team: r/Cardiff FC\nAway Team: Gangsters Allardyc
 e\nHome Score: 3\nAway Score: 11
END:VEVENT
BEGIN:VEVENT
UID:14468313@ezleagues.ezfacility.com
DTSTAMP:20260426T035029Z
CREATED:20260426T035029Z
DTSTART:20220809T184500Z
DTEND:20220809T193000Z
LOCATION:3 Ian Rush
CONTACT:
SUMMARY:Ceri and the Pacemakers VS. r/Cardiff FC
DESCRIPTION:League Name: Tuesday League Division 2\nGame Type: Regular\nGam
 e Status: Complete\nHome Team: Ceri and the Pacemakers\nAway Team: r/Cardi
 ff FC\nHome Score: 6\nAway Score: 11
END:VEVENT
BEGIN:VEVENT
UID:14468316@ezleagues.ezfacility.com
DTSTAMP:20260426T035029Z
CREATED:20260426T035029Z
DTSTART:20220816T180000Z
DTEND:20220816T184500Z
LOCATION:5 Neville Southall
CONTACT:
SUMMARY:Bayern Maiden VS. r/Cardiff FC
DESCRIPTION:League Name: Tuesday League Division 2\nGame Type: Regular\nGam
 e Status: Complete\nHome Team: Bayern Maiden\nAway Team: r/Cardiff FC\nHom
 e Score: 3\nAway Score: 1
END:VEVENT
BEGIN:VEVENT
UID:14468319@ezleagues.ezfacility.com
DTSTAMP:20260426T035029Z
CREATED:20260426T035029Z
DTSTART:20220823T184500Z
DTEND:20220823T193000Z
LOCATION:3 Ian Rush
CONTACT:
SUMMARY:r/Cardiff FC VS. Pique Blinders
DESCRIPTION:League Name: Tuesday League Division 2\nGame Type: Regular\nGam
 e Status: Complete\nHome Team: r/Cardiff FC\nAway Team: Pique Blinders\nHo
 me Score: 8\nAway Score: 2
END:VEVENT
BEGIN:VEVENT
UID:14468324@ezleagues.ezfacility.com
DTSTAMP:20260426T035029Z
CREATED:20260426T035029Z
DTSTART:20220830T171500Z
DTEND:20220830T180000Z
LOCATION:3 Ian Rush
CONTACT:
SUMMARY:r/Cardiff FC VS. Out On Bale
DESCRIPTION:League Name: Tuesday League Division 2\nGame Type: Regular\nGam
 e Status: Complete\nHome Team: r/Cardiff FC\nAway Team: Out On Bale\nHome 
 Score: 2\nAway Score: 5
END:VEVENT
BEGIN:VEVENT
UID:14468329@ezleagues.ezfacility.com
DTSTAMP:20260426T035029Z
CREATED:20260426T035029Z
DTSTART:20220906T193000Z
DTEND:20220906T201500Z
LOCATION:6 Joey Jones
CONTACT:
SUMMARY:r/Cardiff FC VS. 3lygs
DESCRIPTION:League Name: Tuesday League Division 2\nGame Type: Regular\nGam
 e Status: Complete\nHome Team: r/Cardiff FC\nAway Team: 3lygs\nHome Score:
  4\nAway Score: 11
END:VEVENT
BEGIN:VEVENT
UID:14468334@ezleagues.ezfacility.com
DTSTAMP:20260426T035029Z
CREATED:20260426T035029Z
DTSTART:20220913T193000Z
DTEND:20220913T201500Z
LOCATION:3 Ian Rush
CONTACT:
SUMMARY:r/Cardiff FC VS. Sporting Beergut 
DESCRIPTION:League Name: Tuesday League Division 2\nGame Type: Regular\nGam
 e Status: Complete\nHome Team: r/Cardiff FC\nAway Team: Sporting Beergut \
 nHome Score: 1\nAway Score: 8
END:VEVENT
BEGIN:VEVENT
UID:14468338@ezleagues.ezfacility.com
DTSTAMP:20260426T035029Z
CREATED:20260426T035029Z
DTSTART:20220920T184500Z
DTEND:20220920T193000Z
LOCATION:3 Ian Rush
CONTACT:
SUMMARY:Gangsters Allardyce VS. r/Cardiff FC
DESCRIPTION:League Name: Tuesday League Division 2\nGame Type: Regular\nGam
 e Status: Complete\nHome Team: Gangsters Allardyce\nAway Team: r/Cardiff F
 C\nHome Score: 4\nAway Score: 1
END:VEVENT
END:VCALENDAR
