BEGIN:VCALENDAR
VERSION:2.0
PRODID:-//EZFacility.com, Inc.//EZL 2.5.5.28621
BEGIN:VEVENT
UID:14651626@ezleagues.ezfacility.com
DTSTAMP:20260425T143851Z
CREATED:20260425T143851Z
DTSTART:20221027T020000Z
DTEND:20221027T030000Z
LOCATION:Harmans Premier Field #5
CONTACT:
SUMMARY:Gunners VS. Naptown
DESCRIPTION:League Name: Wed Coed Open 3rd div\nGame Type: Regular\nGame St
 atus: Complete\nHome Team: Gunners\nAway Team: Naptown\nHome Score: 1\nAwa
 y Score: 3
END:VEVENT
BEGIN:VEVENT
UID:14651633@ezleagues.ezfacility.com
DTSTAMP:20260425T143851Z
CREATED:20260425T143851Z
DTSTART:20221103T021000Z
DTEND:20221103T030000Z
LOCATION:Harmans Premier Field #4
CONTACT:
SUMMARY:Charlotte FC VS. Gunners
DESCRIPTION:League Name: Wed Coed Open 3rd div\nGame Type: Regular\nGame St
 atus: Complete\nHome Team: Charlotte FC\nAway Team: Gunners\nHome Score: 5
 \nAway Score: 4
END:VEVENT
BEGIN:VEVENT
UID:14651640@ezleagues.ezfacility.com
DTSTAMP:20260425T143851Z
CREATED:20260425T143851Z
DTSTART:20221110T030000Z
DTEND:20221110T040000Z
LOCATION:Harmans Premier Field #5
CONTACT:
SUMMARY:Gunners VS. MMB FC
DESCRIPTION:League Name: Wed Coed Open 3rd div\nGame Type: Regular\nGame St
 atus: Complete\nHome Team: Gunners\nAway Team: MMB FC\nHome Score: 11\nAwa
 y Score: 4
END:VEVENT
BEGIN:VEVENT
UID:14651647@ezleagues.ezfacility.com
DTSTAMP:20260425T143851Z
CREATED:20260425T143851Z
DTSTART:20221117T030000Z
DTEND:20221117T040000Z
LOCATION:Harmans Premier Field #5
CONTACT:
SUMMARY:Gunners VS. El Equipo FC
DESCRIPTION:League Name: Wed Coed Open 3rd div\nGame Type: Regular\nGame St
 atus: Complete\nHome Team: Gunners\nAway Team: El Equipo FC\nHome Score: 1
 6\nAway Score: 7
END:VEVENT
BEGIN:VEVENT
UID:14651661@ezleagues.ezfacility.com
DTSTAMP:20260425T143851Z
CREATED:20260425T143851Z
DTSTART:20221201T022000Z
DTEND:20221201T031000Z
LOCATION:Harmans Premier Field #4
CONTACT:
SUMMARY:Naptown VS. Gunners
DESCRIPTION:League Name: Wed Coed Open 3rd div\nGame Type: Regular\nGame St
 atus: Complete\nHome Team: Naptown\nAway Team: Gunners\nHome Score: 1\nAwa
 y Score: 0
END:VEVENT
BEGIN:VEVENT
UID:14651668@ezleagues.ezfacility.com
DTSTAMP:20260425T143851Z
CREATED:20260425T143851Z
DTSTART:20221208T031000Z
DTEND:20221208T040000Z
LOCATION:Harmans Premier Field #4
CONTACT:
SUMMARY:Gunners VS. Charlotte FC
DESCRIPTION:League Name: Wed Coed Open 3rd div\nGame Type: Regular\nGame St
 atus: Complete\nHome Team: Gunners\nAway Team: Charlotte FC\nHome Score: 2
 \nAway Score: 2
END:VEVENT
BEGIN:VEVENT
UID:14651654@ezleagues.ezfacility.com
DTSTAMP:20260425T143851Z
CREATED:20260425T143851Z
DTSTART:20221215T022000Z
DTEND:20221215T031000Z
LOCATION:Harmans Premier Field #4
CONTACT:
SUMMARY:Elite FC VS. Gunners
DESCRIPTION:League Name: Wed Coed Open 3rd div\nGame Type: Regular\nGame St
 atus: Complete\nHome Team: Elite FC\nAway Team: Gunners\nHome Score: 4\nAw
 ay Score: 9
END:VEVENT
BEGIN:VEVENT
UID:14796827@ezleagues.ezfacility.com
DTSTAMP:20260425T143851Z
CREATED:20260425T143851Z
DTSTART:20221222T031000Z
DTEND:20221222T040000Z
LOCATION:Harmans Premier Field #4
CONTACT:
SUMMARY:Charlotte FC VS. Gunners
DESCRIPTION:League Name: Wed Coed Open 3rd div\nGame Type: Regular\nGame St
 atus: Complete\nHome Team: Charlotte FC\nAway Team: Gunners\nHome Score: 4
 \nAway Score: 5
END:VEVENT
BEGIN:VEVENT
UID:14805262@ezleagues.ezfacility.com
DTSTAMP:20260425T143851Z
CREATED:20260425T143851Z
DTSTART:20230105T013000Z
DTEND:20230105T022000Z
LOCATION:Harmans Premier Field #4
CONTACT:
SUMMARY:Naptown VS. Gunners
DESCRIPTION:League Name: Wed Coed Open 3rd div\nGame Type: Regular\nGame St
 atus: Complete\nHome Team: Naptown\nAway Team: Gunners\nHome Score: 2\nAwa
 y Score: 4
END:VEVENT
END:VCALENDAR
