BEGIN:VCALENDAR
VERSION:2.0
PRODID:-//EZFacility.com, Inc.//EZL 2.5.5.28621
BEGIN:VEVENT
UID:15152030@ezleagues.ezfacility.com
DTSTAMP:20260420T082942Z
CREATED:20260420T082942Z
DTSTART:20230720T020000Z
DTEND:20230720T030000Z
LOCATION:Harmans Premier Field #5
CONTACT:
SUMMARY:Gonna Get Messi VS. It's About to Get Messi
DESCRIPTION:League Name: Wed Coed Open 4th div \nGame Type: Regular\nGame S
 tatus: Complete\nHome Team: Gonna Get Messi\nAway Team: It's About to Get 
 Messi\nHome Score: 4\nAway Score: 4
END:VEVENT
BEGIN:VEVENT
UID:15152037@ezleagues.ezfacility.com
DTSTAMP:20260420T082942Z
CREATED:20260420T082942Z
DTSTART:20230727T012000Z
DTEND:20230727T022000Z
LOCATION:Harmans Premier Field #4
CONTACT:
SUMMARY:Gonna Get Messi VS. El Equipo FC
DESCRIPTION:League Name: Wed Coed Open 4th div \nGame Type: Regular\nGame S
 tatus: Complete\nHome Team: Gonna Get Messi\nAway Team: El Equipo FC\nHome
  Score: 4\nAway Score: 5
END:VEVENT
BEGIN:VEVENT
UID:15152047@ezleagues.ezfacility.com
DTSTAMP:20260420T082942Z
CREATED:20260420T082942Z
DTSTART:20230803T000000Z
DTEND:20230803T010000Z
LOCATION:Harmans Premier Field #5
CONTACT:
SUMMARY:Elite FC VS. Gonna Get Messi
DESCRIPTION:League Name: Wed Coed Open 4th div \nGame Type: Regular\nGame S
 tatus: Complete\nHome Team: Elite FC\nAway Team: Gonna Get Messi\nHome Sco
 re: 8\nAway Score: 5
END:VEVENT
BEGIN:VEVENT
UID:15152057@ezleagues.ezfacility.com
DTSTAMP:20260420T082942Z
CREATED:20260420T082942Z
DTSTART:20230809T230000Z
DTEND:20230810T000000Z
LOCATION:Harmans Premier Field #5
CONTACT:
SUMMARY:Gonna Get Messi VS. Gunfighters
DESCRIPTION:League Name: Wed Coed Open 4th div \nGame Type: Regular\nGame S
 tatus: Complete\nHome Team: Gonna Get Messi\nAway Team: Gunfighters\nHome 
 Score: 5\nAway Score: 7
END:VEVENT
BEGIN:VEVENT
UID:15152066@ezleagues.ezfacility.com
DTSTAMP:20260420T082942Z
CREATED:20260420T082942Z
DTSTART:20230816T230000Z
DTEND:20230817T000000Z
LOCATION:Harmans Premier Field #5
CONTACT:
SUMMARY:Gonna Get Messi VS. Monkey Business
DESCRIPTION:League Name: Wed Coed Open 4th div \nGame Type: Regular\nGame S
 tatus: Complete\nHome Team: Gonna Get Messi\nAway Team: Monkey Business\nH
 ome Score: 3\nAway Score: 0
END:VEVENT
BEGIN:VEVENT
UID:15152075@ezleagues.ezfacility.com
DTSTAMP:20260420T082942Z
CREATED:20260420T082942Z
DTSTART:20230823T230000Z
DTEND:20230824T000000Z
LOCATION:Harmans Premier Field #5
CONTACT:
SUMMARY:It's About to Get Messi VS. Gonna Get Messi
DESCRIPTION:League Name: Wed Coed Open 4th div \nGame Type: Regular\nGame S
 tatus: Complete\nHome Team: It's About to Get Messi\nAway Team: Gonna Get 
 Messi\nHome Score: 3\nAway Score: 8
END:VEVENT
BEGIN:VEVENT
UID:15152082@ezleagues.ezfacility.com
DTSTAMP:20260420T082942Z
CREATED:20260420T082942Z
DTSTART:20230831T030000Z
DTEND:20230831T040000Z
LOCATION:Harmans Premier Field #4
CONTACT:
SUMMARY:El Equipo FC VS. Gonna Get Messi
DESCRIPTION:League Name: Wed Coed Open 4th div \nGame Type: Regular\nGame S
 tatus: Complete\nHome Team: El Equipo FC\nAway Team: Gonna Get Messi\nHome
  Score: 5\nAway Score: 3
END:VEVENT
BEGIN:VEVENT
UID:15206298@ezleagues.ezfacility.com
DTSTAMP:20260420T082942Z
CREATED:20260420T082942Z
DTSTART:20230907T020000Z
DTEND:20230907T030000Z
LOCATION:Harmans Premier Field #5
CONTACT:
SUMMARY:El Equipo FC VS. Gonna Get Messi
DESCRIPTION:League Name: Wed Coed Open 4th div \nGame Type: Regular\nGame S
 tatus: Complete\nHome Team: El Equipo FC\nAway Team: Gonna Get Messi\nHome
  Score: 11\nAway Score: 3
END:VEVENT
BEGIN:VEVENT
UID:15224877@ezleagues.ezfacility.com
DTSTAMP:20260420T082942Z
CREATED:20260420T082942Z
DTSTART:20230914T030000Z
DTEND:20230914T040000Z
LOCATION:Harmans Premier Field #4
CONTACT:
SUMMARY:Gonna Get Messi VS. It's About to Get Messi
DESCRIPTION:League Name: Wed Coed Open 4th div \nGame Type: Regular\nGame S
 tatus: Complete\nHome Team: Gonna Get Messi\nAway Team: It's About to Get 
 Messi\nHome Score: 6\nAway Score: 3
END:VEVENT
END:VCALENDAR
