BEGIN:VCALENDAR
VERSION:2.0
PRODID:-//EZFacility.com, Inc.//EZL 2.5.5.28621
BEGIN:VEVENT
UID:14920649@ezleagues.ezfacility.com
DTSTAMP:20260423T134243Z
CREATED:20260423T134243Z
DTSTART:20230216T233000Z
DTEND:20230217T002500Z
LOCATION:Harmans Premier Field #4
CONTACT:
SUMMARY:Relegators VS. Chelsea FC
DESCRIPTION:League Name: Thurs Mens Over 35s 2nd div\nGame Type: Regular\nG
 ame Status: Complete\nHome Team: Relegators\nAway Team: Chelsea FC\nHome S
 core: 6\nAway Score: 6
END:VEVENT
BEGIN:VEVENT
UID:14920661@ezleagues.ezfacility.com
DTSTAMP:20260423T134243Z
CREATED:20260423T134243Z
DTSTART:20230223T233000Z
DTEND:20230224T002500Z
LOCATION:Harmans Premier Field #4
CONTACT:
SUMMARY:Last Call VS. Relegators
DESCRIPTION:League Name: Thurs Mens Over 35s 2nd div\nGame Type: Regular\nG
 ame Status: Complete\nHome Team: Last Call\nAway Team: Relegators\nHome Sc
 ore: 2\nAway Score: 4
END:VEVENT
BEGIN:VEVENT
UID:14920673@ezleagues.ezfacility.com
DTSTAMP:20260423T134243Z
CREATED:20260423T134243Z
DTSTART:20230303T012000Z
DTEND:20230303T021500Z
LOCATION:Harmans Premier Field #5
CONTACT:
SUMMARY:La Academia FC VS. Relegators
DESCRIPTION:League Name: Thurs Mens Over 35s 2nd div\nGame Type: Regular\nG
 ame Status: Complete\nHome Team: La Academia FC\nAway Team: Relegators\nHo
 me Score: 5\nAway Score: 5
END:VEVENT
BEGIN:VEVENT
UID:14920685@ezleagues.ezfacility.com
DTSTAMP:20260423T134243Z
CREATED:20260423T134243Z
DTSTART:20230310T012000Z
DTEND:20230310T021500Z
LOCATION:Harmans Premier Field #5
CONTACT:
SUMMARY:Crownsville VS. Relegators
DESCRIPTION:League Name: Thurs Mens Over 35s 2nd div\nGame Type: Regular\nG
 ame Status: Complete\nHome Team: Crownsville\nAway Team: Relegators\nHome 
 Score: 2\nAway Score: 4
END:VEVENT
BEGIN:VEVENT
UID:14920697@ezleagues.ezfacility.com
DTSTAMP:20260423T134243Z
CREATED:20260423T134243Z
DTSTART:20230316T223000Z
DTEND:20230316T232500Z
LOCATION:Harmans Premier Field #4
CONTACT:
SUMMARY:FC Crabs VS. Relegators
DESCRIPTION:League Name: Thurs Mens Over 35s 2nd div\nGame Type: Regular\nG
 ame Status: Complete\nHome Team: FC Crabs\nAway Team: Relegators\nHome Sco
 re: 3\nAway Score: 4
END:VEVENT
BEGIN:VEVENT
UID:14920709@ezleagues.ezfacility.com
DTSTAMP:20260423T134243Z
CREATED:20260423T134243Z
DTSTART:20230324T021000Z
DTEND:20230324T030500Z
LOCATION:Harmans Premier Field #4
CONTACT:
SUMMARY:Relegators VS. Dragons
DESCRIPTION:League Name: Thurs Mens Over 35s 2nd div\nGame Type: Regular\nG
 ame Status: Complete\nHome Team: Relegators\nAway Team: Dragons\nHome Scor
 e: 5\nAway Score: 6
END:VEVENT
BEGIN:VEVENT
UID:14920721@ezleagues.ezfacility.com
DTSTAMP:20260423T134243Z
CREATED:20260423T134243Z
DTSTART:20230331T021000Z
DTEND:20230331T030500Z
LOCATION:Harmans Premier Field #5
CONTACT:
SUMMARY:Relegators VS. F and S United
DESCRIPTION:League Name: Thurs Mens Over 35s 2nd div\nGame Type: Regular\nG
 ame Status: Complete\nHome Team: Relegators\nAway Team: F and S United\nHo
 me Score: 6\nAway Score: 1
END:VEVENT
BEGIN:VEVENT
UID:15003070@ezleagues.ezfacility.com
DTSTAMP:20260423T134243Z
CREATED:20260423T134243Z
DTSTART:20230406T232500Z
DTEND:20230407T002500Z
LOCATION:Harmans Premier Field #4
CONTACT:
SUMMARY:Dragons VS. Relegators
DESCRIPTION:League Name: Thurs Mens Over 35s 2nd div\nGame Type: Regular\nG
 ame Status: Complete\nHome Team: Dragons\nAway Team: Relegators\nHome Scor
 e: 1\nAway Score: 4
END:VEVENT
BEGIN:VEVENT
UID:15015220@ezleagues.ezfacility.com
DTSTAMP:20260423T134243Z
CREATED:20260423T134243Z
DTSTART:20230414T002000Z
DTEND:20230414T011500Z
LOCATION:Harmans Premier Field #4
CONTACT:
SUMMARY:La Academia FC VS. Relegators
DESCRIPTION:League Name: Thurs Mens Over 35s 2nd div\nGame Type: Regular\nG
 ame Status: Complete\nHome Team: La Academia FC\nAway Team: Relegators\nHo
 me Score: 5\nAway Score: 2
END:VEVENT
END:VCALENDAR
