BEGIN:VCALENDAR
VERSION:2.0
PRODID:-//EZFacility.com, Inc.//EZL 2.5.5.28621
BEGIN:VEVENT
UID:14920650@ezleagues.ezfacility.com
DTSTAMP:20260426T035138Z
CREATED:20260426T035138Z
DTSTART:20230217T021500Z
DTEND:20230217T031000Z
LOCATION:Harmans Premier Field #5
CONTACT:
SUMMARY:F and S United VS. Last Call
DESCRIPTION:League Name: Thurs Mens Over 35s 2nd div\nGame Type: Regular\nG
 ame Status: Complete\nHome Team: F and S United\nAway Team: Last Call\nHom
 e Score: 4\nAway Score: 3
END:VEVENT
BEGIN:VEVENT
UID:14920663@ezleagues.ezfacility.com
DTSTAMP:20260426T035138Z
CREATED:20260426T035138Z
DTSTART:20230224T021500Z
DTEND:20230224T031000Z
LOCATION:Harmans Premier Field #5
CONTACT:
SUMMARY:F and S United VS. Crownsville
DESCRIPTION:League Name: Thurs Mens Over 35s 2nd div\nGame Type: Regular\nG
 ame Status: Complete\nHome Team: F and S United\nAway Team: Crownsville\nH
 ome Score: 3\nAway Score: 6
END:VEVENT
BEGIN:VEVENT
UID:14920676@ezleagues.ezfacility.com
DTSTAMP:20260426T035138Z
CREATED:20260426T035138Z
DTSTART:20230302T233000Z
DTEND:20230303T002500Z
LOCATION:Harmans Premier Field #4
CONTACT:
SUMMARY:F and S United VS. Dragons
DESCRIPTION:League Name: Thurs Mens Over 35s 2nd div\nGame Type: Regular\nG
 ame Status: Complete\nHome Team: F and S United\nAway Team: Dragons\nHome 
 Score: 4\nAway Score: 3
END:VEVENT
BEGIN:VEVENT
UID:14920688@ezleagues.ezfacility.com
DTSTAMP:20260426T035138Z
CREATED:20260426T035138Z
DTSTART:20230310T040500Z
DTEND:20230310T050000Z
LOCATION:Harmans Premier Field #4
CONTACT:
SUMMARY:Chelsea FC VS. F and S United
DESCRIPTION:League Name: Thurs Mens Over 35s 2nd div\nGame Type: Regular\nG
 ame Status: Complete\nHome Team: Chelsea FC\nAway Team: F and S United\nHo
 me Score: 4\nAway Score: 8
END:VEVENT
BEGIN:VEVENT
UID:14920699@ezleagues.ezfacility.com
DTSTAMP:20260426T035138Z
CREATED:20260426T035138Z
DTSTART:20230316T232500Z
DTEND:20230317T002000Z
LOCATION:Harmans Premier Field #5
CONTACT:
SUMMARY:La Academia FC VS. F and S United
DESCRIPTION:League Name: Thurs Mens Over 35s 2nd div\nGame Type: Regular\nG
 ame Status: Complete\nHome Team: La Academia FC\nAway Team: F and S United
 \nHome Score: 6\nAway Score: 4
END:VEVENT
BEGIN:VEVENT
UID:14920710@ezleagues.ezfacility.com
DTSTAMP:20260426T035138Z
CREATED:20260426T035138Z
DTSTART:20230323T223000Z
DTEND:20230323T232500Z
LOCATION:Harmans Premier Field #4
CONTACT:
SUMMARY:FC Crabs VS. F and S United
DESCRIPTION:League Name: Thurs Mens Over 35s 2nd div\nGame Type: Regular\nG
 ame Status: Complete\nHome Team: FC Crabs\nAway Team: F and S United\nHome
  Score: 7\nAway Score: 10
END:VEVENT
BEGIN:VEVENT
UID:14920721@ezleagues.ezfacility.com
DTSTAMP:20260426T035138Z
CREATED:20260426T035138Z
DTSTART:20230331T021000Z
DTEND:20230331T030500Z
LOCATION:Harmans Premier Field #5
CONTACT:
SUMMARY:Relegators VS. F and S United
DESCRIPTION:League Name: Thurs Mens Over 35s 2nd div\nGame Type: Regular\nG
 ame Status: Complete\nHome Team: Relegators\nAway Team: F and S United\nHo
 me Score: 6\nAway Score: 1
END:VEVENT
BEGIN:VEVENT
UID:15003069@ezleagues.ezfacility.com
DTSTAMP:20260426T035138Z
CREATED:20260426T035138Z
DTSTART:20230407T011500Z
DTEND:20230407T021500Z
LOCATION:Harmans Premier Field #5
CONTACT:
SUMMARY:La Academia FC VS. F and S United
DESCRIPTION:League Name: Thurs Mens Over 35s 2nd div\nGame Type: Regular\nG
 ame Status: Complete\nHome Team: La Academia FC\nAway Team: F and S United
 \nHome Score: 8\nAway Score: 6
END:VEVENT
BEGIN:VEVENT
UID:15015222@ezleagues.ezfacility.com
DTSTAMP:20260426T035138Z
CREATED:20260426T035138Z
DTSTART:20230413T223000Z
DTEND:20230413T232500Z
LOCATION:Harmans Premier Field #4
CONTACT:
SUMMARY:F and S United VS. Chelsea FC
DESCRIPTION:League Name: Thurs Mens Over 35s 2nd div\nGame Type: Regular\nG
 ame Status: Complete\nHome Team: F and S United\nAway Team: Chelsea FC\nHo
 me Score: 8\nAway Score: 3
END:VEVENT
END:VCALENDAR
