BEGIN:VCALENDAR
VERSION:2.0
PRODID:-//EZFacility.com, Inc.//EZL 2.5.5.28621
BEGIN:VEVENT
UID:14920649@ezleagues.ezfacility.com
DTSTAMP:20260423T150543Z
CREATED:20260423T150543Z
DTSTART:20230216T233000Z
DTEND:20230217T002500Z
LOCATION:Harmans Premier Field #4
CONTACT:
SUMMARY:Relegators VS. Chelsea FC
DESCRIPTION:League Name: Thurs Mens Over 35s 2nd div\nGame Type: Regular\nG
 ame Status: Complete\nHome Team: Relegators\nAway Team: Chelsea FC\nHome S
 core: 6\nAway Score: 6
END:VEVENT
BEGIN:VEVENT
UID:14920662@ezleagues.ezfacility.com
DTSTAMP:20260423T150543Z
CREATED:20260423T150543Z
DTSTART:20230224T031000Z
DTEND:20230224T040500Z
LOCATION:Harmans Premier Field #5
CONTACT:
SUMMARY:Chelsea FC VS. La Academia FC
DESCRIPTION:League Name: Thurs Mens Over 35s 2nd div\nGame Type: Regular\nG
 ame Status: Complete\nHome Team: Chelsea FC\nAway Team: La Academia FC\nHo
 me Score: 2\nAway Score: 10
END:VEVENT
BEGIN:VEVENT
UID:14920675@ezleagues.ezfacility.com
DTSTAMP:20260423T150543Z
CREATED:20260423T150543Z
DTSTART:20230303T002500Z
DTEND:20230303T012000Z
LOCATION:Harmans Premier Field #5
CONTACT:
SUMMARY:Chelsea FC VS. FC Crabs
DESCRIPTION:League Name: Thurs Mens Over 35s 2nd div\nGame Type: Regular\nG
 ame Status: Complete\nHome Team: Chelsea FC\nAway Team: FC Crabs\nHome Sco
 re: 7\nAway Score: 5
END:VEVENT
BEGIN:VEVENT
UID:14920688@ezleagues.ezfacility.com
DTSTAMP:20260423T150543Z
CREATED:20260423T150543Z
DTSTART:20230310T040500Z
DTEND:20230310T050000Z
LOCATION:Harmans Premier Field #4
CONTACT:
SUMMARY:Chelsea FC VS. F and S United
DESCRIPTION:League Name: Thurs Mens Over 35s 2nd div\nGame Type: Regular\nG
 ame Status: Complete\nHome Team: Chelsea FC\nAway Team: F and S United\nHo
 me Score: 4\nAway Score: 8
END:VEVENT
BEGIN:VEVENT
UID:14920700@ezleagues.ezfacility.com
DTSTAMP:20260423T150543Z
CREATED:20260423T150543Z
DTSTART:20230317T002000Z
DTEND:20230317T011500Z
LOCATION:Harmans Premier Field #5
CONTACT:
SUMMARY:Last Call VS. Chelsea FC
DESCRIPTION:League Name: Thurs Mens Over 35s 2nd div\nGame Type: Regular\nG
 ame Status: Complete\nHome Team: Last Call\nAway Team: Chelsea FC\nHome Sc
 ore: 3\nAway Score: 5
END:VEVENT
BEGIN:VEVENT
UID:14920711@ezleagues.ezfacility.com
DTSTAMP:20260423T150543Z
CREATED:20260423T150543Z
DTSTART:20230324T021000Z
DTEND:20230324T030500Z
LOCATION:Harmans Premier Field #5
CONTACT:
SUMMARY:Crownsville VS. Chelsea FC
DESCRIPTION:League Name: Thurs Mens Over 35s 2nd div\nGame Type: Regular\nG
 ame Status: Complete\nHome Team: Crownsville\nAway Team: Chelsea FC\nHome 
 Score: 5\nAway Score: 4
END:VEVENT
BEGIN:VEVENT
UID:14920722@ezleagues.ezfacility.com
DTSTAMP:20260423T150543Z
CREATED:20260423T150543Z
DTSTART:20230330T223000Z
DTEND:20230330T232500Z
LOCATION:Harmans Premier Field #4
CONTACT:
SUMMARY:Dragons VS. Chelsea FC
DESCRIPTION:League Name: Thurs Mens Over 35s 2nd div\nGame Type: Regular\nG
 ame Status: Complete\nHome Team: Dragons\nAway Team: Chelsea FC\nHome Scor
 e: 4\nAway Score: 2
END:VEVENT
BEGIN:VEVENT
UID:15003072@ezleagues.ezfacility.com
DTSTAMP:20260423T150543Z
CREATED:20260423T150543Z
DTSTART:20230407T002000Z
DTEND:20230407T012000Z
LOCATION:Harmans Premier Field #5
CONTACT:
SUMMARY:Chelsea FC VS. Last Call
DESCRIPTION:League Name: Thurs Mens Over 35s 2nd div\nGame Type: Regular\nG
 ame Status: Complete\nHome Team: Chelsea FC\nAway Team: Last Call\nHome Sc
 ore: 6\nAway Score: 3
END:VEVENT
BEGIN:VEVENT
UID:15015222@ezleagues.ezfacility.com
DTSTAMP:20260423T150543Z
CREATED:20260423T150543Z
DTSTART:20230413T223000Z
DTEND:20230413T232500Z
LOCATION:Harmans Premier Field #4
CONTACT:
SUMMARY:F and S United VS. Chelsea FC
DESCRIPTION:League Name: Thurs Mens Over 35s 2nd div\nGame Type: Regular\nG
 ame Status: Complete\nHome Team: F and S United\nAway Team: Chelsea FC\nHo
 me Score: 8\nAway Score: 3
END:VEVENT
END:VCALENDAR
