BEGIN:VCALENDAR
VERSION:2.0
PRODID:-//EZFacility.com, Inc.//EZL 2.5.5.28621
BEGIN:VEVENT
UID:1226158@ezleagues.ezfacility.com
DTSTAMP:20260424T044155Z
CREATED:20260424T044155Z
DTSTART:20080210T140000Z
DTEND:20080210T160000Z
LOCATION:McDowell Mtn (South)
CONTACT:
SUMMARY:Inferno VS. United Serbs
DESCRIPTION:League Name: Spring 2008 Premier Division\nGame Type: Regular\n
 Game Status: Complete\nHome Team: Inferno\nAway Team: United Serbs\nHome S
 core: 1\nAway Score: 6
END:VEVENT
BEGIN:VEVENT
UID:1226131@ezleagues.ezfacility.com
DTSTAMP:20260424T044155Z
CREATED:20260424T044155Z
DTSTART:20080217T140000Z
DTEND:20080217T160000Z
LOCATION:McDowell Mtn (South)
CONTACT:
SUMMARY:Inferno VS. Red Rock FC
DESCRIPTION:League Name: Spring 2008 Premier Division\nGame Type: Regular\n
 Game Status: Complete\nHome Team: Inferno\nAway Team: Red Rock FC\nHome Sc
 ore: 4\nAway Score: 2
END:VEVENT
BEGIN:VEVENT
UID:1226138@ezleagues.ezfacility.com
DTSTAMP:20260424T044155Z
CREATED:20260424T044155Z
DTSTART:20080224T100000Z
DTEND:20080224T120000Z
LOCATION:McDowell Mtn (South)
CONTACT:
SUMMARY:FC Romania VS. Inferno
DESCRIPTION:League Name: Spring 2008 Premier Division\nGame Type: Regular\n
 Game Status: Complete\nHome Team: FC Romania\nAway Team: Inferno\nHome Sco
 re: 0\nAway Score: 2
END:VEVENT
BEGIN:VEVENT
UID:1226149@ezleagues.ezfacility.com
DTSTAMP:20260424T044155Z
CREATED:20260424T044155Z
DTSTART:20080309T080000Z
DTEND:20080309T100000Z
LOCATION:McDowell Mtn (South)
CONTACT:
SUMMARY:Inferno VS. Flickas
DESCRIPTION:League Name: Spring 2008 Premier Division\nGame Type: Regular\n
 Game Status: Complete\nHome Team: Inferno\nAway Team: Flickas\nHome Score:
  1\nAway Score: 0
END:VEVENT
BEGIN:VEVENT
UID:1226154@ezleagues.ezfacility.com
DTSTAMP:20260424T044155Z
CREATED:20260424T044155Z
DTSTART:20080316T100000Z
DTEND:20080316T120000Z
LOCATION:McDowell Mtn (South)
CONTACT:
SUMMARY:Zanjeros VS. Inferno
DESCRIPTION:League Name: Spring 2008 Premier Division\nGame Type: Regular\n
 Game Status: Complete\nHome Team: Zanjeros\nAway Team: Inferno\nHome Score
 : 2\nAway Score: 2
END:VEVENT
BEGIN:VEVENT
UID:1226124@ezleagues.ezfacility.com
DTSTAMP:20260424T044155Z
CREATED:20260424T044155Z
DTSTART:20080330T160000Z
DTEND:20080330T180000Z
LOCATION:McDowell Mtn (South)
CONTACT:
SUMMARY:Inferno VS. Diamonds FC
DESCRIPTION:League Name: Spring 2008 Premier Division\nGame Type: Regular\n
 Game Status: Complete\nHome Team: Inferno\nAway Team: Diamonds FC\nHome Sc
 ore: 0\nAway Score: 2
END:VEVENT
BEGIN:VEVENT
UID:1226130@ezleagues.ezfacility.com
DTSTAMP:20260424T044155Z
CREATED:20260424T044155Z
DTSTART:20080406T080000Z
DTEND:20080406T100000Z
LOCATION:McDowell Mtn (South)
CONTACT:
SUMMARY:TMA Hotshots VS. Inferno
DESCRIPTION:League Name: Spring 2008 Premier Division\nGame Type: Regular\n
 Game Status: Complete\nHome Team: TMA Hotshots\nAway Team: Inferno\nHome S
 core: 1\nAway Score: 1
END:VEVENT
BEGIN:VEVENT
UID:1226145@ezleagues.ezfacility.com
DTSTAMP:20260424T044155Z
CREATED:20260424T044155Z
DTSTART:20080420T080000Z
DTEND:20080420T100000Z
LOCATION:McDowell Mtn (South)
CONTACT:
SUMMARY:Felsen United VS. Inferno
DESCRIPTION:League Name: Spring 2008 Premier Division\nGame Type: Regular\n
 Game Status: Complete\nHome Team: Felsen United\nAway Team: Inferno\nHome 
 Score: 2\nAway Score: 4
END:VEVENT
END:VCALENDAR
