BEGIN:VCALENDAR
VERSION:2.0
PRODID:-//EZFacility.com, Inc.//EZL 2.5.5.28621
BEGIN:VEVENT
UID:14939293@ezleagues.ezfacility.com
DTSTAMP:20260426T033841Z
CREATED:20260426T033841Z
DTSTART:20230226T000000Z
DTEND:20230226T005000Z
LOCATION:Harmans Premier Field #5
CONTACT:
SUMMARY:Los Rayozzzz VS. Los Tigres
DESCRIPTION:League Name: Sat Mens Open 2nd div I \nGame Type: Regular\nGame
  Status: Complete\nHome Team: Los Rayozzzz\nAway Team: Los Tigres\nHome Sc
 ore: 3\nAway Score: 0
END:VEVENT
BEGIN:VEVENT
UID:14939305@ezleagues.ezfacility.com
DTSTAMP:20260426T033841Z
CREATED:20260426T033841Z
DTSTART:20230305T030000Z
DTEND:20230305T035000Z
LOCATION:Harmans Premier Field #4
CONTACT:
SUMMARY:Arsenal VS. Los Rayozzzz
DESCRIPTION:League Name: Sat Mens Open 2nd div I \nGame Type: Regular\nGame
  Status: Complete\nHome Team: Arsenal\nAway Team: Los Rayozzzz\nHome Score
 : 2\nAway Score: 3
END:VEVENT
BEGIN:VEVENT
UID:14939316@ezleagues.ezfacility.com
DTSTAMP:20260426T033841Z
CREATED:20260426T033841Z
DTSTART:20230312T000000Z
DTEND:20230312T005000Z
LOCATION:Harmans Premier Field #5
CONTACT:
SUMMARY:Los Angeles VS. Los Rayozzzz
DESCRIPTION:League Name: Sat Mens Open 2nd div I \nGame Type: Regular\nGame
  Status: Complete\nHome Team: Los Angeles\nAway Team: Los Rayozzzz\nHome S
 core: 3\nAway Score: 3
END:VEVENT
BEGIN:VEVENT
UID:14939327@ezleagues.ezfacility.com
DTSTAMP:20260426T033841Z
CREATED:20260426T033841Z
DTSTART:20230319T000000Z
DTEND:20230319T005000Z
LOCATION:Harmans Premier Field #4
CONTACT:
SUMMARY:Deportivo Gonzalez VS. Los Rayozzzz
DESCRIPTION:League Name: Sat Mens Open 2nd div I \nGame Type: Regular\nGame
  Status: Complete\nHome Team: Deportivo Gonzalez\nAway Team: Los Rayozzzz\
 nHome Score: 5\nAway Score: 3
END:VEVENT
BEGIN:VEVENT
UID:14939338@ezleagues.ezfacility.com
DTSTAMP:20260426T033841Z
CREATED:20260426T033841Z
DTSTART:20230325T220000Z
DTEND:20230325T225000Z
LOCATION:Harmans Premier Field #5
CONTACT:
SUMMARY:Los Rayozzzz VS. Los Primos
DESCRIPTION:League Name: Sat Mens Open 2nd div I \nGame Type: Regular\nGame
  Status: Complete\nHome Team: Los Rayozzzz\nAway Team: Los Primos\nHome Sc
 ore: 3\nAway Score: 4
END:VEVENT
BEGIN:VEVENT
UID:14939351@ezleagues.ezfacility.com
DTSTAMP:20260426T033841Z
CREATED:20260426T033841Z
DTSTART:20230402T010000Z
DTEND:20230402T015000Z
LOCATION:Harmans Premier Field #4
CONTACT:
SUMMARY:Los Rayozzzz VS. Los Lobos
DESCRIPTION:League Name: Sat Mens Open 2nd div I \nGame Type: Regular\nGame
  Status: Complete\nHome Team: Los Rayozzzz\nAway Team: Los Lobos\nHome Sco
 re: 9\nAway Score: 6
END:VEVENT
BEGIN:VEVENT
UID:14939364@ezleagues.ezfacility.com
DTSTAMP:20260426T033841Z
CREATED:20260426T033841Z
DTSTART:20230409T020000Z
DTEND:20230409T025000Z
LOCATION:Harmans Premier Field #5
CONTACT:
SUMMARY:Los Rayozzzz VS. Cadiz
DESCRIPTION:League Name: Sat Mens Open 2nd div I \nGame Type: Regular\nGame
  Status: Complete\nHome Team: Los Rayozzzz\nAway Team: Cadiz\nHome Score: 
 7\nAway Score: 5
END:VEVENT
BEGIN:VEVENT
UID:15023275@ezleagues.ezfacility.com
DTSTAMP:20260426T033841Z
CREATED:20260426T033841Z
DTSTART:20230415T230000Z
DTEND:20230416T000000Z
LOCATION:Harmans Premier Field #4
CONTACT:
SUMMARY:Los Angeles VS. Los Rayozzzz
DESCRIPTION:League Name: Sat Mens Open 2nd div I \nGame Type: Regular\nGame
  Status: Complete\nHome Team: Los Angeles\nAway Team: Los Rayozzzz\nHome S
 core: 4\nAway Score: 10
END:VEVENT
BEGIN:VEVENT
UID:15033667@ezleagues.ezfacility.com
DTSTAMP:20260426T033841Z
CREATED:20260426T033841Z
DTSTART:20230423T000000Z
DTEND:20230423T005000Z
LOCATION:Harmans Premier Field #4
CONTACT:
SUMMARY:Los Rayozzzz VS. Deportivo Gonzalez
DESCRIPTION:League Name: Sat Mens Open 2nd div I \nGame Type: Regular\nGame
  Status: Complete\nHome Team: Los Rayozzzz\nAway Team: Deportivo Gonzalez\
 nHome Score: 5\nAway Score: 3
END:VEVENT
END:VCALENDAR
