BEGIN:VCALENDAR
VERSION:2.0
PRODID:-//EZFacility.com, Inc.//EZL 2.5.5.28621
BEGIN:VEVENT
UID:1234785@ezleagues.ezfacility.com
DTSTAMP:20260424T043201Z
CREATED:20260424T043201Z
DTSTART:20080210T160000Z
DTEND:20080210T180000Z
LOCATION:Chaparral (East)
CONTACT:
SUMMARY:BG Lions VS. Sirocco
DESCRIPTION:League Name: Spring 2008 Mens Div 2B\nGame Type: Regular\nGame 
 Status: Complete\nHome Team: BG Lions\nAway Team: Sirocco\nHome Score: 1\n
 Away Score: 2
END:VEVENT
BEGIN:VEVENT
UID:1234791@ezleagues.ezfacility.com
DTSTAMP:20260424T043201Z
CREATED:20260424T043201Z
DTSTART:20080217T180000Z
DTEND:20080217T200000Z
LOCATION:Chaparral (East)
CONTACT:
SUMMARY:Sirocco VS. INTER '07
DESCRIPTION:League Name: Spring 2008 Mens Div 2B\nGame Type: Regular\nGame 
 Status: Complete\nHome Team: Sirocco\nAway Team: INTER '07\nHome Score: 2\
 nAway Score: 2
END:VEVENT
BEGIN:VEVENT
UID:1234796@ezleagues.ezfacility.com
DTSTAMP:20260424T043201Z
CREATED:20260424T043201Z
DTSTART:20080224T140000Z
DTEND:20080224T160000Z
LOCATION:Chaparral (East)
CONTACT:
SUMMARY:Republika Srpska VS. Sirocco
DESCRIPTION:League Name: Spring 2008 Mens Div 2B\nGame Type: Regular\nGame 
 Status: Complete\nHome Team: Republika Srpska\nAway Team: Sirocco\nHome Sc
 ore: 3\nAway Score: 0
END:VEVENT
BEGIN:VEVENT
UID:1234802@ezleagues.ezfacility.com
DTSTAMP:20260424T043201Z
CREATED:20260424T043201Z
DTSTART:20080302T160000Z
DTEND:20080302T180000Z
LOCATION:Chaparral (East)
CONTACT:
SUMMARY:Sirocco VS. Eagles
DESCRIPTION:League Name: Spring 2008 Mens Div 2B\nGame Type: Regular\nGame 
 Status: Complete\nHome Team: Sirocco\nAway Team: Eagles\nHome Score: 1\nAw
 ay Score: 2
END:VEVENT
BEGIN:VEVENT
UID:1234808@ezleagues.ezfacility.com
DTSTAMP:20260424T043201Z
CREATED:20260424T043201Z
DTSTART:20080309T160000Z
DTEND:20080309T180000Z
LOCATION:Chaparral (East)
CONTACT:
SUMMARY:Korona VS. Sirocco
DESCRIPTION:League Name: Spring 2008 Mens Div 2B\nGame Type: Regular\nGame 
 Status: Complete\nHome Team: Korona\nAway Team: Sirocco\nHome Score: 0\nAw
 ay Score: 2
END:VEVENT
BEGIN:VEVENT
UID:1234813@ezleagues.ezfacility.com
DTSTAMP:20260424T043201Z
CREATED:20260424T043201Z
DTSTART:20080316T080000Z
DTEND:20080316T100000Z
LOCATION:Chaparral (East)
CONTACT:
SUMMARY:Zenith VS. Sirocco
DESCRIPTION:League Name: Spring 2008 Mens Div 2B\nGame Type: Regular\nGame 
 Status: Complete\nHome Team: Zenith\nAway Team: Sirocco\nHome Score: 2\nAw
 ay Score: 0
END:VEVENT
BEGIN:VEVENT
UID:1234781@ezleagues.ezfacility.com
DTSTAMP:20260424T043201Z
CREATED:20260424T043201Z
DTSTART:20080330T120000Z
DTEND:20080330T140000Z
LOCATION:Chaparral (East)
CONTACT:
SUMMARY:Eagles United VS. Sirocco
DESCRIPTION:League Name: Spring 2008 Mens Div 2B\nGame Type: Regular\nGame 
 Status: Complete\nHome Team: Eagles United\nAway Team: Sirocco\nHome Score
 : 4\nAway Score: 1
END:VEVENT
BEGIN:VEVENT
UID:1234814@ezleagues.ezfacility.com
DTSTAMP:20260424T043201Z
CREATED:20260424T043201Z
DTSTART:20080406T100000Z
DTEND:20080406T120000Z
LOCATION:Chaparral (East)
CONTACT:
SUMMARY:Sirocco VS. Talladega Knights
DESCRIPTION:League Name: Spring 2008 Mens Div 2B\nGame Type: Regular\nGame 
 Status: Complete\nHome Team: Sirocco\nAway Team: Talladega Knights\nHome S
 core: 3\nAway Score: 1
END:VEVENT
BEGIN:VEVENT
UID:1234777@ezleagues.ezfacility.com
DTSTAMP:20260424T043201Z
CREATED:20260424T043201Z
DTSTART:20080413T140000Z
DTEND:20080413T160000Z
LOCATION:Chaparral (East)
CONTACT:
SUMMARY:Sirocco VS. Killer Bees
DESCRIPTION:League Name: Spring 2008 Mens Div 2B\nGame Type: Regular\nGame 
 Status: Complete\nHome Team: Sirocco\nAway Team: Killer Bees\nHome Score: 
 6\nAway Score: 0
END:VEVENT
END:VCALENDAR
