BEGIN:VCALENDAR
VERSION:2.0
PRODID:-//EZFacility.com, Inc.//EZL 2.5.5.28621
BEGIN:VEVENT
UID:14480498@ezleagues.ezfacility.com
DTSTAMP:20260422T144025Z
CREATED:20260422T144025Z
DTSTART:20220712T020000Z
DTEND:20220712T030000Z
LOCATION:Boca 1
CONTACT:
SUMMARY:La Prensa  VS. IHS 
DESCRIPTION:League Name: Monday Night Mens Over 40 - Summer Session\nGame T
 ype: Regular\nGame Status: Complete\nHome Team: La Prensa \nAway Team: IHS
  \nHome Score: 5\nAway Score: 18
END:VEVENT
BEGIN:VEVENT
UID:14480499@ezleagues.ezfacility.com
DTSTAMP:20260422T144025Z
CREATED:20260422T144025Z
DTSTART:20220719T010000Z
DTEND:20220719T020000Z
LOCATION:Boca 1
CONTACT:
SUMMARY:Desk Jockeys  VS. La Prensa 
DESCRIPTION:League Name: Monday Night Mens Over 40 - Summer Session\nGame T
 ype: Regular\nGame Status: Complete\nHome Team: Desk Jockeys \nAway Team: 
 La Prensa \nHome Score: 9\nAway Score: 5
END:VEVENT
BEGIN:VEVENT
UID:14480502@ezleagues.ezfacility.com
DTSTAMP:20260422T144025Z
CREATED:20260422T144025Z
DTSTART:20220726T020000Z
DTEND:20220726T030000Z
LOCATION:Boca 1
CONTACT:
SUMMARY:Rosario FC  VS. La Prensa 
DESCRIPTION:League Name: Monday Night Mens Over 40 - Summer Session\nGame T
 ype: Regular\nGame Status: Complete\nHome Team: Rosario FC \nAway Team: La
  Prensa \nHome Score: 12\nAway Score: 4
END:VEVENT
BEGIN:VEVENT
UID:14480504@ezleagues.ezfacility.com
DTSTAMP:20260422T144025Z
CREATED:20260422T144025Z
DTSTART:20220802T010000Z
DTEND:20220802T020000Z
LOCATION:Boca 1
CONTACT:
SUMMARY:IHS  VS. La Prensa 
DESCRIPTION:League Name: Monday Night Mens Over 40 - Summer Session\nGame T
 ype: Regular\nGame Status: Complete\nHome Team: IHS \nAway Team: La Prensa
  \nHome Score: 0\nAway Score: 3
END:VEVENT
BEGIN:VEVENT
UID:14480505@ezleagues.ezfacility.com
DTSTAMP:20260422T144025Z
CREATED:20260422T144025Z
DTSTART:20220809T020000Z
DTEND:20220809T030000Z
LOCATION:Boca 1
CONTACT:
SUMMARY:La Prensa  VS. Desk Jockeys 
DESCRIPTION:League Name: Monday Night Mens Over 40 - Summer Session\nGame T
 ype: Regular\nGame Status: Complete\nHome Team: La Prensa \nAway Team: Des
 k Jockeys \nHome Score: 3\nAway Score: 10
END:VEVENT
BEGIN:VEVENT
UID:14480508@ezleagues.ezfacility.com
DTSTAMP:20260422T144025Z
CREATED:20260422T144025Z
DTSTART:20220816T010000Z
DTEND:20220816T020000Z
LOCATION:Boca 1
CONTACT:
SUMMARY:La Prensa  VS. Rosario FC 
DESCRIPTION:League Name: Monday Night Mens Over 40 - Summer Session\nGame T
 ype: Regular\nGame Status: Complete\nHome Team: La Prensa \nAway Team: Ros
 ario FC \nHome Score: 2\nAway Score: 6
END:VEVENT
BEGIN:VEVENT
UID:14524447@ezleagues.ezfacility.com
DTSTAMP:20260422T144025Z
CREATED:20260422T144025Z
DTSTART:20220823T020000Z
DTEND:20220823T030000Z
LOCATION:Boca 1
CONTACT:
SUMMARY:Rosario FC  VS. La Prensa 
DESCRIPTION:League Name: Monday Night Mens Over 40 - Summer Session\nGame T
 ype: Postseason\nGame Status: Complete\nHome Team: Rosario FC \nAway Team:
  La Prensa \nHome Score: 6\nAway Score: 2
END:VEVENT
BEGIN:VEVENT
UID:14524452@ezleagues.ezfacility.com
DTSTAMP:20260422T144025Z
CREATED:20260422T144025Z
DTSTART:20220830T020000Z
DTEND:20220830T030000Z
LOCATION:Boca 1
CONTACT:
SUMMARY:Desk Jockeys  VS. La Prensa 
DESCRIPTION:League Name: Monday Night Mens Over 40 - Summer Session\nGame T
 ype: Friendly\nGame Status: Pending\nHome Team: Desk Jockeys \nAway Team: 
 La Prensa \n
END:VEVENT
END:VCALENDAR
