BEGIN:VCALENDAR
VERSION:2.0
PRODID:-//EZFacility.com, Inc.//EZL 2.5.5.28621
BEGIN:VEVENT
UID:14488920@ezleagues.ezfacility.com
DTSTAMP:20260419T131634Z
CREATED:20260419T131634Z
DTSTART:20220720T021500Z
DTEND:20220720T031500Z
LOCATION:Hockey Rink
CONTACT:Hines\, McDermott
SUMMARY:JTT VS. MIB
DESCRIPTION:League Name: July 17, 2022 Inline Hockey League GOLD Division\n
 Game Type: Regular\nGame Status: Complete\nHome Team: JTT\nAway Team: MIB\
 nHome Score: 6\nAway Score: 5
END:VEVENT
BEGIN:VEVENT
UID:14488916@ezleagues.ezfacility.com
DTSTAMP:20260419T131634Z
CREATED:20260419T131634Z
DTSTART:20220727T001500Z
DTEND:20220727T011500Z
LOCATION:Hockey Rink
CONTACT:Hines\, McDermott
SUMMARY:MIB VS. Snipers
DESCRIPTION:League Name: July 17, 2022 Inline Hockey League GOLD Division\n
 Game Type: Regular\nGame Status: Complete\nHome Team: MIB\nAway Team: Snip
 ers\nHome Score: 12\nAway Score: 6
END:VEVENT
BEGIN:VEVENT
UID:14488930@ezleagues.ezfacility.com
DTSTAMP:20260419T131634Z
CREATED:20260419T131634Z
DTSTART:20220731T170000Z
DTEND:20220731T180000Z
LOCATION:Hockey Rink
CONTACT:Hines
SUMMARY:MIB VS. Trailside
DESCRIPTION:League Name: July 17, 2022 Inline Hockey League GOLD Division\n
 Game Type: Regular\nGame Status: Complete\nHome Team: MIB\nAway Team: Trai
 lside\nHome Score: 7\nAway Score: 7
END:VEVENT
BEGIN:VEVENT
UID:14488941@ezleagues.ezfacility.com
DTSTAMP:20260419T131634Z
CREATED:20260419T131634Z
DTSTART:20220807T190000Z
DTEND:20220807T200000Z
LOCATION:Hockey Rink
CONTACT:Hines
SUMMARY:Snipers VS. MIB
DESCRIPTION:League Name: July 17, 2022 Inline Hockey League GOLD Division\n
 Game Type: Regular\nGame Status: Complete\nHome Team: Snipers\nAway Team: 
 MIB\nHome Score: 6\nAway Score: 9
END:VEVENT
BEGIN:VEVENT
UID:14488949@ezleagues.ezfacility.com
DTSTAMP:20260419T131634Z
CREATED:20260419T131634Z
DTSTART:20220809T231500Z
DTEND:20220810T001500Z
LOCATION:Hockey Rink
CONTACT:Hines\, McDermott
SUMMARY:MIB VS. JTT
DESCRIPTION:League Name: July 17, 2022 Inline Hockey League GOLD Division\n
 Game Type: Regular\nGame Status: Complete\nHome Team: MIB\nAway Team: JTT\
 nHome Score: 4\nAway Score: 8
END:VEVENT
BEGIN:VEVENT
UID:14488945@ezleagues.ezfacility.com
DTSTAMP:20260419T131634Z
CREATED:20260419T131634Z
DTSTART:20220814T180000Z
DTEND:20220814T190000Z
LOCATION:Hockey Rink
CONTACT:Zyuzin\, Hall
SUMMARY:MIB VS. DeYoung Money
DESCRIPTION:League Name: July 17, 2022 Inline Hockey League GOLD Division\n
 Game Type: Regular\nGame Status: Complete\nHome Team: MIB\nAway Team: DeYo
 ung Money\nHome Score: 5\nAway Score: 9
END:VEVENT
BEGIN:VEVENT
UID:14488955@ezleagues.ezfacility.com
DTSTAMP:20260419T131634Z
CREATED:20260419T131634Z
DTSTART:20220817T001500Z
DTEND:20220817T011500Z
LOCATION:Hockey Rink
CONTACT:Hines\, McDermott
SUMMARY:Trailside VS. MIB
DESCRIPTION:League Name: July 17, 2022 Inline Hockey League GOLD Division\n
 Game Type: Regular\nGame Status: Complete\nHome Team: Trailside\nAway Team
 : MIB\nHome Score: 12\nAway Score: 7
END:VEVENT
BEGIN:VEVENT
UID:14488924@ezleagues.ezfacility.com
DTSTAMP:20260419T131634Z
CREATED:20260419T131634Z
DTSTART:20220823T231500Z
DTEND:20220824T001500Z
LOCATION:Hockey Rink
CONTACT:Hines\, McDermott
SUMMARY:JTT VS. MIB
DESCRIPTION:League Name: July 17, 2022 Inline Hockey League GOLD Division\n
 Game Type: Regular\nGame Status: Complete\nHome Team: JTT\nAway Team: MIB\
 nHome Score: 4\nAway Score: 8
END:VEVENT
BEGIN:VEVENT
UID:14489052@ezleagues.ezfacility.com
DTSTAMP:20260419T131634Z
CREATED:20260419T131634Z
DTSTART:20220828T160000Z
DTEND:20220828T170000Z
LOCATION:Hockey Rink
CONTACT:McDermott\, Hines
SUMMARY:MIB VS. Trailside
DESCRIPTION:League Name: July 17, 2022 Inline Hockey League GOLD Division\n
 Game Type: Regular\nGame Status: Complete\nHome Team: MIB\nAway Team: Trai
 lside\nHome Score: 9\nAway Score: 10
END:VEVENT
BEGIN:VEVENT
UID:14489050@ezleagues.ezfacility.com
DTSTAMP:20260419T131634Z
CREATED:20260419T131634Z
DTSTART:20220830T231500Z
DTEND:20220831T001500Z
LOCATION:Hockey Rink
CONTACT:McDermott\, Hines
SUMMARY:DeYoung Money VS. MIB
DESCRIPTION:League Name: July 17, 2022 Inline Hockey League GOLD Division\n
 Game Type: Regular\nGame Status: Complete\nHome Team: DeYoung Money\nAway 
 Team: MIB\nHome Score: 6\nAway Score: 5
END:VEVENT
BEGIN:VEVENT
UID:14490445@ezleagues.ezfacility.com
DTSTAMP:20260419T131634Z
CREATED:20260419T131634Z
DTSTART:20220907T001500Z
DTEND:20220907T011500Z
LOCATION:Hockey Rink
CONTACT:Hines\, McDermott
SUMMARY:Trailside VS. MIB
DESCRIPTION:League Name: July 17, 2022 Inline Hockey League GOLD Division\n
 Game Type: Postseason\nGame Status: Complete\nHome Team: Trailside\nAway T
 eam: MIB\nHome Score: 4\nAway Score: 5
END:VEVENT
BEGIN:VEVENT
UID:14490447@ezleagues.ezfacility.com
DTSTAMP:20260419T131634Z
CREATED:20260419T131634Z
DTSTART:20220913T001500Z
DTEND:20220913T011500Z
LOCATION:Hockey Rink
CONTACT:Thupthien
SUMMARY:MIB VS. JTT
DESCRIPTION:League Name: July 17, 2022 Inline Hockey League GOLD Division\n
 Game Type: Postseason\nGame Status: Complete\nHome Team: MIB\nAway Team: J
 TT\nHome Score: 5\nAway Score: 10
END:VEVENT
END:VCALENDAR
