BEGIN:VCALENDAR
VERSION:2.0
PRODID:-//EZFacility.com, Inc.//EZL 2.5.5.28621
BEGIN:VEVENT
UID:15145561@ezleagues.ezfacility.com
DTSTAMP:20260424T133439Z
CREATED:20260424T133439Z
DTSTART:20230713T013000Z
DTEND:20230713T022000Z
LOCATION:Jessup Premier Field #1
CONTACT:
SUMMARY:Santa Cruz FC VS. Los Duros
DESCRIPTION:League Name: Wed Mens Open 2nd II div \nGame Type: Regular\nGam
 e Status: Complete\nHome Team: Santa Cruz FC\nAway Team: Los Duros\nHome S
 core: 3\nAway Score: 7
END:VEVENT
BEGIN:VEVENT
UID:15145569@ezleagues.ezfacility.com
DTSTAMP:20260424T133439Z
CREATED:20260424T133439Z
DTSTART:20230720T022000Z
DTEND:20230720T031000Z
LOCATION:Jessup Premier Field #2
CONTACT:
SUMMARY:Atletico Morazon VS. Los Duros
DESCRIPTION:League Name: Wed Mens Open 2nd II div \nGame Type: Regular\nGam
 e Status: Complete\nHome Team: Atletico Morazon\nAway Team: Los Duros\nHom
 e Score: 1\nAway Score: 4
END:VEVENT
BEGIN:VEVENT
UID:15145582@ezleagues.ezfacility.com
DTSTAMP:20260424T133439Z
CREATED:20260424T133439Z
DTSTART:20230726T230000Z
DTEND:20230726T235000Z
LOCATION:Jessup Premier Field #1
CONTACT:
SUMMARY:Honduras FC VS. Los Duros
DESCRIPTION:League Name: Wed Mens Open 2nd II div \nGame Type: Regular\nGam
 e Status: Complete\nHome Team: Honduras FC\nAway Team: Los Duros\nHome Sco
 re: 2\nAway Score: 5
END:VEVENT
BEGIN:VEVENT
UID:15145592@ezleagues.ezfacility.com
DTSTAMP:20260424T133439Z
CREATED:20260424T133439Z
DTSTART:20230803T013000Z
DTEND:20230803T022000Z
LOCATION:Jessup Premier Field #2
CONTACT:
SUMMARY:Los Duros VS. Galaxy FC
DESCRIPTION:League Name: Wed Mens Open 2nd II div \nGame Type: Regular\nGam
 e Status: Complete\nHome Team: Los Duros\nAway Team: Galaxy FC\nHome Score
 : 8\nAway Score: 1
END:VEVENT
BEGIN:VEVENT
UID:15145604@ezleagues.ezfacility.com
DTSTAMP:20260424T133439Z
CREATED:20260424T133439Z
DTSTART:20230810T031000Z
DTEND:20230810T040000Z
LOCATION:Jessup Premier Field #1
CONTACT:
SUMMARY:Los Duros VS. Annapolis FC
DESCRIPTION:League Name: Wed Mens Open 2nd II div \nGame Type: Regular\nGam
 e Status: Complete\nHome Team: Los Duros\nAway Team: Annapolis FC\nHome Sc
 ore: 3\nAway Score: 11
END:VEVENT
BEGIN:VEVENT
UID:15145615@ezleagues.ezfacility.com
DTSTAMP:20260424T133439Z
CREATED:20260424T133439Z
DTSTART:20230816T235000Z
DTEND:20230817T004000Z
LOCATION:Jessup Premier Field #2
CONTACT:
SUMMARY:Los Duros VS. Tepozan
DESCRIPTION:League Name: Wed Mens Open 2nd II div \nGame Type: Regular\nGam
 e Status: Complete\nHome Team: Los Duros\nAway Team: Tepozan\nHome Score: 
 5\nAway Score: 8
END:VEVENT
BEGIN:VEVENT
UID:15145627@ezleagues.ezfacility.com
DTSTAMP:20260424T133439Z
CREATED:20260424T133439Z
DTSTART:20230824T013000Z
DTEND:20230824T022000Z
LOCATION:Jessup Premier Field #1
CONTACT:
SUMMARY:Los Duros VS. Peso Pesado
DESCRIPTION:League Name: Wed Mens Open 2nd II div \nGame Type: Regular\nGam
 e Status: Complete\nHome Team: Los Duros\nAway Team: Peso Pesado\nHome Sco
 re: 6\nAway Score: 4
END:VEVENT
BEGIN:VEVENT
UID:15196758@ezleagues.ezfacility.com
DTSTAMP:20260424T133439Z
CREATED:20260424T133439Z
DTSTART:20230831T013000Z
DTEND:20230831T021800Z
LOCATION:Jessup Premier Field #2
CONTACT:
SUMMARY:Los Duros VS. Honduras FC
DESCRIPTION:League Name: Wed Mens Open 2nd II div \nGame Type: Regular\nGam
 e Status: Complete\nHome Team: Los Duros\nAway Team: Honduras FC\nHome Sco
 re: 5\nAway Score: 2
END:VEVENT
BEGIN:VEVENT
UID:15204417@ezleagues.ezfacility.com
DTSTAMP:20260424T133439Z
CREATED:20260424T133439Z
DTSTART:20230907T004000Z
DTEND:20230907T012800Z
LOCATION:Jessup Premier Field #1
CONTACT:
SUMMARY:Los Duros VS. Santa Cruz FC
DESCRIPTION:League Name: Wed Mens Open 2nd II div \nGame Type: Regular\nGam
 e Status: Complete\nHome Team: Los Duros\nAway Team: Santa Cruz FC\nHome S
 core: 4\nAway Score: 6
END:VEVENT
END:VCALENDAR
