BEGIN:VCALENDAR
VERSION:2.0
PRODID:-//EZFacility.com, Inc.//EZL 2.5.5.28621
BEGIN:VEVENT
UID:14508769@ezleagues.ezfacility.com
DTSTAMP:20260426T035037Z
CREATED:20260426T035037Z
DTSTART:20220913T030500Z
DTEND:20220913T042000Z
LOCATION:Beaverton IC
CONTACT:
SUMMARY:Molar Bears VS. Blue Flames
DESCRIPTION:League Name: DIV O35 - FALL/WINTER 2022\nGame Type: Regular\nGa
 me Status: Complete\nHome Team: Molar Bears\nAway Team: Blue Flames\nHome 
 Score: 4\nAway Score: 5
END:VEVENT
BEGIN:VEVENT
UID:14508772@ezleagues.ezfacility.com
DTSTAMP:20260426T035037Z
CREATED:20260426T035037Z
DTSTART:20220920T043000Z
DTEND:20220920T054500Z
LOCATION:Beaverton IC
CONTACT:
SUMMARY:Wailers VS. Molar Bears
DESCRIPTION:League Name: DIV O35 - FALL/WINTER 2022\nGame Type: Regular\nGa
 me Status: Complete\nHome Team: Wailers\nAway Team: Molar Bears\nHome Scor
 e: 8\nAway Score: 1
END:VEVENT
BEGIN:VEVENT
UID:14508777@ezleagues.ezfacility.com
DTSTAMP:20260426T035037Z
CREATED:20260426T035037Z
DTSTART:20220927T014000Z
DTEND:20220927T025500Z
LOCATION:Beaverton IC
CONTACT:
SUMMARY:Molar Bears VS. Bushwood CC
DESCRIPTION:League Name: DIV O35 - FALL/WINTER 2022\nGame Type: Regular\nGa
 me Status: Complete\nHome Team: Molar Bears\nAway Team: Bushwood CC\nHome 
 Score: 5\nAway Score: 9
END:VEVENT
BEGIN:VEVENT
UID:14508782@ezleagues.ezfacility.com
DTSTAMP:20260426T035037Z
CREATED:20260426T035037Z
DTSTART:20221004T055500Z
DTEND:20221004T071000Z
LOCATION:Beaverton IC
CONTACT:
SUMMARY:Crown Royals VS. Molar Bears
DESCRIPTION:League Name: DIV O35 - FALL/WINTER 2022\nGame Type: Regular\nGa
 me Status: Complete\nHome Team: Crown Royals\nAway Team: Molar Bears\nHome
  Score: 3\nAway Score: 5
END:VEVENT
BEGIN:VEVENT
UID:14508787@ezleagues.ezfacility.com
DTSTAMP:20260426T035037Z
CREATED:20260426T035037Z
DTSTART:20221011T014000Z
DTEND:20221011T025500Z
LOCATION:Beaverton IC
CONTACT:
SUMMARY:Pink VS. Molar Bears
DESCRIPTION:League Name: DIV O35 - FALL/WINTER 2022\nGame Type: Regular\nGa
 me Status: Complete\nHome Team: Pink\nAway Team: Molar Bears\nHome Score: 
 4\nAway Score: 1
END:VEVENT
BEGIN:VEVENT
UID:14508791@ezleagues.ezfacility.com
DTSTAMP:20260426T035037Z
CREATED:20260426T035037Z
DTSTART:20221018T030500Z
DTEND:20221018T042000Z
LOCATION:Beaverton IC
CONTACT:
SUMMARY:Old Bones VS. Molar Bears
DESCRIPTION:League Name: DIV O35 - FALL/WINTER 2022\nGame Type: Regular\nGa
 me Status: Complete\nHome Team: Old Bones\nAway Team: Molar Bears\nHome Sc
 ore: 6\nAway Score: 3
END:VEVENT
BEGIN:VEVENT
UID:14508794@ezleagues.ezfacility.com
DTSTAMP:20260426T035037Z
CREATED:20260426T035037Z
DTSTART:20221025T014000Z
DTEND:20221025T025500Z
LOCATION:Beaverton IC
CONTACT:
SUMMARY:District VS. Molar Bears
DESCRIPTION:League Name: DIV O35 - FALL/WINTER 2022\nGame Type: Regular\nGa
 me Status: Complete\nHome Team: District\nAway Team: Molar Bears\nHome Sco
 re: 2\nAway Score: 4
END:VEVENT
BEGIN:VEVENT
UID:14508797@ezleagues.ezfacility.com
DTSTAMP:20260426T035037Z
CREATED:20260426T035037Z
DTSTART:20221101T055500Z
DTEND:20221101T071000Z
LOCATION:Beaverton IC
CONTACT:
SUMMARY:Blue Flames VS. Molar Bears
DESCRIPTION:League Name: DIV O35 - FALL/WINTER 2022\nGame Type: Regular\nGa
 me Status: Complete\nHome Team: Blue Flames\nAway Team: Molar Bears\nHome 
 Score: 6\nAway Score: 7
END:VEVENT
BEGIN:VEVENT
UID:14508800@ezleagues.ezfacility.com
DTSTAMP:20260426T035037Z
CREATED:20260426T035037Z
DTSTART:20221108T053000Z
DTEND:20221108T064500Z
LOCATION:Beaverton IC
CONTACT:
SUMMARY:Molar Bears VS. Wailers
DESCRIPTION:League Name: DIV O35 - FALL/WINTER 2022\nGame Type: Regular\nGa
 me Status: Complete\nHome Team: Molar Bears\nAway Team: Wailers\nHome Scor
 e: 5\nAway Score: 4
END:VEVENT
BEGIN:VEVENT
UID:14508805@ezleagues.ezfacility.com
DTSTAMP:20260426T035037Z
CREATED:20260426T035037Z
DTSTART:20221115T040500Z
DTEND:20221115T052000Z
LOCATION:Beaverton IC
CONTACT:
SUMMARY:Molar Bears VS. Bushwood CC
DESCRIPTION:League Name: DIV O35 - FALL/WINTER 2022\nGame Type: Regular\nGa
 me Status: Complete\nHome Team: Molar Bears\nAway Team: Bushwood CC\nHome 
 Score: 2\nAway Score: 8
END:VEVENT
BEGIN:VEVENT
UID:14508810@ezleagues.ezfacility.com
DTSTAMP:20260426T035037Z
CREATED:20260426T035037Z
DTSTART:20221122T024000Z
DTEND:20221122T035500Z
LOCATION:Beaverton IC
CONTACT:
SUMMARY:Molar Bears VS. Crown Royals
DESCRIPTION:League Name: DIV O35 - FALL/WINTER 2022\nGame Type: Regular\nGa
 me Status: Complete\nHome Team: Molar Bears\nAway Team: Crown Royals\nHome
  Score: 5\nAway Score: 4
END:VEVENT
BEGIN:VEVENT
UID:14508815@ezleagues.ezfacility.com
DTSTAMP:20260426T035037Z
CREATED:20260426T035037Z
DTSTART:20221129T065500Z
DTEND:20221129T081000Z
LOCATION:Beaverton IC
CONTACT:
SUMMARY:Molar Bears VS. Pink
DESCRIPTION:League Name: DIV O35 - FALL/WINTER 2022\nGame Type: Regular\nGa
 me Status: Complete\nHome Team: Molar Bears\nAway Team: Pink\nHome Score: 
 5\nAway Score: 3
END:VEVENT
BEGIN:VEVENT
UID:14508819@ezleagues.ezfacility.com
DTSTAMP:20260426T035037Z
CREATED:20260426T035037Z
DTSTART:20221206T065500Z
DTEND:20221206T081000Z
LOCATION:Beaverton IC
CONTACT:
SUMMARY:Molar Bears VS. Old Bones
DESCRIPTION:League Name: DIV O35 - FALL/WINTER 2022\nGame Type: Postseason\
 nGame Status: Complete\nHome Team: Molar Bears\nAway Team: Old Bones\nHome
  Score: 3\nAway Score: 6
END:VEVENT
END:VCALENDAR
