BEGIN:VCALENDAR
VERSION:2.0
PRODID:-//EZFacility.com, Inc.//EZL 2.5.5.28621
BEGIN:VEVENT
UID:14519660@ezleagues.ezfacility.com
DTSTAMP:20260423T071357Z
CREATED:20260423T071357Z
DTSTART:20220819T035500Z
DTEND:20220819T051000Z
LOCATION:West Rink
CONTACT:
SUMMARY:Llamakaze VS. Kings
DESCRIPTION:League Name: Weeknight C (start date 8/16/22)\nGame Type: Regul
 ar\nGame Status: Complete\nHome Team: Llamakaze\nAway Team: Kings\nHome Sc
 ore: 2\nAway Score: 5
END:VEVENT
BEGIN:VEVENT
UID:14519667@ezleagues.ezfacility.com
DTSTAMP:20260423T071357Z
CREATED:20260423T071357Z
DTSTART:20220824T190000Z
DTEND:20220824T200000Z
LOCATION:TBD
CONTACT:
SUMMARY:BYE VS. Kings
DESCRIPTION:League Name: Weeknight C (start date 8/16/22)\nGame Type: Regul
 ar\nGame Status: Pending\nHome Team: BYE\nAway Team: Kings\n
END:VEVENT
BEGIN:VEVENT
UID:14519674@ezleagues.ezfacility.com
DTSTAMP:20260423T071357Z
CREATED:20260423T071357Z
DTSTART:20220902T034500Z
DTEND:20220902T050000Z
LOCATION:East Rink
CONTACT:
SUMMARY:Free Agents VS. Kings
DESCRIPTION:League Name: Weeknight C (start date 8/16/22)\nGame Type: Regul
 ar\nGame Status: Complete\nHome Team: Free Agents\nAway Team: Kings\nHome 
 Score: 1\nAway Score: 5
END:VEVENT
BEGIN:VEVENT
UID:14519680@ezleagues.ezfacility.com
DTSTAMP:20260423T071357Z
CREATED:20260423T071357Z
DTSTART:20220909T034500Z
DTEND:20220909T050000Z
LOCATION:West Rink
CONTACT:
SUMMARY:Kings VS. Hooligans
DESCRIPTION:League Name: Weeknight C (start date 8/16/22)\nGame Type: Regul
 ar\nGame Status: Complete\nHome Team: Kings\nAway Team: Hooligans\nHome Sc
 ore: 11\nAway Score: 6
END:VEVENT
BEGIN:VEVENT
UID:14519685@ezleagues.ezfacility.com
DTSTAMP:20260423T071357Z
CREATED:20260423T071357Z
DTSTART:20220916T034500Z
DTEND:20220916T050000Z
LOCATION:East Rink
CONTACT:
SUMMARY:Kings VS. Pylons
DESCRIPTION:League Name: Weeknight C (start date 8/16/22)\nGame Type: Regul
 ar\nGame Status: Complete\nHome Team: Kings\nAway Team: Pylons\nHome Score
 : 9\nAway Score: 4
END:VEVENT
BEGIN:VEVENT
UID:14519690@ezleagues.ezfacility.com
DTSTAMP:20260423T071357Z
CREATED:20260423T071357Z
DTSTART:20220923T034500Z
DTEND:20220923T050000Z
LOCATION:East Rink
CONTACT:
SUMMARY:Kings VS. Wraparound
DESCRIPTION:League Name: Weeknight C (start date 8/16/22)\nGame Type: Regul
 ar\nGame Status: Pending\nHome Team: Kings\nAway Team: Wraparound\n
END:VEVENT
BEGIN:VEVENT
UID:14519695@ezleagues.ezfacility.com
DTSTAMP:20260423T071357Z
CREATED:20260423T071357Z
DTSTART:20220930T035500Z
DTEND:20220930T051000Z
LOCATION:West Rink
CONTACT:
SUMMARY:Kings VS. Llamakaze
DESCRIPTION:League Name: Weeknight C (start date 8/16/22)\nGame Type: Regul
 ar\nGame Status: Complete\nHome Team: Kings\nAway Team: Llamakaze\nHome Sc
 ore: 9\nAway Score: 2
END:VEVENT
BEGIN:VEVENT
UID:14519700@ezleagues.ezfacility.com
DTSTAMP:20260423T071357Z
CREATED:20260423T071357Z
DTSTART:20221007T034500Z
DTEND:20221007T050000Z
LOCATION:East Rink
CONTACT:
SUMMARY:Kings VS. Vicious Pickles
DESCRIPTION:League Name: Weeknight C (start date 8/16/22)\nGame Type: Regul
 ar\nGame Status: Complete\nHome Team: Kings\nAway Team: Vicious Pickles\nH
 ome Score: 1\nAway Score: 0
END:VEVENT
BEGIN:VEVENT
UID:14519705@ezleagues.ezfacility.com
DTSTAMP:20260423T071357Z
CREATED:20260423T071357Z
DTSTART:20221012T035500Z
DTEND:20221012T051000Z
LOCATION:West Rink
CONTACT:
SUMMARY:Mark It Zero VS. Kings
DESCRIPTION:League Name: Weeknight C (start date 8/16/22)\nGame Type: Regul
 ar\nGame Status: Pending\nHome Team: Mark It Zero\nAway Team: Kings\n
END:VEVENT
BEGIN:VEVENT
UID:14519712@ezleagues.ezfacility.com
DTSTAMP:20260423T071357Z
CREATED:20260423T071357Z
DTSTART:20221021T034500Z
DTEND:20221021T050000Z
LOCATION:East Rink
CONTACT:
SUMMARY:Kraken White VS. Kings
DESCRIPTION:League Name: Weeknight C (start date 8/16/22)\nGame Type: Regul
 ar\nGame Status: Pending\nHome Team: Kraken White\nAway Team: Kings\n
END:VEVENT
BEGIN:VEVENT
UID:14519719@ezleagues.ezfacility.com
DTSTAMP:20260423T071357Z
CREATED:20260423T071357Z
DTSTART:20221028T035500Z
DTEND:20221028T051000Z
LOCATION:West Rink
CONTACT:
SUMMARY:Platinum Group VS. Kings
DESCRIPTION:League Name: Weeknight C (start date 8/16/22)\nGame Type: Regul
 ar\nGame Status: Pending\nHome Team: Platinum Group\nAway Team: Kings\n
END:VEVENT
BEGIN:VEVENT
UID:14519726@ezleagues.ezfacility.com
DTSTAMP:20260423T071357Z
CREATED:20260423T071357Z
DTSTART:20221104T035500Z
DTEND:20221104T051000Z
LOCATION:West Rink
CONTACT:
SUMMARY:Kings VS. Llamakaze
DESCRIPTION:League Name: Weeknight C (start date 8/16/22)\nGame Type: Regul
 ar\nGame Status: Pending\nHome Team: Kings\nAway Team: Llamakaze\n
END:VEVENT
BEGIN:VEVENT
UID:14519733@ezleagues.ezfacility.com
DTSTAMP:20260423T071357Z
CREATED:20260423T071357Z
DTSTART:20221109T200000Z
DTEND:20221109T210000Z
LOCATION:BYE
CONTACT:
SUMMARY:Kings VS. BYE
DESCRIPTION:League Name: Weeknight C (start date 8/16/22)\nGame Type: Regul
 ar\nGame Status: Pending\nHome Team: Kings\nAway Team: BYE\n
END:VEVENT
BEGIN:VEVENT
UID:14519740@ezleagues.ezfacility.com
DTSTAMP:20260423T071357Z
CREATED:20260423T071357Z
DTSTART:20221118T044500Z
DTEND:20221118T060000Z
LOCATION:East Rink
CONTACT:
SUMMARY:Kings VS. Free Agents
DESCRIPTION:League Name: Weeknight C (start date 8/16/22)\nGame Type: Regul
 ar\nGame Status: Pending\nHome Team: Kings\nAway Team: Free Agents\n
END:VEVENT
BEGIN:VEVENT
UID:14519746@ezleagues.ezfacility.com
DTSTAMP:20260423T071357Z
CREATED:20260423T071357Z
DTSTART:20221202T044500Z
DTEND:20221202T060000Z
LOCATION:East Rink
CONTACT:
SUMMARY:Hooligans VS. Kings
DESCRIPTION:League Name: Weeknight C (start date 8/16/22)\nGame Type: Regul
 ar\nGame Status: Pending\nHome Team: Hooligans\nAway Team: Kings\n
END:VEVENT
BEGIN:VEVENT
UID:14519751@ezleagues.ezfacility.com
DTSTAMP:20260423T071357Z
CREATED:20260423T071357Z
DTSTART:20221209T045500Z
DTEND:20221209T061000Z
LOCATION:West Rink
CONTACT:
SUMMARY:Pylons VS. Kings
DESCRIPTION:League Name: Weeknight C (start date 8/16/22)\nGame Type: Regul
 ar\nGame Status: Complete\nHome Team: Pylons\nAway Team: Kings\nHome Score
 : 6\nAway Score: 7
END:VEVENT
BEGIN:VEVENT
UID:14519756@ezleagues.ezfacility.com
DTSTAMP:20260423T071357Z
CREATED:20260423T071357Z
DTSTART:20221214T044500Z
DTEND:20221214T060000Z
LOCATION:East Rink
CONTACT:
SUMMARY:Wraparound VS. Kings
DESCRIPTION:League Name: Weeknight C (start date 8/16/22)\nGame Type: Regul
 ar\nGame Status: Pending\nHome Team: Wraparound\nAway Team: Kings\n
END:VEVENT
BEGIN:VEVENT
UID:14519766@ezleagues.ezfacility.com
DTSTAMP:20260423T071357Z
CREATED:20260423T071357Z
DTSTART:20221221T044500Z
DTEND:20221221T060000Z
LOCATION:West Rink
CONTACT:
SUMMARY:Vicious Pickles VS. Kings
DESCRIPTION:League Name: Weeknight C (start date 8/16/22)\nGame Type: Regul
 ar\nGame Status: Pending\nHome Team: Vicious Pickles\nAway Team: Kings\n
END:VEVENT
BEGIN:VEVENT
UID:14519771@ezleagues.ezfacility.com
DTSTAMP:20260423T071357Z
CREATED:20260423T071357Z
DTSTART:20221228T200000Z
DTEND:20221228T210000Z
LOCATION:BYE
CONTACT:
SUMMARY:Kings VS. BYE
DESCRIPTION:League Name: Weeknight C (start date 8/16/22)\nGame Type: Regul
 ar\nGame Status: Pending\nHome Team: Kings\nAway Team: BYE\n
END:VEVENT
BEGIN:VEVENT
UID:14519778@ezleagues.ezfacility.com
DTSTAMP:20260423T071357Z
CREATED:20260423T071357Z
DTSTART:20230106T044500Z
DTEND:20230106T060000Z
LOCATION:East Rink
CONTACT:
SUMMARY:Kings VS. Kraken White
DESCRIPTION:League Name: Weeknight C (start date 8/16/22)\nGame Type: Regul
 ar\nGame Status: Pending\nHome Team: Kings\nAway Team: Kraken White\n
END:VEVENT
BEGIN:VEVENT
UID:14519785@ezleagues.ezfacility.com
DTSTAMP:20260423T071357Z
CREATED:20260423T071357Z
DTSTART:20230113T045500Z
DTEND:20230113T061000Z
LOCATION:West Rink
CONTACT:
SUMMARY:Kings VS. Platinum Group
DESCRIPTION:League Name: Weeknight C (start date 8/16/22)\nGame Type: Regul
 ar\nGame Status: Pending\nHome Team: Kings\nAway Team: Platinum Group\n
END:VEVENT
BEGIN:VEVENT
UID:14519761@ezleagues.ezfacility.com
DTSTAMP:20260423T071357Z
CREATED:20260423T071357Z
DTSTART:20230120T045500Z
DTEND:20230120T061000Z
LOCATION:West Rink
CONTACT:
SUMMARY:Puck Uglies VS. Kings
DESCRIPTION:League Name: Weeknight C (start date 8/16/22)\nGame Type: Regul
 ar\nGame Status: Pending\nHome Team: Puck Uglies\nAway Team: Kings\n
END:VEVENT
BEGIN:VEVENT
UID:14885789@ezleagues.ezfacility.com
DTSTAMP:20260423T071357Z
CREATED:20260423T071357Z
DTSTART:20230127T045500Z
DTEND:20230127T061000Z
LOCATION:West Rink
CONTACT:
SUMMARY:Kings VS. Llamakaze
DESCRIPTION:League Name: Weeknight C (start date 8/16/22)\nGame Type: Regul
 ar\nGame Status: Pending\nHome Team: Kings\nAway Team: Llamakaze\n
END:VEVENT
BEGIN:VEVENT
UID:14899220@ezleagues.ezfacility.com
DTSTAMP:20260423T071357Z
CREATED:20260423T071357Z
DTSTART:20230203T045500Z
DTEND:20230203T061000Z
LOCATION:West Rink
CONTACT:
SUMMARY:Kings VS. Free Agents
DESCRIPTION:League Name: Weeknight C (start date 8/16/22)\nGame Type: Regul
 ar\nGame Status: Pending\nHome Team: Kings\nAway Team: Free Agents\n
END:VEVENT
BEGIN:VEVENT
UID:14909256@ezleagues.ezfacility.com
DTSTAMP:20260423T071357Z
CREATED:20260423T071357Z
DTSTART:20230210T044500Z
DTEND:20230210T060000Z
LOCATION:East Rink
CONTACT:
SUMMARY:Hooligans VS. Kings
DESCRIPTION:League Name: Weeknight C (start date 8/16/22)\nGame Type: Regul
 ar\nGame Status: Pending\nHome Team: Hooligans\nAway Team: Kings\n
END:VEVENT
BEGIN:VEVENT
UID:14921714@ezleagues.ezfacility.com
DTSTAMP:20260423T071357Z
CREATED:20260423T071357Z
DTSTART:20230217T044500Z
DTEND:20230217T060000Z
LOCATION:West Rink
CONTACT:
SUMMARY:Pylons VS. Kings
DESCRIPTION:League Name: Weeknight C (start date 8/16/22)\nGame Type: Regul
 ar\nGame Status: Pending\nHome Team: Pylons\nAway Team: Kings\n
END:VEVENT
BEGIN:VEVENT
UID:14935040@ezleagues.ezfacility.com
DTSTAMP:20260423T071357Z
CREATED:20260423T071357Z
DTSTART:20230224T045500Z
DTEND:20230224T061000Z
LOCATION:East Rink
CONTACT:
SUMMARY:Wraparound VS. Kings
DESCRIPTION:League Name: Weeknight C (start date 8/16/22)\nGame Type: Regul
 ar\nGame Status: Pending\nHome Team: Wraparound\nAway Team: Kings\n
END:VEVENT
END:VCALENDAR
