BEGIN:VCALENDAR
VERSION:2.0
PRODID:-//EZFacility.com, Inc.//EZL 2.5.5.28621
BEGIN:VEVENT
UID:14519661@ezleagues.ezfacility.com
DTSTAMP:20260424T045221Z
CREATED:20260424T045221Z
DTSTART:20220817T034500Z
DTEND:20220817T050000Z
LOCATION:East Rink
CONTACT:
SUMMARY:Puck Uglies VS. Free Agents
DESCRIPTION:League Name: Weeknight C (start date 8/16/22)\nGame Type: Regul
 ar\nGame Status: Complete\nHome Team: Puck Uglies\nAway Team: Free Agents\
 nHome Score: 2\nAway Score: 8
END:VEVENT
BEGIN:VEVENT
UID:14519666@ezleagues.ezfacility.com
DTSTAMP:20260424T045221Z
CREATED:20260424T045221Z
DTSTART:20220826T034500Z
DTEND:20220826T050000Z
LOCATION:East Rink
CONTACT:
SUMMARY:Puck Uglies VS. Platinum Group
DESCRIPTION:League Name: Weeknight C (start date 8/16/22)\nGame Type: Regul
 ar\nGame Status: Complete\nHome Team: Puck Uglies\nAway Team: Platinum Gro
 up\nHome Score: 2\nAway Score: 10
END:VEVENT
BEGIN:VEVENT
UID:14519671@ezleagues.ezfacility.com
DTSTAMP:20260424T045221Z
CREATED:20260424T045221Z
DTSTART:20220902T035500Z
DTEND:20220902T051000Z
LOCATION:West Rink
CONTACT:
SUMMARY:Puck Uglies VS. Pylons
DESCRIPTION:League Name: Weeknight C (start date 8/16/22)\nGame Type: Regul
 ar\nGame Status: Pending\nHome Team: Puck Uglies\nAway Team: Pylons\n
END:VEVENT
BEGIN:VEVENT
UID:14519676@ezleagues.ezfacility.com
DTSTAMP:20260424T045221Z
CREATED:20260424T045221Z
DTSTART:20220908T034500Z
DTEND:20220908T050000Z
LOCATION:East Rink
CONTACT:
SUMMARY:Puck Uglies VS. Wraparound
DESCRIPTION:League Name: Weeknight C (start date 8/16/22)\nGame Type: Regul
 ar\nGame Status: Complete\nHome Team: Puck Uglies\nAway Team: Wraparound\n
 Home Score: 1\nAway Score: 6
END:VEVENT
BEGIN:VEVENT
UID:14519681@ezleagues.ezfacility.com
DTSTAMP:20260424T045221Z
CREATED:20260424T045221Z
DTSTART:20220916T035500Z
DTEND:20220916T051000Z
LOCATION:West Rink
CONTACT:
SUMMARY:Mark It Zero VS. Puck Uglies
DESCRIPTION:League Name: Weeknight C (start date 8/16/22)\nGame Type: Regul
 ar\nGame Status: Complete\nHome Team: Mark It Zero\nAway Team: Puck Uglies
 \nHome Score: 8\nAway Score: 3
END:VEVENT
BEGIN:VEVENT
UID:14519692@ezleagues.ezfacility.com
DTSTAMP:20260424T045221Z
CREATED:20260424T045221Z
DTSTART:20220923T024500Z
DTEND:20220923T034500Z
LOCATION:West Rink
CONTACT:
SUMMARY:Puck Uglies VS. Platinum Group
DESCRIPTION:League Name: Weeknight C (start date 8/16/22)\nGame Type: Regul
 ar\nGame Status: Pending\nHome Team: Puck Uglies\nAway Team: Platinum Grou
 p\n
END:VEVENT
BEGIN:VEVENT
UID:14519696@ezleagues.ezfacility.com
DTSTAMP:20260424T045221Z
CREATED:20260424T045221Z
DTSTART:20220930T034500Z
DTEND:20220930T050000Z
LOCATION:East Rink
CONTACT:
SUMMARY:Hooligans VS. Puck Uglies
DESCRIPTION:League Name: Weeknight C (start date 8/16/22)\nGame Type: Regul
 ar\nGame Status: Pending\nHome Team: Hooligans\nAway Team: Puck Uglies\n
END:VEVENT
BEGIN:VEVENT
UID:14519702@ezleagues.ezfacility.com
DTSTAMP:20260424T045221Z
CREATED:20260424T045221Z
DTSTART:20221007T035500Z
DTEND:20221007T051000Z
LOCATION:West Rink
CONTACT:
SUMMARY:Kraken White VS. Puck Uglies
DESCRIPTION:League Name: Weeknight C (start date 8/16/22)\nGame Type: Regul
 ar\nGame Status: Complete\nHome Team: Kraken White\nAway Team: Puck Uglies
 \nHome Score: 4\nAway Score: 2
END:VEVENT
BEGIN:VEVENT
UID:14519709@ezleagues.ezfacility.com
DTSTAMP:20260424T045221Z
CREATED:20260424T045221Z
DTSTART:20221014T024500Z
DTEND:20221014T034500Z
LOCATION:West Rink
CONTACT:
SUMMARY:Platinum Group VS. Puck Uglies
DESCRIPTION:League Name: Weeknight C (start date 8/16/22)\nGame Type: Regul
 ar\nGame Status: Pending\nHome Team: Platinum Group\nAway Team: Puck Uglie
 s\n
END:VEVENT
BEGIN:VEVENT
UID:14519716@ezleagues.ezfacility.com
DTSTAMP:20260424T045221Z
CREATED:20260424T045221Z
DTSTART:20221021T024500Z
DTEND:20221021T034500Z
LOCATION:West Rink
CONTACT:
SUMMARY:Llamakaze VS. Puck Uglies
DESCRIPTION:League Name: Weeknight C (start date 8/16/22)\nGame Type: Regul
 ar\nGame Status: Pending\nHome Team: Llamakaze\nAway Team: Puck Uglies\n
END:VEVENT
BEGIN:VEVENT
UID:14519722@ezleagues.ezfacility.com
DTSTAMP:20260424T045221Z
CREATED:20260424T045221Z
DTSTART:20221026T190000Z
DTEND:20221026T200000Z
LOCATION:TBD
CONTACT:
SUMMARY:Puck Uglies VS. BYE
DESCRIPTION:League Name: Weeknight C (start date 8/16/22)\nGame Type: Regul
 ar\nGame Status: Pending\nHome Team: Puck Uglies\nAway Team: BYE\n
END:VEVENT
BEGIN:VEVENT
UID:14519727@ezleagues.ezfacility.com
DTSTAMP:20260424T045221Z
CREATED:20260424T045221Z
DTSTART:20221104T024500Z
DTEND:20221104T034500Z
LOCATION:West Rink
CONTACT:
SUMMARY:Free Agents VS. Puck Uglies
DESCRIPTION:League Name: Weeknight C (start date 8/16/22)\nGame Type: Regul
 ar\nGame Status: Pending\nHome Team: Free Agents\nAway Team: Puck Uglies\n
END:VEVENT
BEGIN:VEVENT
UID:14519732@ezleagues.ezfacility.com
DTSTAMP:20260424T045221Z
CREATED:20260424T045221Z
DTSTART:20221111T044500Z
DTEND:20221111T060000Z
LOCATION:East Rink
CONTACT:
SUMMARY:Hooligans VS. Puck Uglies
DESCRIPTION:League Name: Weeknight C (start date 8/16/22)\nGame Type: Regul
 ar\nGame Status: Pending\nHome Team: Hooligans\nAway Team: Puck Uglies\n
END:VEVENT
BEGIN:VEVENT
UID:14519737@ezleagues.ezfacility.com
DTSTAMP:20260424T045221Z
CREATED:20260424T045221Z
DTSTART:20221118T045500Z
DTEND:20221118T061000Z
LOCATION:West Rink
CONTACT:
SUMMARY:Pylons VS. Puck Uglies
DESCRIPTION:League Name: Weeknight C (start date 8/16/22)\nGame Type: Regul
 ar\nGame Status: Pending\nHome Team: Pylons\nAway Team: Puck Uglies\n
END:VEVENT
BEGIN:VEVENT
UID:14519742@ezleagues.ezfacility.com
DTSTAMP:20260424T045221Z
CREATED:20260424T045221Z
DTSTART:20221202T034500Z
DTEND:20221202T044500Z
LOCATION:West Rink
CONTACT:
SUMMARY:Wraparound VS. Puck Uglies
DESCRIPTION:League Name: Weeknight C (start date 8/16/22)\nGame Type: Regul
 ar\nGame Status: Pending\nHome Team: Wraparound\nAway Team: Puck Uglies\n
END:VEVENT
BEGIN:VEVENT
UID:14519747@ezleagues.ezfacility.com
DTSTAMP:20260424T045221Z
CREATED:20260424T045221Z
DTSTART:20221207T045500Z
DTEND:20221207T061000Z
LOCATION:West Rink
CONTACT:
SUMMARY:Puck Uglies VS. Mark It Zero
DESCRIPTION:League Name: Weeknight C (start date 8/16/22)\nGame Type: Regul
 ar\nGame Status: Complete\nHome Team: Puck Uglies\nAway Team: Mark It Zero
 \nHome Score: 0\nAway Score: 7
END:VEVENT
BEGIN:VEVENT
UID:14519754@ezleagues.ezfacility.com
DTSTAMP:20260424T045221Z
CREATED:20260424T045221Z
DTSTART:20221216T045500Z
DTEND:20221216T061000Z
LOCATION:West Rink
CONTACT:
SUMMARY:Puck Uglies VS. Vicious Pickles
DESCRIPTION:League Name: Weeknight C (start date 8/16/22)\nGame Type: Regul
 ar\nGame Status: Pending\nHome Team: Puck Uglies\nAway Team: Vicious Pickl
 es\n
END:VEVENT
BEGIN:VEVENT
UID:14519768@ezleagues.ezfacility.com
DTSTAMP:20260424T045221Z
CREATED:20260424T045221Z
DTSTART:20221223T044500Z
DTEND:20221223T060000Z
LOCATION:West Rink
CONTACT:
SUMMARY:Puck Uglies VS. Kraken White
DESCRIPTION:League Name: Weeknight C (start date 8/16/22)\nGame Type: Regul
 ar\nGame Status: Pending\nHome Team: Puck Uglies\nAway Team: Kraken White\
 n
END:VEVENT
BEGIN:VEVENT
UID:14519775@ezleagues.ezfacility.com
DTSTAMP:20260424T045221Z
CREATED:20260424T045221Z
DTSTART:20221230T030000Z
DTEND:20221230T041500Z
LOCATION:West Rink
CONTACT:
SUMMARY:Puck Uglies VS. Platinum Group
DESCRIPTION:League Name: Weeknight C (start date 8/16/22)\nGame Type: Regul
 ar\nGame Status: Pending\nHome Team: Puck Uglies\nAway Team: Platinum Grou
 p\n
END:VEVENT
BEGIN:VEVENT
UID:14519782@ezleagues.ezfacility.com
DTSTAMP:20260424T045221Z
CREATED:20260424T045221Z
DTSTART:20230106T045500Z
DTEND:20230106T061000Z
LOCATION:West Rink
CONTACT:
SUMMARY:Puck Uglies VS. Llamakaze
DESCRIPTION:League Name: Weeknight C (start date 8/16/22)\nGame Type: Regul
 ar\nGame Status: Pending\nHome Team: Puck Uglies\nAway Team: Llamakaze\n
END:VEVENT
BEGIN:VEVENT
UID:14519788@ezleagues.ezfacility.com
DTSTAMP:20260424T045221Z
CREATED:20260424T045221Z
DTSTART:20230111T200000Z
DTEND:20230111T211500Z
LOCATION:BYE
CONTACT:
SUMMARY:BYE VS. Puck Uglies
DESCRIPTION:League Name: Weeknight C (start date 8/16/22)\nGame Type: Regul
 ar\nGame Status: Pending\nHome Team: BYE\nAway Team: Puck Uglies\n
END:VEVENT
BEGIN:VEVENT
UID:14519761@ezleagues.ezfacility.com
DTSTAMP:20260424T045221Z
CREATED:20260424T045221Z
DTSTART:20230120T045500Z
DTEND:20230120T061000Z
LOCATION:West Rink
CONTACT:
SUMMARY:Puck Uglies VS. Kings
DESCRIPTION:League Name: Weeknight C (start date 8/16/22)\nGame Type: Regul
 ar\nGame Status: Pending\nHome Team: Puck Uglies\nAway Team: Kings\n
END:VEVENT
BEGIN:VEVENT
UID:14885826@ezleagues.ezfacility.com
DTSTAMP:20260424T045221Z
CREATED:20260424T045221Z
DTSTART:20230127T034500Z
DTEND:20230127T044500Z
LOCATION:West Rink
CONTACT:
SUMMARY:Free Agents VS. Puck Uglies
DESCRIPTION:League Name: Weeknight C (start date 8/16/22)\nGame Type: Regul
 ar\nGame Status: Pending\nHome Team: Free Agents\nAway Team: Puck Uglies\n
END:VEVENT
BEGIN:VEVENT
UID:14899244@ezleagues.ezfacility.com
DTSTAMP:20260424T045221Z
CREATED:20260424T045221Z
DTSTART:20230202T044500Z
DTEND:20230202T060000Z
LOCATION:East Rink
CONTACT:
SUMMARY:Pylons VS. Puck Uglies
DESCRIPTION:League Name: Weeknight C (start date 8/16/22)\nGame Type: Regul
 ar\nGame Status: Pending\nHome Team: Pylons\nAway Team: Puck Uglies\n
END:VEVENT
BEGIN:VEVENT
UID:14909193@ezleagues.ezfacility.com
DTSTAMP:20260424T045221Z
CREATED:20260424T045221Z
DTSTART:20230209T045500Z
DTEND:20230209T061000Z
LOCATION:West Rink
CONTACT:
SUMMARY:Wraparound VS. Puck Uglies
DESCRIPTION:League Name: Weeknight C (start date 8/16/22)\nGame Type: Regul
 ar\nGame Status: Pending\nHome Team: Wraparound\nAway Team: Puck Uglies\n
END:VEVENT
BEGIN:VEVENT
UID:14921716@ezleagues.ezfacility.com
DTSTAMP:20260424T045221Z
CREATED:20260424T045221Z
DTSTART:20230217T033000Z
DTEND:20230217T043000Z
LOCATION:West Rink
CONTACT:
SUMMARY:Puck Uglies VS. Mark It Zero
DESCRIPTION:League Name: Weeknight C (start date 8/16/22)\nGame Type: Regul
 ar\nGame Status: Pending\nHome Team: Puck Uglies\nAway Team: Mark It Zero\
 n
END:VEVENT
BEGIN:VEVENT
UID:14935038@ezleagues.ezfacility.com
DTSTAMP:20260424T045221Z
CREATED:20260424T045221Z
DTSTART:20230222T044500Z
DTEND:20230222T060000Z
LOCATION:East Rink
CONTACT:
SUMMARY:Vicious Pickles VS. Puck Uglies
DESCRIPTION:League Name: Weeknight C (start date 8/16/22)\nGame Type: Regul
 ar\nGame Status: Pending\nHome Team: Vicious Pickles\nAway Team: Puck Ugli
 es\n
END:VEVENT
END:VCALENDAR
