BEGIN:VCALENDAR
VERSION:2.0
PRODID:-//EZFacility.com, Inc.//EZL 2.5.5.28621
BEGIN:VEVENT
UID:14571298@ezleagues.ezfacility.com
DTSTAMP:20260426T035038Z
CREATED:20260426T035038Z
DTSTART:20220923T231000Z
DTEND:20220924T001000Z
LOCATION:Premier Sports Court 1
CONTACT:
SUMMARY:DS Bulls VS. Develup Riefenstahl
DESCRIPTION:League Name: 2022 Premier Basketball 7th Grade Boys Fall League
 \nGame Type: Regular\nGame Status: Complete\nHome Team: DS Bulls\nAway Tea
 m: Develup Riefenstahl\nHome Score: 58\nAway Score: 11
END:VEVENT
BEGIN:VEVENT
UID:14578976@ezleagues.ezfacility.com
DTSTAMP:20260426T035038Z
CREATED:20260426T035038Z
DTSTART:20221001T002500Z
DTEND:20221001T012500Z
LOCATION:SUSA Smithtown 
CONTACT:
SUMMARY:Premier Samolis VS. Develup Riefenstahl
DESCRIPTION:League Name: 2022 Premier Basketball 7th Grade Boys Fall League
 \nGame Type: Regular\nGame Status: Complete\nHome Team: Premier Samolis\nA
 way Team: Develup Riefenstahl\nHome Score: 45\nAway Score: 21
END:VEVENT
BEGIN:VEVENT
UID:14577845@ezleagues.ezfacility.com
DTSTAMP:20260426T035038Z
CREATED:20260426T035038Z
DTSTART:20221001T182500Z
DTEND:20221001T192500Z
LOCATION:Premier Sports Court 2
CONTACT:
SUMMARY:Castle Elite VS. Develup Riefenstahl
DESCRIPTION:League Name: 2022 Premier Basketball 7th Grade Boys Fall League
 \nGame Type: Regular\nGame Status: Complete\nHome Team: Castle Elite\nAway
  Team: Develup Riefenstahl\nHome Score: 52\nAway Score: 20
END:VEVENT
BEGIN:VEVENT
UID:14589495@ezleagues.ezfacility.com
DTSTAMP:20260426T035038Z
CREATED:20260426T035038Z
DTSTART:20221007T002000Z
DTEND:20221007T012000Z
LOCATION:SUSA Smithtown 
CONTACT:
SUMMARY:Empire Serrano VS. Develup Riefenstahl
DESCRIPTION:League Name: 2022 Premier Basketball 7th Grade Boys Fall League
 \nGame Type: Regular\nGame Status: Complete\nHome Team: Empire Serrano\nAw
 ay Team: Develup Riefenstahl\nHome Score: 30\nAway Score: 27
END:VEVENT
BEGIN:VEVENT
UID:14591980@ezleagues.ezfacility.com
DTSTAMP:20260426T035038Z
CREATED:20260426T035038Z
DTSTART:20221009T172000Z
DTEND:20221009T182000Z
LOCATION:SUSA Smithtown 
CONTACT:
SUMMARY:Empire Tousignant VS. Develup Riefenstahl
DESCRIPTION:League Name: 2022 Premier Basketball 7th Grade Boys Fall League
 \nGame Type: Regular\nGame Status: Complete\nHome Team: Empire Tousignant\
 nAway Team: Develup Riefenstahl\nHome Score: 43\nAway Score: 19
END:VEVENT
END:VCALENDAR
