BEGIN:VCALENDAR
VERSION:2.0
PRODID:-//EZFacility.com, Inc.//EZL 2.5.5.28621
BEGIN:VEVENT
UID:14548117@ezleagues.ezfacility.com
DTSTAMP:20260424T044328Z
CREATED:20260424T044328Z
DTSTART:20220910T190000Z
DTEND:20220910T200000Z
LOCATION:Turf 1
CONTACT:
SUMMARY:Bills (k-3) VS. Steelers (k-3)
DESCRIPTION:League Name: Youth Flag Football Fall 2022\nGame Type: Regular\
 nGame Status: Complete\nHome Team: Bills (k-3)\nAway Team: Steelers (k-3)\
 nHome Score: 35\nAway Score: 28
END:VEVENT
BEGIN:VEVENT
UID:14548125@ezleagues.ezfacility.com
DTSTAMP:20260424T044328Z
CREATED:20260424T044328Z
DTSTART:20220917T190000Z
DTEND:20220917T200000Z
LOCATION:Turf 1
CONTACT:
SUMMARY:Patriots (k-3) VS. Bills (k-3)
DESCRIPTION:League Name: Youth Flag Football Fall 2022\nGame Type: Regular\
 nGame Status: Complete\nHome Team: Patriots (k-3)\nAway Team: Bills (k-3)\
 nHome Score: 18\nAway Score: 28
END:VEVENT
BEGIN:VEVENT
UID:14548132@ezleagues.ezfacility.com
DTSTAMP:20260424T044328Z
CREATED:20260424T044328Z
DTSTART:20220924T190000Z
DTEND:20220924T200000Z
LOCATION:Turf 1
CONTACT:
SUMMARY:Chiefs (k-3) VS. Bills (k-3)
DESCRIPTION:League Name: Youth Flag Football Fall 2022\nGame Type: Regular\
 nGame Status: Complete\nHome Team: Chiefs (k-3)\nAway Team: Bills (k-3)\nH
 ome Score: 38\nAway Score: 6
END:VEVENT
BEGIN:VEVENT
UID:14548140@ezleagues.ezfacility.com
DTSTAMP:20260424T044328Z
CREATED:20260424T044328Z
DTSTART:20221001T190000Z
DTEND:20221001T200000Z
LOCATION:Turf 1
CONTACT:
SUMMARY:Bills (k-3) VS. Steelers (k-3)
DESCRIPTION:League Name: Youth Flag Football Fall 2022\nGame Type: Regular\
 nGame Status: Complete\nHome Team: Bills (k-3)\nAway Team: Steelers (k-3)\
 nHome Score: 31\nAway Score: 26
END:VEVENT
BEGIN:VEVENT
UID:14548145@ezleagues.ezfacility.com
DTSTAMP:20260424T044328Z
CREATED:20260424T044328Z
DTSTART:20221008T200000Z
DTEND:20221008T210000Z
LOCATION:Turf 1
CONTACT:
SUMMARY:Bills (k-3) VS. Patriots (k-3)
DESCRIPTION:League Name: Youth Flag Football Fall 2022\nGame Type: Regular\
 nGame Status: Complete\nHome Team: Bills (k-3)\nAway Team: Patriots (k-3)\
 nHome Score: 12\nAway Score: 19
END:VEVENT
BEGIN:VEVENT
UID:14548151@ezleagues.ezfacility.com
DTSTAMP:20260424T044328Z
CREATED:20260424T044328Z
DTSTART:20221015T200000Z
DTEND:20221015T210000Z
LOCATION:Turf 1
CONTACT:
SUMMARY:Chiefs (k-3) VS. Bills (k-3)
DESCRIPTION:League Name: Youth Flag Football Fall 2022\nGame Type: Regular\
 nGame Status: Complete\nHome Team: Chiefs (k-3)\nAway Team: Bills (k-3)\nH
 ome Score: 42\nAway Score: 18
END:VEVENT
BEGIN:VEVENT
UID:14548153@ezleagues.ezfacility.com
DTSTAMP:20260424T044328Z
CREATED:20260424T044328Z
DTSTART:20221022T190000Z
DTEND:20221022T200000Z
LOCATION:Turf 1
CONTACT:
SUMMARY:Steelers (k-3) VS. Bills (k-3)
DESCRIPTION:League Name: Youth Flag Football Fall 2022\nGame Type: Regular\
 nGame Status: Complete\nHome Team: Steelers (k-3)\nAway Team: Bills (k-3)\
 nHome Score: 51\nAway Score: 26
END:VEVENT
BEGIN:VEVENT
UID:14548161@ezleagues.ezfacility.com
DTSTAMP:20260424T044328Z
CREATED:20260424T044328Z
DTSTART:20221029T200000Z
DTEND:20221029T210000Z
LOCATION:Turf 1
CONTACT:
SUMMARY:Bills (k-3) VS. Patriots (k-3)
DESCRIPTION:League Name: Youth Flag Football Fall 2022\nGame Type: Regular\
 nGame Status: Complete\nHome Team: Bills (k-3)\nAway Team: Patriots (k-3)\
 nHome Score: 6\nAway Score: 37
END:VEVENT
BEGIN:VEVENT
UID:14661951@ezleagues.ezfacility.com
DTSTAMP:20260424T044328Z
CREATED:20260424T044328Z
DTSTART:20221105T200000Z
DTEND:20221105T210000Z
LOCATION:Turf 1
CONTACT:
SUMMARY:Patriots (k-3) VS. Bills (k-3)
DESCRIPTION:League Name: Youth Flag Football Fall 2022\nGame Type: Regular\
 nGame Status: Complete\nHome Team: Patriots (k-3)\nAway Team: Bills (k-3)\
 nHome Score: 45\nAway Score: 6
END:VEVENT
END:VCALENDAR
