BEGIN:VCALENDAR
VERSION:2.0
PRODID:-//EZFacility.com, Inc.//EZL 2.5.5.28621
BEGIN:VEVENT
UID:14761944@ezleagues.ezfacility.com
DTSTAMP:20260425T125902Z
CREATED:20260425T125902Z
DTSTART:20221209T220000Z
DTEND:20221209T230000Z
LOCATION:Harmans Premier Field #4
CONTACT:
SUMMARY:2007 TKFC Gray VS. 2006 United Rangers FC
DESCRIPTION:League Name: Youth (WINTER 1) 2022-23 SD1 M-F HS Boys D1\nGame 
 Type: Regular\nGame Status: Complete\nHome Team: 2007 TKFC Gray\nAway Team
 : 2006 United Rangers FC\nHome Score: 4\nAway Score: 6
END:VEVENT
BEGIN:VEVENT
UID:14761952@ezleagues.ezfacility.com
DTSTAMP:20260425T125902Z
CREATED:20260425T125902Z
DTSTART:20221216T220000Z
DTEND:20221216T230000Z
LOCATION:Jessup Premier Field #1
CONTACT:
SUMMARY:2007 TKFC Gray VS. 2005 SAC Premier Blue
DESCRIPTION:League Name: Youth (WINTER 1) 2022-23 SD1 M-F HS Boys D1\nGame 
 Type: Regular\nGame Status: Complete\nHome Team: 2007 TKFC Gray\nAway Team
 : 2005 SAC Premier Blue\nHome Score: 2\nAway Score: 6
END:VEVENT
BEGIN:VEVENT
UID:14761976@ezleagues.ezfacility.com
DTSTAMP:20260425T125902Z
CREATED:20260425T125902Z
DTSTART:20230106T220000Z
DTEND:20230106T230000Z
LOCATION:Harmans Premier Field #5
CONTACT:
SUMMARY:Los Chicos VS. 2007 TKFC Gray
DESCRIPTION:League Name: Youth (WINTER 1) 2022-23 SD1 M-F HS Boys D1\nGame 
 Type: Regular\nGame Status: Complete\nHome Team: Los Chicos\nAway Team: 20
 07 TKFC Gray\nHome Score: 6\nAway Score: 3
END:VEVENT
BEGIN:VEVENT
UID:14761983@ezleagues.ezfacility.com
DTSTAMP:20260425T125902Z
CREATED:20260425T125902Z
DTSTART:20230112T230000Z
DTEND:20230113T000000Z
LOCATION:Jessup Premier Field #2
CONTACT:
SUMMARY:Brasileños FC VS. 2007 TKFC Gray
DESCRIPTION:League Name: Youth (WINTER 1) 2022-23 SD1 M-F HS Boys D1\nGame 
 Type: Regular\nGame Status: Complete\nHome Team: Brasileños FC\nAway Team
 : 2007 TKFC Gray\nHome Score: 4\nAway Score: 8
END:VEVENT
BEGIN:VEVENT
UID:14761990@ezleagues.ezfacility.com
DTSTAMP:20260425T125902Z
CREATED:20260425T125902Z
DTSTART:20230120T230000Z
DTEND:20230121T000000Z
LOCATION:Harmans Premier Field #4
CONTACT:
SUMMARY:2007 TKFC Gray VS. Takoma Dreamers SC
DESCRIPTION:League Name: Youth (WINTER 1) 2022-23 SD1 M-F HS Boys D1\nGame 
 Type: Regular\nGame Status: Complete\nHome Team: 2007 TKFC Gray\nAway Team
 : Takoma Dreamers SC\nHome Score: 4\nAway Score: 4
END:VEVENT
BEGIN:VEVENT
UID:14761999@ezleagues.ezfacility.com
DTSTAMP:20260425T125902Z
CREATED:20260425T125902Z
DTSTART:20230126T220000Z
DTEND:20230126T230000Z
LOCATION:Jessup Premier Field #2
CONTACT:
SUMMARY:2007 TKFC Gray VS. Bishop Sycamore
DESCRIPTION:League Name: Youth (WINTER 1) 2022-23 SD1 M-F HS Boys D1\nGame 
 Type: Regular\nGame Status: Complete\nHome Team: 2007 TKFC Gray\nAway Team
 : Bishop Sycamore\nHome Score: 7\nAway Score: 1
END:VEVENT
BEGIN:VEVENT
UID:14761969@ezleagues.ezfacility.com
DTSTAMP:20260425T125902Z
CREATED:20260425T125902Z
DTSTART:20230202T230000Z
DTEND:20230203T000000Z
LOCATION:Jessup Premier Field #2
CONTACT:
SUMMARY:2007 TKFC Black VS. 2007 TKFC Gray
DESCRIPTION:League Name: Youth (WINTER 1) 2022-23 SD1 M-F HS Boys D1\nGame 
 Type: Regular\nGame Status: Complete\nHome Team: 2007 TKFC Black\nAway Tea
 m: 2007 TKFC Gray\nHome Score: 7\nAway Score: 8
END:VEVENT
BEGIN:VEVENT
UID:14761960@ezleagues.ezfacility.com
DTSTAMP:20260425T125902Z
CREATED:20260425T125902Z
DTSTART:20230203T220000Z
DTEND:20230203T230000Z
LOCATION:Jessup Premier Field #1
CONTACT:
SUMMARY:2007 TKFC Black VS. 2007 TKFC Gray
DESCRIPTION:League Name: Youth (WINTER 1) 2022-23 SD1 M-F HS Boys D1\nGame 
 Type: Regular\nGame Status: Complete\nHome Team: 2007 TKFC Black\nAway Tea
 m: 2007 TKFC Gray\nHome Score: 0\nAway Score: 0
END:VEVENT
END:VCALENDAR
