BEGIN:VCALENDAR
VERSION:2.0
PRODID:-//EZFacility.com, Inc.//EZL 2.5.5.28621
BEGIN:VEVENT
UID:14555946@ezleagues.ezfacility.com
DTSTAMP:20260426T034059Z
CREATED:20260426T034059Z
DTSTART:20220921T010000Z
DTEND:20220921T020000Z
LOCATION:Richmond Main Field
CONTACT:
SUMMARY:Invictus FC VS. City United
DESCRIPTION:League Name: Adult Soccer Leagues Men's Competitive - Fall Sess
 ion (2022)\nGame Type: Regular\nGame Status: Complete\nHome Team: Invictus
  FC\nAway Team: City United\nHome Score: 5\nAway Score: 4
END:VEVENT
BEGIN:VEVENT
UID:14555948@ezleagues.ezfacility.com
DTSTAMP:20260426T034059Z
CREATED:20260426T034059Z
DTSTART:20220928T010000Z
DTEND:20220928T020000Z
LOCATION:Eastlake
CONTACT:
SUMMARY:Mentor Futbol VS. Invictus FC
DESCRIPTION:League Name: Adult Soccer Leagues Men's Competitive - Fall Sess
 ion (2022)\nGame Type: Regular\nGame Status: Complete\nHome Team: Mentor F
 utbol\nAway Team: Invictus FC\nHome Score: 5\nAway Score: 4
END:VEVENT
BEGIN:VEVENT
UID:14555950@ezleagues.ezfacility.com
DTSTAMP:20260426T034059Z
CREATED:20260426T034059Z
DTSTART:20221005T010000Z
DTEND:20221005T020000Z
LOCATION:Richmond Main Field
CONTACT:
SUMMARY:Brother VS. Invictus FC
DESCRIPTION:League Name: Adult Soccer Leagues Men's Competitive - Fall Sess
 ion (2022)\nGame Type: Regular\nGame Status: Complete\nHome Team: Brother\
 nAway Team: Invictus FC\nHome Score: 3\nAway Score: 4
END:VEVENT
BEGIN:VEVENT
UID:14555954@ezleagues.ezfacility.com
DTSTAMP:20260426T034059Z
CREATED:20260426T034059Z
DTSTART:20221012T010000Z
DTEND:20221012T020000Z
LOCATION:Richmond Main Field
CONTACT:
SUMMARY:Invictus FC VS. Force
DESCRIPTION:League Name: Adult Soccer Leagues Men's Competitive - Fall Sess
 ion (2022)\nGame Type: Regular\nGame Status: Complete\nHome Team: Invictus
  FC\nAway Team: Force\nHome Score: 1\nAway Score: 2
END:VEVENT
BEGIN:VEVENT
UID:14555961@ezleagues.ezfacility.com
DTSTAMP:20260426T034059Z
CREATED:20260426T034059Z
DTSTART:20221026T000000Z
DTEND:20221026T010000Z
LOCATION:Richmond Main Field
CONTACT:
SUMMARY:City United VS. Invictus FC
DESCRIPTION:League Name: Adult Soccer Leagues Men's Competitive - Fall Sess
 ion (2022)\nGame Type: Regular\nGame Status: Complete\nHome Team: City Uni
 ted\nAway Team: Invictus FC\nHome Score: 4\nAway Score: 2
END:VEVENT
BEGIN:VEVENT
UID:14555963@ezleagues.ezfacility.com
DTSTAMP:20260426T034059Z
CREATED:20260426T034059Z
DTSTART:20221102T003000Z
DTEND:20221102T013000Z
LOCATION:Eastlake
CONTACT:
SUMMARY:Invictus FC VS. Mentor Futbol
DESCRIPTION:League Name: Adult Soccer Leagues Men's Competitive - Fall Sess
 ion (2022)\nGame Type: Regular\nGame Status: Complete\nHome Team: Invictus
  FC\nAway Team: Mentor Futbol\nHome Score: 0\nAway Score: 6
END:VEVENT
BEGIN:VEVENT
UID:14555965@ezleagues.ezfacility.com
DTSTAMP:20260426T034059Z
CREATED:20260426T034059Z
DTSTART:20221109T020000Z
DTEND:20221109T030000Z
LOCATION:Richmond Main Field
CONTACT:
SUMMARY:Invictus FC VS. Brother
DESCRIPTION:League Name: Adult Soccer Leagues Men's Competitive - Fall Sess
 ion (2022)\nGame Type: Regular\nGame Status: Complete\nHome Team: Invictus
  FC\nAway Team: Brother\nHome Score: 5\nAway Score: 4
END:VEVENT
BEGIN:VEVENT
UID:14555969@ezleagues.ezfacility.com
DTSTAMP:20260426T034059Z
CREATED:20260426T034059Z
DTSTART:20221116T020000Z
DTEND:20221116T030000Z
LOCATION:Richmond Main Field
CONTACT:
SUMMARY:Force VS. Invictus FC
DESCRIPTION:League Name: Adult Soccer Leagues Men's Competitive - Fall Sess
 ion (2022)\nGame Type: Regular\nGame Status: Complete\nHome Team: Force\nA
 way Team: Invictus FC\nHome Score: 3\nAway Score: 4
END:VEVENT
END:VCALENDAR
