BEGIN:VCALENDAR
VERSION:2.0
PRODID:-//EZFacility.com, Inc.//EZL 2.5.5.28621
BEGIN:VEVENT
UID:14749606@ezleagues.ezfacility.com
DTSTAMP:20260424T044344Z
CREATED:20260424T044344Z
DTSTART:20221204T171500Z
DTEND:20221204T181000Z
LOCATION:Harmans Premier Field #5
CONTACT:
SUMMARY:2012 Cobras Blue VS. 2012 Baltimore Celtic Marchegiano
DESCRIPTION:League Name: Youth (WINTER 1) 2022-23 SD2 SAT/SUN 2012 Girls\nG
 ame Type: Regular\nGame Status: Complete\nHome Team: 2012 Cobras Blue\nAwa
 y Team: 2012 Baltimore Celtic Marchegiano\nHome Score: 1\nAway Score: 6
END:VEVENT
BEGIN:VEVENT
UID:14749684@ezleagues.ezfacility.com
DTSTAMP:20260424T044344Z
CREATED:20260424T044344Z
DTSTART:20221217T173000Z
DTEND:20221217T182500Z
LOCATION:Harmans Premier Field #4
CONTACT:
SUMMARY:2012 GSPAA White VS. 2012 Baltimore Celtic Marchegiano
DESCRIPTION:League Name: Youth (WINTER 1) 2022-23 SD2 SAT/SUN 2012 Girls\nG
 ame Type: Regular\nGame Status: Complete\nHome Team: 2012 GSPAA White\nAwa
 y Team: 2012 Baltimore Celtic Marchegiano\nHome Score: 1\nAway Score: 6
END:VEVENT
BEGIN:VEVENT
UID:14749796@ezleagues.ezfacility.com
DTSTAMP:20260424T044344Z
CREATED:20260424T044344Z
DTSTART:20230107T163500Z
DTEND:20230107T173000Z
LOCATION:Harmans Premier Field #4
CONTACT:
SUMMARY:2012 Baltimore Celtic Marchegiano VS. 2012 Pasadena Soccer Club Sto
 rm
DESCRIPTION:League Name: Youth (WINTER 1) 2022-23 SD2 SAT/SUN 2012 Girls\nG
 ame Type: Regular\nGame Status: Complete\nHome Team: 2012 Baltimore Celtic
  Marchegiano\nAway Team: 2012 Pasadena Soccer Club Storm\nHome Score: 0\nA
 way Score: 2
END:VEVENT
BEGIN:VEVENT
UID:14749835@ezleagues.ezfacility.com
DTSTAMP:20260424T044344Z
CREATED:20260424T044344Z
DTSTART:20230114T211000Z
DTEND:20230114T220500Z
LOCATION:Harmans Premier Field #5
CONTACT:
SUMMARY:2012 Baltimore Celtic Marchegiano VS. 2012 Academia Glen Burnie Que
 ens
DESCRIPTION:League Name: Youth (WINTER 1) 2022-23 SD2 SAT/SUN 2012 Girls\nG
 ame Type: Regular\nGame Status: Complete\nHome Team: 2012 Baltimore Celtic
  Marchegiano\nAway Team: 2012 Academia Glen Burnie Queens\nHome Score: 5\n
 Away Score: 3
END:VEVENT
BEGIN:VEVENT
UID:14749645@ezleagues.ezfacility.com
DTSTAMP:20260424T044344Z
CREATED:20260424T044344Z
DTSTART:20230116T200000Z
DTEND:20230116T205500Z
LOCATION:Harmans Premier Field #4
CONTACT:
SUMMARY:2012 Baltimore Celtic Marchegiano VS. 2012 Academia Glen Burnie Que
 ens
DESCRIPTION:League Name: Youth (WINTER 1) 2022-23 SD2 SAT/SUN 2012 Girls\nG
 ame Type: Regular\nGame Status: Complete\nHome Team: 2012 Baltimore Celtic
  Marchegiano\nAway Team: 2012 Academia Glen Burnie Queens\nHome Score: 0\n
 Away Score: 5
END:VEVENT
BEGIN:VEVENT
UID:14749874@ezleagues.ezfacility.com
DTSTAMP:20260424T044344Z
CREATED:20260424T044344Z
DTSTART:20230121T125500Z
DTEND:20230121T135000Z
LOCATION:Harmans Premier Field #5
CONTACT:
SUMMARY:2012 Baltimore Celtic Marchegiano VS. 2012 GSPAA White
DESCRIPTION:League Name: Youth (WINTER 1) 2022-23 SD2 SAT/SUN 2012 Girls\nG
 ame Type: Regular\nGame Status: Complete\nHome Team: 2012 Baltimore Celtic
  Marchegiano\nAway Team: 2012 GSPAA White\nHome Score: 8\nAway Score: 1
END:VEVENT
BEGIN:VEVENT
UID:14749722@ezleagues.ezfacility.com
DTSTAMP:20260424T044344Z
CREATED:20260424T044344Z
DTSTART:20230128T173000Z
DTEND:20230128T182500Z
LOCATION:Harmans Premier Field #5
CONTACT:
SUMMARY:2012 Pasadena Soccer Club Storm VS. 2012 Baltimore Celtic Marchegia
 no
DESCRIPTION:League Name: Youth (WINTER 1) 2022-23 SD2 SAT/SUN 2012 Girls\nG
 ame Type: Regular\nGame Status: Complete\nHome Team: 2012 Pasadena Soccer 
 Club Storm\nAway Team: 2012 Baltimore Celtic Marchegiano\nHome Score: 1\nA
 way Score: 3
END:VEVENT
BEGIN:VEVENT
UID:14749759@ezleagues.ezfacility.com
DTSTAMP:20260424T044344Z
CREATED:20260424T044344Z
DTSTART:20230204T220500Z
DTEND:20230204T230000Z
LOCATION:Harmans Premier Field #4
CONTACT:
SUMMARY:2012 Catonsville Cobras Gold VS. 2012 Baltimore Celtic Marchegiano
DESCRIPTION:League Name: Youth (WINTER 1) 2022-23 SD2 SAT/SUN 2012 Girls\nG
 ame Type: Regular\nGame Status: Complete\nHome Team: 2012 Catonsville Cobr
 as Gold\nAway Team: 2012 Baltimore Celtic Marchegiano\nHome Score: 1\nAway
  Score: 0
END:VEVENT
END:VCALENDAR
