BEGIN:VCALENDAR
VERSION:2.0
PRODID:-//EZFacility.com, Inc.//EZL 2.5.5.28621
BEGIN:VEVENT
UID:14899882@ezleagues.ezfacility.com
DTSTAMP:20260424T044340Z
CREATED:20260424T044340Z
DTSTART:20230206T230000Z
DTEND:20230207T000000Z
LOCATION:Harmans Premier Field #4
CONTACT:
SUMMARY:2009 Arsenal  VS. Sting
DESCRIPTION:League Name: Youth (WINTER 2) 2023 SD2 M-F 2008/09 Girls\nGame 
 Type: Regular\nGame Status: Complete\nHome Team: 2009 Arsenal \nAway Team:
  Sting\nHome Score: 2\nAway Score: 4
END:VEVENT
BEGIN:VEVENT
UID:14899896@ezleagues.ezfacility.com
DTSTAMP:20260424T044340Z
CREATED:20260424T044340Z
DTSTART:20230213T220000Z
DTEND:20230213T230000Z
LOCATION:Harmans Premier Field #4
CONTACT:
SUMMARY:2009 HES Phoenix II VS. Sting
DESCRIPTION:League Name: Youth (WINTER 2) 2023 SD2 M-F 2008/09 Girls\nGame 
 Type: Regular\nGame Status: Complete\nHome Team: 2009 HES Phoenix II\nAway
  Team: Sting\nHome Score: 2\nAway Score: 5
END:VEVENT
BEGIN:VEVENT
UID:14899909@ezleagues.ezfacility.com
DTSTAMP:20260424T044340Z
CREATED:20260424T044340Z
DTSTART:20230220T230000Z
DTEND:20230221T000000Z
LOCATION:Harmans Premier Field #4
CONTACT:
SUMMARY:2009 Tsunami VS. Sting
DESCRIPTION:League Name: Youth (WINTER 2) 2023 SD2 M-F 2008/09 Girls\nGame 
 Type: Regular\nGame Status: Complete\nHome Team: 2009 Tsunami\nAway Team: 
 Sting\nHome Score: 0\nAway Score: 5
END:VEVENT
BEGIN:VEVENT
UID:14899922@ezleagues.ezfacility.com
DTSTAMP:20260424T044340Z
CREATED:20260424T044340Z
DTSTART:20230227T230000Z
DTEND:20230228T000000Z
LOCATION:Harmans Premier Field #4
CONTACT:
SUMMARY:Arden Soccer Club VS. Sting
DESCRIPTION:League Name: Youth (WINTER 2) 2023 SD2 M-F 2008/09 Girls\nGame 
 Type: Regular\nGame Status: Complete\nHome Team: Arden Soccer Club\nAway T
 eam: Sting\nHome Score: 1\nAway Score: 5
END:VEVENT
BEGIN:VEVENT
UID:14899935@ezleagues.ezfacility.com
DTSTAMP:20260424T044340Z
CREATED:20260424T044340Z
DTSTART:20230306T220000Z
DTEND:20230306T230000Z
LOCATION:Harmans Premier Field #4
CONTACT:
SUMMARY:Sting VS. 2009 HES Phoenix I
DESCRIPTION:League Name: Youth (WINTER 2) 2023 SD2 M-F 2008/09 Girls\nGame 
 Type: Regular\nGame Status: Complete\nHome Team: Sting\nAway Team: 2009 HE
 S Phoenix I\nHome Score: 3\nAway Score: 2
END:VEVENT
BEGIN:VEVENT
UID:14899950@ezleagues.ezfacility.com
DTSTAMP:20260424T044340Z
CREATED:20260424T044340Z
DTSTART:20230313T210000Z
DTEND:20230313T220000Z
LOCATION:Harmans Premier Field #4
CONTACT:
SUMMARY:Sting VS. 2009 SAC Select Fury
DESCRIPTION:League Name: Youth (WINTER 2) 2023 SD2 M-F 2008/09 Girls\nGame 
 Type: Regular\nGame Status: Complete\nHome Team: Sting\nAway Team: 2009 SA
 C Select Fury\nHome Score: 4\nAway Score: 1
END:VEVENT
BEGIN:VEVENT
UID:14899965@ezleagues.ezfacility.com
DTSTAMP:20260424T044340Z
CREATED:20260424T044340Z
DTSTART:20230320T090000Z
DTEND:20230320T095000Z
LOCATION:Harmans Premier Field #4
CONTACT:
SUMMARY:Sting VS. SP Falcons
DESCRIPTION:League Name: Youth (WINTER 2) 2023 SD2 M-F 2008/09 Girls\nGame 
 Type: Regular\nGame Status: Complete\nHome Team: Sting\nAway Team: SP Falc
 ons\nHome Score: 3\nAway Score: 0
END:VEVENT
BEGIN:VEVENT
UID:14899980@ezleagues.ezfacility.com
DTSTAMP:20260424T044340Z
CREATED:20260424T044340Z
DTSTART:20230327T220000Z
DTEND:20230327T230000Z
LOCATION:Harmans Premier Field #4
CONTACT:
SUMMARY:Sting VS. 2009 Arsenal 
DESCRIPTION:League Name: Youth (WINTER 2) 2023 SD2 M-F 2008/09 Girls\nGame 
 Type: Regular\nGame Status: Complete\nHome Team: Sting\nAway Team: 2009 Ar
 senal \nHome Score: 0\nAway Score: 2
END:VEVENT
END:VCALENDAR
