BEGIN:VCALENDAR
VERSION:2.0
PRODID:-//EZFacility.com, Inc.//EZL 2.5.5.28621
BEGIN:VEVENT
UID:14908878@ezleagues.ezfacility.com
DTSTAMP:20260424T044158Z
CREATED:20260424T044158Z
DTSTART:20230211T133000Z
DTEND:20230211T142500Z
LOCATION:Harmans Premier Field #5
CONTACT:
SUMMARY:2011 NLS Ajax White VS. 2011 FCI Soccer Academy
DESCRIPTION:League Name: Youth (WINTER 2) 2023 SD2 SAT/SUN 2011 Boys\nGame 
 Type: Regular\nGame Status: Complete\nHome Team: 2011 NLS Ajax White\nAway
  Team: 2011 FCI Soccer Academy\nHome Score: 8\nAway Score: 0
END:VEVENT
BEGIN:VEVENT
UID:14908920@ezleagues.ezfacility.com
DTSTAMP:20260424T044158Z
CREATED:20260424T044158Z
DTSTART:20230218T214500Z
DTEND:20230218T224000Z
LOCATION:Harmans Premier Field #4
CONTACT:
SUMMARY:2011 NLS Ajax White VS. 2011/12 FFC Juniors
DESCRIPTION:League Name: Youth (WINTER 2) 2023 SD2 SAT/SUN 2011 Boys\nGame 
 Type: Regular\nGame Status: Complete\nHome Team: 2011 NLS Ajax White\nAway
  Team: 2011/12 FFC Juniors\nHome Score: 2\nAway Score: 8
END:VEVENT
BEGIN:VEVENT
UID:14908962@ezleagues.ezfacility.com
DTSTAMP:20260424T044158Z
CREATED:20260424T044158Z
DTSTART:20230226T140000Z
DTEND:20230226T145500Z
LOCATION:Harmans Premier Field #5
CONTACT:
SUMMARY:2011 Academia Glen Burnie Bengals VS. 2011 NLS Ajax White
DESCRIPTION:League Name: Youth (WINTER 2) 2023 SD2 SAT/SUN 2011 Boys\nGame 
 Type: Regular\nGame Status: Complete\nHome Team: 2011 Academia Glen Burnie
  Bengals\nAway Team: 2011 NLS Ajax White\nHome Score: 6\nAway Score: 3
END:VEVENT
BEGIN:VEVENT
UID:14909004@ezleagues.ezfacility.com
DTSTAMP:20260424T044158Z
CREATED:20260424T044158Z
DTSTART:20230304T133000Z
DTEND:20230304T142500Z
LOCATION:Harmans Premier Field #4
CONTACT:
SUMMARY:2011 NLS Ajax White VS. 2011 Academia Glen Burnie Lions
DESCRIPTION:League Name: Youth (WINTER 2) 2023 SD2 SAT/SUN 2011 Boys\nGame 
 Type: Regular\nGame Status: Complete\nHome Team: 2011 NLS Ajax White\nAway
  Team: 2011 Academia Glen Burnie Lions\nHome Score: 2\nAway Score: 5
END:VEVENT
BEGIN:VEVENT
UID:14946281@ezleagues.ezfacility.com
DTSTAMP:20260424T044158Z
CREATED:20260424T044158Z
DTSTART:20230319T110000Z
DTEND:20230319T115500Z
LOCATION:Harmans Premier Field #5
CONTACT:
SUMMARY:2011 NLS Ajax White VS. 2011 SRYA Seahawks
DESCRIPTION:League Name: Youth (WINTER 2) 2023 SD2 SAT/SUN 2011 Boys\nGame 
 Type: Regular\nGame Status: Complete\nHome Team: 2011 NLS Ajax White\nAway
  Team: 2011 SRYA Seahawks\nHome Score: 2\nAway Score: 8
END:VEVENT
BEGIN:VEVENT
UID:14909087@ezleagues.ezfacility.com
DTSTAMP:20260424T044158Z
CREATED:20260424T044158Z
DTSTART:20230319T150000Z
DTEND:20230319T155500Z
LOCATION:Harmans Premier Field #5
CONTACT:
SUMMARY:2011 Columbia Gold VS. 2011 NLS Ajax White
DESCRIPTION:League Name: Youth (WINTER 2) 2023 SD2 SAT/SUN 2011 Boys\nGame 
 Type: Regular\nGame Status: Complete\nHome Team: 2011 Columbia Gold\nAway 
 Team: 2011 NLS Ajax White\nHome Score: 3\nAway Score: 1
END:VEVENT
BEGIN:VEVENT
UID:14909127@ezleagues.ezfacility.com
DTSTAMP:20260424T044158Z
CREATED:20260424T044158Z
DTSTART:20230326T160000Z
DTEND:20230326T165500Z
LOCATION:Harmans Premier Field #5
CONTACT:
SUMMARY:2011 Broadneck Panthers VS. 2011 NLS Ajax White
DESCRIPTION:League Name: Youth (WINTER 2) 2023 SD2 SAT/SUN 2011 Boys\nGame 
 Type: Regular\nGame Status: Complete\nHome Team: 2011 Broadneck Panthers\n
 Away Team: 2011 NLS Ajax White\nHome Score: 10\nAway Score: 3
END:VEVENT
END:VCALENDAR
