BEGIN:VCALENDAR
VERSION:2.0
PRODID:-//EZFacility.com, Inc.//EZL 2.5.5.28621
BEGIN:VEVENT
UID:14908944@ezleagues.ezfacility.com
DTSTAMP:20260424T044101Z
CREATED:20260424T044101Z
DTSTART:20230218T161500Z
DTEND:20230218T171000Z
LOCATION:Harmans Premier Field #4
CONTACT:
SUMMARY:2014 CiTY Black VS. 2014/15 Maryland International
DESCRIPTION:League Name: Youth (WINTER 2) 2023 SD2 SAT/SUN 2014 Boys \nGame
  Type: Regular\nGame Status: Complete\nHome Team: 2014 CiTY Black\nAway Te
 am: 2014/15 Maryland International\nHome Score: 1\nAway Score: 9
END:VEVENT
BEGIN:VEVENT
UID:14909067@ezleagues.ezfacility.com
DTSTAMP:20260424T044101Z
CREATED:20260424T044101Z
DTSTART:20230220T154000Z
DTEND:20230220T163500Z
LOCATION:Harmans Premier Field #4
CONTACT:
SUMMARY:2014 PSC Force VS. 2014 CiTY Black
DESCRIPTION:League Name: Youth (WINTER 2) 2023 SD2 SAT/SUN 2014 Boys \nGame
  Type: Regular\nGame Status: Complete\nHome Team: 2014 PSC Force\nAway Tea
 m: 2014 CiTY Black\nHome Score: 3\nAway Score: 0
END:VEVENT
BEGIN:VEVENT
UID:14908986@ezleagues.ezfacility.com
DTSTAMP:20260424T044101Z
CREATED:20260424T044101Z
DTSTART:20230225T152000Z
DTEND:20230225T161500Z
LOCATION:Harmans Premier Field #5
CONTACT:
SUMMARY:2014 CiTY Black VS. 2014/15 A3 Newcastle
DESCRIPTION:League Name: Youth (WINTER 2) 2023 SD2 SAT/SUN 2014 Boys \nGame
  Type: Regular\nGame Status: Complete\nHome Team: 2014 CiTY Black\nAway Te
 am: 2014/15 A3 Newcastle\nHome Score: 2\nAway Score: 6
END:VEVENT
BEGIN:VEVENT
UID:14909027@ezleagues.ezfacility.com
DTSTAMP:20260424T044101Z
CREATED:20260424T044101Z
DTSTART:20230305T170000Z
DTEND:20230305T175500Z
LOCATION:Harmans Premier Field #5
CONTACT:
SUMMARY:2014 PSC Crew VS. 2014 CiTY Black
DESCRIPTION:League Name: Youth (WINTER 2) 2023 SD2 SAT/SUN 2014 Boys \nGame
  Type: Regular\nGame Status: Complete\nHome Team: 2014 PSC Crew\nAway Team
 : 2014 CiTY Black\nHome Score: 6\nAway Score: 1
END:VEVENT
BEGIN:VEVENT
UID:14908902@ezleagues.ezfacility.com
DTSTAMP:20260424T044101Z
CREATED:20260424T044101Z
DTSTART:20230325T115500Z
DTEND:20230325T125000Z
LOCATION:Jessup Premier Field #1
CONTACT:
SUMMARY:2014 CiTY Black VS. 2014 Academia Glen Burnie Tigers
DESCRIPTION:League Name: Youth (WINTER 2) 2023 SD2 SAT/SUN 2014 Boys \nGame
  Type: Regular\nGame Status: Complete\nHome Team: 2014 CiTY Black\nAway Te
 am: 2014 Academia Glen Burnie Tigers\nHome Score: 1\nAway Score: 1
END:VEVENT
BEGIN:VEVENT
UID:14909147@ezleagues.ezfacility.com
DTSTAMP:20260424T044101Z
CREATED:20260424T044101Z
DTSTART:20230325T151500Z
DTEND:20230325T161000Z
LOCATION:Harmans Premier Field #5
CONTACT:
SUMMARY:2014 Thunder SC Lokomotiv  VS. 2014 CiTY Black
DESCRIPTION:League Name: Youth (WINTER 2) 2023 SD2 SAT/SUN 2014 Boys \nGame
  Type: Regular\nGame Status: Complete\nHome Team: 2014 Thunder SC Lokomoti
 v \nAway Team: 2014 CiTY Black\nHome Score: 4\nAway Score: 5
END:VEVENT
BEGIN:VEVENT
UID:14946202@ezleagues.ezfacility.com
DTSTAMP:20260424T044101Z
CREATED:20260424T044101Z
DTSTART:20230326T170000Z
DTEND:20230326T175500Z
LOCATION:Jessup Premier Field #2
CONTACT:
SUMMARY:2015 SAC Premier Blue VS. 2014 CiTY Black
DESCRIPTION:League Name: Youth (WINTER 2) 2023 SD2 SAT/SUN 2014 Boys \nGame
  Type: Regular\nGame Status: Complete\nHome Team: 2015 SAC Premier Blue\nA
 way Team: 2014 CiTY Black\nHome Score: 3\nAway Score: 0
END:VEVENT
END:VCALENDAR
