BEGIN:VCALENDAR
VERSION:2.0
PRODID:-//EZFacility.com, Inc.//EZL 2.5.5.28621
BEGIN:VEVENT
UID:14564767@ezleagues.ezfacility.com
DTSTAMP:20260421T174301Z
CREATED:20260421T174301Z
DTSTART:20220911T220000Z
DTEND:20220911T225500Z
LOCATION: Field 3
CONTACT:Ramirez
SUMMARY:Buzz Kill VS. Goal Diggers
DESCRIPTION:League Name: Sunday, September 11 2022 Sunday Women's Over 40\n
 Game Type: Regular\nGame Status: Complete\nHome Team: Buzz Kill\nAway Team
 : Goal Diggers\nHome Score: 4\nAway Score: 4
END:VEVENT
BEGIN:VEVENT
UID:14570894@ezleagues.ezfacility.com
DTSTAMP:20260421T174301Z
CREATED:20260421T174301Z
DTSTART:20220919T005000Z
DTEND:20220919T014500Z
LOCATION:VA Army National Guard Field 2
CONTACT:Casil
SUMMARY:Green Day VS. Goal Diggers
DESCRIPTION:League Name: Sunday, September 11 2022 Sunday Women's Over 40\n
 Game Type: Regular\nGame Status: Complete\nHome Team: Green Day\nAway Team
 : Goal Diggers\nHome Score: 5\nAway Score: 4
END:VEVENT
BEGIN:VEVENT
UID:14570890@ezleagues.ezfacility.com
DTSTAMP:20260421T174301Z
CREATED:20260421T174301Z
DTSTART:20221002T235500Z
DTEND:20221003T005000Z
LOCATION:VA Army National Guard Field 2
CONTACT:Vasquez
SUMMARY:Goal Diggers VS. Reds
DESCRIPTION:League Name: Sunday, September 11 2022 Sunday Women's Over 40\n
 Game Type: Regular\nGame Status: Complete\nHome Team: Goal Diggers\nAway T
 eam: Reds\nHome Score: 4\nAway Score: 3
END:VEVENT
BEGIN:VEVENT
UID:14570897@ezleagues.ezfacility.com
DTSTAMP:20260421T174301Z
CREATED:20260421T174301Z
DTSTART:20221016T230000Z
DTEND:20221016T235500Z
LOCATION:VA Army National Guard Field 2
CONTACT:Navarro
SUMMARY:WWWD VS. Goal Diggers
DESCRIPTION:League Name: Sunday, September 11 2022 Sunday Women's Over 40\n
 Game Type: Regular\nGame Status: Complete\nHome Team: WWWD\nAway Team: Goa
 l Diggers\nHome Score: 0\nAway Score: 6
END:VEVENT
BEGIN:VEVENT
UID:14570900@ezleagues.ezfacility.com
DTSTAMP:20260421T174301Z
CREATED:20260421T174301Z
DTSTART:20221023T235500Z
DTEND:20221024T005000Z
LOCATION:VA Army National Guard Field 2
CONTACT:Vasquez
SUMMARY:Goal Diggers VS. Storm
DESCRIPTION:League Name: Sunday, September 11 2022 Sunday Women's Over 40\n
 Game Type: Regular\nGame Status: Complete\nHome Team: Goal Diggers\nAway T
 eam: Storm\nHome Score: 12\nAway Score: 2
END:VEVENT
BEGIN:VEVENT
UID:14570903@ezleagues.ezfacility.com
DTSTAMP:20260421T174301Z
CREATED:20260421T174301Z
DTSTART:20221031T005000Z
DTEND:20221031T014500Z
LOCATION:VA Army National Guard Field 2
CONTACT:Ramirez
SUMMARY:Goal Diggers VS. Royals
DESCRIPTION:League Name: Sunday, September 11 2022 Sunday Women's Over 40\n
 Game Type: Regular\nGame Status: Complete\nHome Team: Goal Diggers\nAway T
 eam: Royals\nHome Score: 0\nAway Score: 3
END:VEVENT
BEGIN:VEVENT
UID:14570912@ezleagues.ezfacility.com
DTSTAMP:20260421T174301Z
CREATED:20260421T174301Z
DTSTART:20221107T005500Z
DTEND:20221107T015000Z
LOCATION:Field 1
CONTACT:Ramirez
SUMMARY:Green Day VS. Goal Diggers
DESCRIPTION:League Name: Sunday, September 11 2022 Sunday Women's Over 40\n
 Game Type: Postseason\nGame Status: Complete\nHome Team: Green Day\nAway T
 eam: Goal Diggers\nHome Score: 2\nAway Score: 9
END:VEVENT
BEGIN:VEVENT
UID:14570914@ezleagues.ezfacility.com
DTSTAMP:20260421T174301Z
CREATED:20260421T174301Z
DTSTART:20221113T230000Z
DTEND:20221113T235500Z
LOCATION:Field 1
CONTACT:Ramirez
SUMMARY:Goal Diggers VS. Royals
DESCRIPTION:League Name: Sunday, September 11 2022 Sunday Women's Over 40\n
 Game Type: Postseason\nGame Status: Complete\nHome Team: Goal Diggers\nAwa
 y Team: Royals\nHome Score: 0\nAway Score: 7
END:VEVENT
END:VCALENDAR
