BEGIN:VCALENDAR
VERSION:2.0
PRODID:-//EZFacility.com, Inc.//EZL 2.5.5.28621
BEGIN:VEVENT
UID:14587418@ezleagues.ezfacility.com
DTSTAMP:20260425T162827Z
CREATED:20260425T162827Z
DTSTART:20220920T224500Z
DTEND:20220920T234500Z
LOCATION:Harry Hurst Flag Field 1 
CONTACT:
SUMMARY:Destrehan-Stuart VS. Mimosa-Irons
DESCRIPTION:League Name: 2022 11-13 B Flag Football Division \nGame Type: R
 egular\nGame Status: Pending\nHome Team: Destrehan-Stuart\nAway Team: Mimo
 sa-Irons\n
END:VEVENT
BEGIN:VEVENT
UID:14587372@ezleagues.ezfacility.com
DTSTAMP:20260425T162827Z
CREATED:20260425T162827Z
DTSTART:20220928T004500Z
DTEND:20220928T014500Z
LOCATION:Harry Hurst Flag Field 1 
CONTACT:
SUMMARY:Luling  VS. Destrehan-Stuart
DESCRIPTION:League Name: 2022 11-13 B Flag Football Division \nGame Type: R
 egular\nGame Status: Pending\nHome Team: Luling \nAway Team: Destrehan-Stu
 art\n
END:VEVENT
BEGIN:VEVENT
UID:14585596@ezleagues.ezfacility.com
DTSTAMP:20260425T162827Z
CREATED:20260425T162827Z
DTSTART:20221005T004500Z
DTEND:20221005T014500Z
LOCATION:Harry Hurst Flag Field 1 
CONTACT:
SUMMARY:Destrehan-Stuart VS. Destrehan-Chauvin
DESCRIPTION:League Name: 2022 11-13 B Flag Football Division \nGame Type: R
 egular\nGame Status: Pending\nHome Team: Destrehan-Stuart\nAway Team: Dest
 rehan-Chauvin\n
END:VEVENT
BEGIN:VEVENT
UID:14585601@ezleagues.ezfacility.com
DTSTAMP:20260425T162827Z
CREATED:20260425T162827Z
DTSTART:20221011T234500Z
DTEND:20221012T004500Z
LOCATION:West Bank 8
CONTACT:
SUMMARY:Destrehan-Chauvin VS. Destrehan-Stuart
DESCRIPTION:League Name: 2022 11-13 B Flag Football Division \nGame Type: R
 egular\nGame Status: Pending\nHome Team: Destrehan-Chauvin\nAway Team: Des
 trehan-Stuart\n
END:VEVENT
BEGIN:VEVENT
UID:14585603@ezleagues.ezfacility.com
DTSTAMP:20260425T162827Z
CREATED:20260425T162827Z
DTSTART:20221013T234500Z
DTEND:20221014T004500Z
LOCATION:West Bank 8
CONTACT:
SUMMARY:Luling  VS. Destrehan-Stuart
DESCRIPTION:League Name: 2022 11-13 B Flag Football Division \nGame Type: R
 egular\nGame Status: Pending\nHome Team: Luling \nAway Team: Destrehan-Stu
 art\n
END:VEVENT
BEGIN:VEVENT
UID:14585605@ezleagues.ezfacility.com
DTSTAMP:20260425T162827Z
CREATED:20260425T162827Z
DTSTART:20221015T150000Z
DTEND:20221015T160000Z
LOCATION:Dow Flag Field 1
CONTACT:
SUMMARY:Destrehan-Stuart VS. Mimosa-Shehadi
DESCRIPTION:League Name: 2022 11-13 B Flag Football Division \nGame Type: R
 egular\nGame Status: Pending\nHome Team: Destrehan-Stuart\nAway Team: Mimo
 sa-Shehadi\n
END:VEVENT
END:VCALENDAR
