BEGIN:VCALENDAR
VERSION:2.0
PRODID:-//EZFacility.com, Inc.//EZL 2.5.5.28621
BEGIN:VEVENT
UID:14593137@ezleagues.ezfacility.com
DTSTAMP:20260426T034947Z
CREATED:20260426T034947Z
DTSTART:20220927T201500Z
DTEND:20220927T210000Z
LOCATION:4 Mark Hughes
CONTACT:
SUMMARY:2 Goals 1 Cup VS. Channel 5 a Side
DESCRIPTION:League Name: Tuesday Full League - Division 4 27/09/22\nGame Ty
 pe: Regular\nGame Status: Complete\nHome Team: 2 Goals 1 Cup\nAway Team: C
 hannel 5 a Side\nHome Score: 2\nAway Score: 2
END:VEVENT
BEGIN:VEVENT
UID:14593149@ezleagues.ezfacility.com
DTSTAMP:20260426T034947Z
CREATED:20260426T034947Z
DTSTART:20221004T193000Z
DTEND:20221004T201500Z
LOCATION:5 Neville Southall
CONTACT:
SUMMARY:2 Goals 1 Cup VS. Thatcher's FC
DESCRIPTION:League Name: Tuesday Full League - Division 4 27/09/22\nGame Ty
 pe: Regular\nGame Status: Complete\nHome Team: 2 Goals 1 Cup\nAway Team: T
 hatcher's FC\nHome Score: 4\nAway Score: 8
END:VEVENT
BEGIN:VEVENT
UID:14593159@ezleagues.ezfacility.com
DTSTAMP:20260426T034947Z
CREATED:20260426T034947Z
DTSTART:20221011T203000Z
DTEND:20221011T211500Z
LOCATION:6 Joey Jones
CONTACT:
SUMMARY:2 Goals 1 Cup VS. Brian Munich
DESCRIPTION:League Name: Tuesday Full League - Division 4 27/09/22\nGame Ty
 pe: Regular\nGame Status: Complete\nHome Team: 2 Goals 1 Cup\nAway Team: B
 rian Munich\nHome Score: 2\nAway Score: 8
END:VEVENT
BEGIN:VEVENT
UID:14593171@ezleagues.ezfacility.com
DTSTAMP:20260426T034947Z
CREATED:20260426T034947Z
DTSTART:20221018T184500Z
DTEND:20221018T193000Z
LOCATION:4 Mark Hughes
CONTACT:
SUMMARY:Curse these Metal Hands VS. 2 Goals 1 Cup
DESCRIPTION:League Name: Tuesday Full League - Division 4 27/09/22\nGame Ty
 pe: Regular\nGame Status: Complete\nHome Team: Curse these Metal Hands\nAw
 ay Team: 2 Goals 1 Cup\nHome Score: 4\nAway Score: 16
END:VEVENT
BEGIN:VEVENT
UID:14593183@ezleagues.ezfacility.com
DTSTAMP:20260426T034947Z
CREATED:20260426T034947Z
DTSTART:20221025T201500Z
DTEND:20221025T210000Z
LOCATION:5 Neville Southall
CONTACT:
SUMMARY:FC Aquilae VS. 2 Goals 1 Cup
DESCRIPTION:League Name: Tuesday Full League - Division 4 27/09/22\nGame Ty
 pe: Regular\nGame Status: Complete\nHome Team: FC Aquilae\nAway Team: 2 Go
 als 1 Cup\nHome Score: 1\nAway Score: 0
END:VEVENT
BEGIN:VEVENT
UID:14593197@ezleagues.ezfacility.com
DTSTAMP:20260426T034947Z
CREATED:20260426T034947Z
DTSTART:20221101T203000Z
DTEND:20221101T211500Z
LOCATION:4 Mark Hughes
CONTACT:
SUMMARY:Pathetic Tuesday's VS. 2 Goals 1 Cup
DESCRIPTION:League Name: Tuesday Full League - Division 4 27/09/22\nGame Ty
 pe: Regular\nGame Status: Complete\nHome Team: Pathetic Tuesday's\nAway Te
 am: 2 Goals 1 Cup\nHome Score: 3\nAway Score: 4
END:VEVENT
BEGIN:VEVENT
UID:14593209@ezleagues.ezfacility.com
DTSTAMP:20260426T034947Z
CREATED:20260426T034947Z
DTSTART:20221108T211500Z
DTEND:20221108T220000Z
LOCATION:4 Mark Hughes
CONTACT:
SUMMARY:Pork Vale VS. 2 Goals 1 Cup
DESCRIPTION:League Name: Tuesday Full League - Division 4 27/09/22\nGame Ty
 pe: Regular\nGame Status: Complete\nHome Team: Pork Vale\nAway Team: 2 Goa
 ls 1 Cup\nHome Score: 10\nAway Score: 6
END:VEVENT
BEGIN:VEVENT
UID:14593221@ezleagues.ezfacility.com
DTSTAMP:20260426T034947Z
CREATED:20260426T034947Z
DTSTART:20221115T211500Z
DTEND:20221115T220000Z
LOCATION:5 Neville Southall
CONTACT:
SUMMARY:Channel 5 a Side VS. 2 Goals 1 Cup
DESCRIPTION:League Name: Tuesday Full League - Division 4 27/09/22\nGame Ty
 pe: Regular\nGame Status: Complete\nHome Team: Channel 5 a Side\nAway Team
 : 2 Goals 1 Cup\nHome Score: 7\nAway Score: 5
END:VEVENT
BEGIN:VEVENT
UID:14593233@ezleagues.ezfacility.com
DTSTAMP:20260426T034947Z
CREATED:20260426T034947Z
DTSTART:20221122T203000Z
DTEND:20221122T211500Z
LOCATION:4 Mark Hughes
CONTACT:
SUMMARY:Thatcher's FC VS. 2 Goals 1 Cup
DESCRIPTION:League Name: Tuesday Full League - Division 4 27/09/22\nGame Ty
 pe: Regular\nGame Status: Complete\nHome Team: Thatcher's FC\nAway Team: 2
  Goals 1 Cup\nHome Score: 8\nAway Score: 7
END:VEVENT
BEGIN:VEVENT
UID:14593255@ezleagues.ezfacility.com
DTSTAMP:20260426T034947Z
CREATED:20260426T034947Z
DTSTART:20221206T211500Z
DTEND:20221206T220000Z
LOCATION:3 Ian Rush
CONTACT:
SUMMARY:2 Goals 1 Cup VS. Curse these Metal Hands
DESCRIPTION:League Name: Tuesday Full League - Division 4 27/09/22\nGame Ty
 pe: Regular\nGame Status: Complete\nHome Team: 2 Goals 1 Cup\nAway Team: C
 urse these Metal Hands\nHome Score: 5\nAway Score: 4
END:VEVENT
BEGIN:VEVENT
UID:14593267@ezleagues.ezfacility.com
DTSTAMP:20260426T034947Z
CREATED:20260426T034947Z
DTSTART:20221213T203000Z
DTEND:20221213T211500Z
LOCATION:6 Joey Jones
CONTACT:
SUMMARY:2 Goals 1 Cup VS. FC Aquilae
DESCRIPTION:League Name: Tuesday Full League - Division 4 27/09/22\nGame Ty
 pe: Regular\nGame Status: Complete\nHome Team: 2 Goals 1 Cup\nAway Team: F
 C Aquilae\nHome Score: 3\nAway Score: 8
END:VEVENT
BEGIN:VEVENT
UID:14593281@ezleagues.ezfacility.com
DTSTAMP:20260426T034947Z
CREATED:20260426T034947Z
DTSTART:20221220T211500Z
DTEND:20221220T220000Z
LOCATION:5 Neville Southall
CONTACT:
SUMMARY:2 Goals 1 Cup VS. Pathetic Tuesday's
DESCRIPTION:League Name: Tuesday Full League - Division 4 27/09/22\nGame Ty
 pe: Regular\nGame Status: Complete\nHome Team: 2 Goals 1 Cup\nAway Team: P
 athetic Tuesday's\nHome Score: 6\nAway Score: 5
END:VEVENT
BEGIN:VEVENT
UID:14593243@ezleagues.ezfacility.com
DTSTAMP:20260426T034947Z
CREATED:20260426T034947Z
DTSTART:20230103T203000Z
DTEND:20230103T211500Z
LOCATION:4 Mark Hughes
CONTACT:
SUMMARY:Brian Munich VS. 2 Goals 1 Cup
DESCRIPTION:League Name: Tuesday Full League - Division 4 27/09/22\nGame Ty
 pe: Regular\nGame Status: Complete\nHome Team: Brian Munich\nAway Team: 2 
 Goals 1 Cup\nHome Score: 9\nAway Score: 3
END:VEVENT
BEGIN:VEVENT
UID:14593293@ezleagues.ezfacility.com
DTSTAMP:20260426T034947Z
CREATED:20260426T034947Z
DTSTART:20230110T211500Z
DTEND:20230110T220000Z
LOCATION:4 Mark Hughes
CONTACT:
SUMMARY:2 Goals 1 Cup VS. Pork Vale
DESCRIPTION:League Name: Tuesday Full League - Division 4 27/09/22\nGame Ty
 pe: Regular\nGame Status: Complete\nHome Team: 2 Goals 1 Cup\nAway Team: P
 ork Vale\nHome Score: 4\nAway Score: 9
END:VEVENT
END:VCALENDAR
