BEGIN:VCALENDAR
VERSION:2.0
PRODID:-//EZFacility.com, Inc.//EZL 2.5.5.28621
BEGIN:VEVENT
UID:14596765@ezleagues.ezfacility.com
DTSTAMP:20260425T013114Z
CREATED:20260425T013114Z
DTSTART:20221001T180000Z
DTEND:20221001T200000Z
LOCATION:Russellton Baseball 1
CONTACT:
SUMMARY:Aces of the Bases VS. Gronk Nation 14u
DESCRIPTION:League Name: 14U JDRF Tournament 2022\nGame Type: Regular\nGame
  Status: Complete\nHome Team: Aces of the Bases\nAway Team: Gronk Nation 1
 4u\nHome Score: 1\nAway Score: 7
END:VEVENT
BEGIN:VEVENT
UID:14596766@ezleagues.ezfacility.com
DTSTAMP:20260425T013114Z
CREATED:20260425T013114Z
DTSTART:20221001T200000Z
DTEND:20221001T220000Z
LOCATION:Russellton Baseball 1
CONTACT:
SUMMARY:West Hills VS. Gronk Nation 14u
DESCRIPTION:League Name: 14U JDRF Tournament 2022\nGame Type: Regular\nGame
  Status: Complete\nHome Team: West Hills\nAway Team: Gronk Nation 14u\nHom
 e Score: 13\nAway Score: 3
END:VEVENT
BEGIN:VEVENT
UID:14596773@ezleagues.ezfacility.com
DTSTAMP:20260425T013114Z
CREATED:20260425T013114Z
DTSTART:20221002T120000Z
DTEND:20221002T140000Z
LOCATION:Russellton Baseball 2
CONTACT:
SUMMARY:Gronk Nation 14u VS. Rawlings Tigers 14u Fall
DESCRIPTION:League Name: 14U JDRF Tournament 2022\nGame Type: Postseason\nG
 ame Status: Complete\nHome Team: Gronk Nation 14u\nAway Team: Rawlings Tig
 ers 14u Fall\nHome Score: 12\nAway Score: 0
END:VEVENT
BEGIN:VEVENT
UID:14596776@ezleagues.ezfacility.com
DTSTAMP:20260425T013114Z
CREATED:20260425T013114Z
DTSTART:20221002T160000Z
DTEND:20221002T180000Z
LOCATION:Russellton Baseball 2
CONTACT:
SUMMARY:Beaver Valley 14s FALL VS. Gronk Nation 14u
DESCRIPTION:League Name: 14U JDRF Tournament 2022\nGame Type: Postseason\nG
 ame Status: Complete\nHome Team: Beaver Valley 14s FALL\nAway Team: Gronk 
 Nation 14u\nHome Score: 5\nAway Score: 0
END:VEVENT
END:VCALENDAR
