BEGIN:VCALENDAR
VERSION:2.0
PRODID:-//EZFacility.com, Inc.//EZL 2.5.5.28621
BEGIN:VEVENT
UID:14611081@ezleagues.ezfacility.com
DTSTAMP:20260419T184759Z
CREATED:20260419T184759Z
DTSTART:20221013T015500Z
DTEND:20221013T025000Z
LOCATION:PFFC Field House - C
CONTACT:
SUMMARY:Pyramid Scheme FC (Red/Blue) VS. Hospital FC (Black)
DESCRIPTION:League Name: MSL Fall 2022 - Wed/Thurs Men's First Games\nGame 
 Type: Regular\nGame Status: Complete\nHome Team: Pyramid Scheme FC (Red/Bl
 ue)\nAway Team: Hospital FC (Black)\nHome Score: 3\nAway Score: 3
END:VEVENT
BEGIN:VEVENT
UID:14635876@ezleagues.ezfacility.com
DTSTAMP:20260419T184759Z
CREATED:20260419T184759Z
DTSTART:20221021T010000Z
DTEND:20221021T015500Z
LOCATION:PFFC Field House - D
CONTACT:
SUMMARY:Pyramid Scheme FC (Red/Blue) VS. Woodford FC (Blue)
DESCRIPTION:League Name: MSL Fall 2022 - Wed/Thurs Men's First Games\nGame 
 Type: Regular\nGame Status: Complete\nHome Team: Pyramid Scheme FC (Red/Bl
 ue)\nAway Team: Woodford FC (Blue)\nHome Score: 0\nAway Score: 7
END:VEVENT
END:VCALENDAR
