BEGIN:VCALENDAR
VERSION:2.0
PRODID:-//EZFacility.com, Inc.//EZL 2.5.5.28621
BEGIN:VEVENT
UID:14604115@ezleagues.ezfacility.com
DTSTAMP:20260423T035005Z
CREATED:20260423T035005Z
DTSTART:20221005T010000Z
DTEND:20221005T020000Z
LOCATION:Arena
CONTACT:
SUMMARY:Inter FC VS. Guate
DESCRIPTION:League Name: Men's Arena Soccer - Winter 2022 (COPY)\nGame Type
 : Regular\nGame Status: Complete\nHome Team: Inter FC\nAway Team: Guate\nH
 ome Score: 7\nAway Score: 7
END:VEVENT
BEGIN:VEVENT
UID:14604122@ezleagues.ezfacility.com
DTSTAMP:20260423T035005Z
CREATED:20260423T035005Z
DTSTART:20221015T040000Z
DTEND:20221015T050000Z
LOCATION:Arena
CONTACT:
SUMMARY:Guate VS. La Maquina
DESCRIPTION:League Name: Men's Arena Soccer - Winter 2022 (COPY)\nGame Type
 : Regular\nGame Status: Complete\nHome Team: Guate\nAway Team: La Maquina\
 nHome Score: 7\nAway Score: 5
END:VEVENT
BEGIN:VEVENT
UID:14604139@ezleagues.ezfacility.com
DTSTAMP:20260423T035005Z
CREATED:20260423T035005Z
DTSTART:20221022T010000Z
DTEND:20221022T020000Z
LOCATION:Arena
CONTACT:
SUMMARY:Guate VS. Xolos
DESCRIPTION:League Name: Men's Arena Soccer - Winter 2022 (COPY)\nGame Type
 : Regular\nGame Status: Complete\nHome Team: Guate\nAway Team: Xolos\nHome
  Score: 12\nAway Score: 2
END:VEVENT
BEGIN:VEVENT
UID:14604157@ezleagues.ezfacility.com
DTSTAMP:20260423T035005Z
CREATED:20260423T035005Z
DTSTART:20221026T020000Z
DTEND:20221026T030000Z
LOCATION:Arena
CONTACT:
SUMMARY:Guate VS. Venudos fc
DESCRIPTION:League Name: Men's Arena Soccer - Winter 2022 (COPY)\nGame Type
 : Regular\nGame Status: Complete\nHome Team: Guate\nAway Team: Venudos fc\
 nHome Score: 11\nAway Score: 5
END:VEVENT
BEGIN:VEVENT
UID:14604217@ezleagues.ezfacility.com
DTSTAMP:20260423T035005Z
CREATED:20260423T035005Z
DTSTART:20221027T030000Z
DTEND:20221027T040000Z
LOCATION:Arena
CONTACT:
SUMMARY:Black Hawks VS. Guate
DESCRIPTION:League Name: Men's Arena Soccer - Winter 2022 (COPY)\nGame Type
 : Regular\nGame Status: Complete\nHome Team: Black Hawks\nAway Team: Guate
 \nHome Score: 6\nAway Score: 3
END:VEVENT
BEGIN:VEVENT
UID:14604169@ezleagues.ezfacility.com
DTSTAMP:20260423T035005Z
CREATED:20260423T035005Z
DTSTART:20221102T030000Z
DTEND:20221102T040000Z
LOCATION:Arena
CONTACT:
SUMMARY:Guate VS. Tequileros FC
DESCRIPTION:League Name: Men's Arena Soccer - Winter 2022 (COPY)\nGame Type
 : Regular\nGame Status: Complete\nHome Team: Guate\nAway Team: Tequileros 
 FC\nHome Score: 5\nAway Score: 9
END:VEVENT
BEGIN:VEVENT
UID:14604202@ezleagues.ezfacility.com
DTSTAMP:20260423T035005Z
CREATED:20260423T035005Z
DTSTART:20221105T040000Z
DTEND:20221105T050000Z
LOCATION:Arena
CONTACT:
SUMMARY:Benchwarmers FC VS. Guate
DESCRIPTION:League Name: Men's Arena Soccer - Winter 2022 (COPY)\nGame Type
 : Regular\nGame Status: Complete\nHome Team: Benchwarmers FC\nAway Team: G
 uate\nHome Score: 2\nAway Score: 9
END:VEVENT
BEGIN:VEVENT
UID:14604222@ezleagues.ezfacility.com
DTSTAMP:20260423T035005Z
CREATED:20260423T035005Z
DTSTART:20221123T030000Z
DTEND:20221123T040000Z
LOCATION:Arena
CONTACT:
SUMMARY:Cuervos FC VS. Guate
DESCRIPTION:League Name: Men's Arena Soccer - Winter 2022 (COPY)\nGame Type
 : Regular\nGame Status: Complete\nHome Team: Cuervos FC\nAway Team: Guate\
 nHome Score: 10\nAway Score: 5
END:VEVENT
BEGIN:VEVENT
UID:14604212@ezleagues.ezfacility.com
DTSTAMP:20260423T035005Z
CREATED:20260423T035005Z
DTSTART:20221130T030000Z
DTEND:20221130T040000Z
LOCATION:Arena
CONTACT:
SUMMARY:Aztecs VS. Guate
DESCRIPTION:League Name: Men's Arena Soccer - Winter 2022 (COPY)\nGame Type
 : Regular\nGame Status: Complete\nHome Team: Aztecs\nAway Team: Guate\nHom
 e Score: 8\nAway Score: 7
END:VEVENT
BEGIN:VEVENT
UID:14604134@ezleagues.ezfacility.com
DTSTAMP:20260423T035005Z
CREATED:20260423T035005Z
DTSTART:20221207T050000Z
DTEND:20221207T060000Z
LOCATION:Arena
CONTACT:
SUMMARY:Guate VS. The Krew
DESCRIPTION:League Name: Men's Arena Soccer - Winter 2022 (COPY)\nGame Type
 : Regular\nGame Status: Complete\nHome Team: Guate\nAway Team: The Krew\nH
 ome Score: 0\nAway Score: 5
END:VEVENT
BEGIN:VEVENT
UID:14638425@ezleagues.ezfacility.com
DTSTAMP:20260423T035005Z
CREATED:20260423T035005Z
DTSTART:20221210T030000Z
DTEND:20221210T040000Z
LOCATION:Arena
CONTACT:
SUMMARY:Benchwarmers FC VS. Guate
DESCRIPTION:League Name: Men's Arena Soccer - Winter 2022 (COPY)\nGame Type
 : Postseason\nGame Status: Complete\nHome Team: Benchwarmers FC\nAway Team
 : Guate\nHome Score: 1\nAway Score: 0
END:VEVENT
END:VCALENDAR
