BEGIN:VCALENDAR
VERSION:2.0
PRODID:-//EZFacility.com, Inc.//EZL 2.5.5.28621
BEGIN:VEVENT
UID:14613649@ezleagues.ezfacility.com
DTSTAMP:20260426T035109Z
CREATED:20260426T035109Z
DTSTART:20221009T180000Z
DTEND:20221009T190000Z
LOCATION:Rise Indoor 1
CONTACT:
SUMMARY:Aguilas Jrs VS. Mexico Jrs
DESCRIPTION:League Name: WS Futbol Sala Sunday Youth 09/10 Fall 2022\nGame 
 Type: Regular\nGame Status: Complete\nHome Team: Aguilas Jrs\nAway Team: M
 exico Jrs\nHome Score: 19\nAway Score: 2
END:VEVENT
BEGIN:VEVENT
UID:14613654@ezleagues.ezfacility.com
DTSTAMP:20260426T035109Z
CREATED:20260426T035109Z
DTSTART:20221016T160000Z
DTEND:20221016T170000Z
LOCATION:Rise Indoor 4
CONTACT:
SUMMARY:Mexico Jrs VS. Arsenal
DESCRIPTION:League Name: WS Futbol Sala Sunday Youth 09/10 Fall 2022\nGame 
 Type: Regular\nGame Status: Complete\nHome Team: Mexico Jrs\nAway Team: Ar
 senal\nHome Score: 10\nAway Score: 15
END:VEVENT
BEGIN:VEVENT
UID:14613666@ezleagues.ezfacility.com
DTSTAMP:20260426T035109Z
CREATED:20260426T035109Z
DTSTART:20221023T180000Z
DTEND:20221023T190000Z
LOCATION:Rise Indoor 1
CONTACT:
SUMMARY:Mexico Jrs VS. Super Strikers
DESCRIPTION:League Name: WS Futbol Sala Sunday Youth 09/10 Fall 2022\nGame 
 Type: Regular\nGame Status: Complete\nHome Team: Mexico Jrs\nAway Team: Su
 per Strikers\nHome Score: 3\nAway Score: 8
END:VEVENT
BEGIN:VEVENT
UID:14613669@ezleagues.ezfacility.com
DTSTAMP:20260426T035109Z
CREATED:20260426T035109Z
DTSTART:20221030T180000Z
DTEND:20221030T190000Z
LOCATION:Rise Indoor 1
CONTACT:
SUMMARY:Arsenal VS. Mexico Jrs
DESCRIPTION:League Name: WS Futbol Sala Sunday Youth 09/10 Fall 2022\nGame 
 Type: Regular\nGame Status: Complete\nHome Team: Arsenal\nAway Team: Mexic
 o Jrs\nHome Score: 9\nAway Score: 8
END:VEVENT
BEGIN:VEVENT
UID:14613677@ezleagues.ezfacility.com
DTSTAMP:20260426T035109Z
CREATED:20260426T035109Z
DTSTART:20221211T170000Z
DTEND:20221211T180000Z
LOCATION:Rise Indoor 2
CONTACT:
SUMMARY:Mexico Jrs VS. Costa Chica
DESCRIPTION:League Name: WS Futbol Sala Sunday Youth 09/10 Fall 2022\nGame 
 Type: Regular\nGame Status: Complete\nHome Team: Mexico Jrs\nAway Team: Co
 sta Chica\nHome Score: 2\nAway Score: 15
END:VEVENT
BEGIN:VEVENT
UID:14613651@ezleagues.ezfacility.com
DTSTAMP:20260426T035109Z
CREATED:20260426T035109Z
DTSTART:20221218T220000Z
DTEND:20221218T230000Z
LOCATION:Rise Indoor 4
CONTACT:
SUMMARY:Super Strikers VS. Mexico Jrs
DESCRIPTION:League Name: WS Futbol Sala Sunday Youth 09/10 Fall 2022\nGame 
 Type: Regular\nGame Status: Complete\nHome Team: Super Strikers\nAway Team
 : Mexico Jrs\nHome Score: 21\nAway Score: 5
END:VEVENT
BEGIN:VEVENT
UID:14613658@ezleagues.ezfacility.com
DTSTAMP:20260426T035109Z
CREATED:20260426T035109Z
DTSTART:20230108T170000Z
DTEND:20230108T180000Z
LOCATION:Rise Indoor 4
CONTACT:
SUMMARY:Aguilas Jrs VS. Mexico Jrs
DESCRIPTION:League Name: WS Futbol Sala Sunday Youth 09/10 Fall 2022\nGame 
 Type: Regular\nGame Status: Complete\nHome Team: Aguilas Jrs\nAway Team: M
 exico Jrs\nHome Score: 25\nAway Score: 2
END:VEVENT
BEGIN:VEVENT
UID:14613656@ezleagues.ezfacility.com
DTSTAMP:20260426T035109Z
CREATED:20260426T035109Z
DTSTART:20230108T210000Z
DTEND:20230108T220000Z
LOCATION:Rise Indoor 2
CONTACT:
SUMMARY:Mexico Jrs VS. AJAX F.C
DESCRIPTION:League Name: WS Futbol Sala Sunday Youth 09/10 Fall 2022\nGame 
 Type: Regular\nGame Status: Complete\nHome Team: Mexico Jrs\nAway Team: AJ
 AX F.C\nHome Score: 2\nAway Score: 17
END:VEVENT
BEGIN:VEVENT
UID:14613662@ezleagues.ezfacility.com
DTSTAMP:20260426T035109Z
CREATED:20260426T035109Z
DTSTART:20230115T170000Z
DTEND:20230115T180000Z
LOCATION:Rise Indoor 4
CONTACT:
SUMMARY:Costa Chica VS. Mexico Jrs
DESCRIPTION:League Name: WS Futbol Sala Sunday Youth 09/10 Fall 2022\nGame 
 Type: Regular\nGame Status: Complete\nHome Team: Costa Chica\nAway Team: M
 exico Jrs\nHome Score: 10\nAway Score: 8
END:VEVENT
BEGIN:VEVENT
UID:14613671@ezleagues.ezfacility.com
DTSTAMP:20260426T035109Z
CREATED:20260426T035109Z
DTSTART:20230115T180000Z
DTEND:20230115T190000Z
LOCATION:Rise Indoor 4
CONTACT:
SUMMARY:AJAX F.C VS. Mexico Jrs
DESCRIPTION:League Name: WS Futbol Sala Sunday Youth 09/10 Fall 2022\nGame 
 Type: Regular\nGame Status: Complete\nHome Team: AJAX F.C\nAway Team: Mexi
 co Jrs\nHome Score: 12\nAway Score: 5
END:VEVENT
BEGIN:VEVENT
UID:14879158@ezleagues.ezfacility.com
DTSTAMP:20260426T035109Z
CREATED:20260426T035109Z
DTSTART:20230122T170000Z
DTEND:20230122T180000Z
LOCATION:Rise Indoor 2
CONTACT:
SUMMARY:Costa Chica VS. Mexico Jrs
DESCRIPTION:League Name: WS Futbol Sala Sunday Youth 09/10 Fall 2022\nGame 
 Type: Postseason\nGame Status: Complete\nHome Team: Costa Chica\nAway Team
 : Mexico Jrs\nHome Score: 21\nAway Score: 2
END:VEVENT
BEGIN:VEVENT
UID:14930944@ezleagues.ezfacility.com
DTSTAMP:20260426T035109Z
CREATED:20260426T035109Z
DTSTART:20230219T190000Z
DTEND:20230219T200000Z
LOCATION:Rise Indoor 2
CONTACT:
SUMMARY:Mexico Jrs VS. Atletico Jrs
DESCRIPTION:League Name: WS Futbol Sala Sunday Youth 09/10 Fall 2022\nGame 
 Type: Friendly\nGame Status: Complete\nHome Team: Mexico Jrs\nAway Team: A
 tletico Jrs\nHome Score: 6\nAway Score: 8
END:VEVENT
END:VCALENDAR
