BEGIN:VCALENDAR
VERSION:2.0
PRODID:-//EZFacility.com, Inc.//EZL 2.5.5.28621
BEGIN:VEVENT
UID:14654550@ezleagues.ezfacility.com
DTSTAMP:20260421T214507Z
CREATED:20260421T214507Z
DTSTART:20221030T115500Z
DTEND:20221030T125000Z
LOCATION:PFFC Field House Half Field CD
CONTACT:
SUMMARY:Gil Vicente FC VS. Etobicoke FC 2011B
DESCRIPTION:League Name: BU12 - Target\nGame Type: Regular\nGame Status: Pe
 nding\nHome Team: Gil Vicente FC\nAway Team: Etobicoke FC 2011B\n
END:VEVENT
BEGIN:VEVENT
UID:14668575@ezleagues.ezfacility.com
DTSTAMP:20260421T214507Z
CREATED:20260421T214507Z
DTSTART:20221106T125500Z
DTEND:20221106T135000Z
LOCATION:PFFC Dome - Half Field #2
CONTACT:
SUMMARY:Gil Vicente FC VS. Magic Boys 2011 Blue
DESCRIPTION:League Name: BU12 - Target\nGame Type: Regular\nGame Status: Pe
 nding\nHome Team: Gil Vicente FC\nAway Team: Magic Boys 2011 Blue\n
END:VEVENT
BEGIN:VEVENT
UID:14668623@ezleagues.ezfacility.com
DTSTAMP:20260421T214507Z
CREATED:20260421T214507Z
DTSTART:20221120T202500Z
DTEND:20221120T212000Z
LOCATION:CMCC Half Field #2
CONTACT:
SUMMARY:Gil Vicente FC VS. CUFC
DESCRIPTION:League Name: BU12 - Target\nGame Type: Regular\nGame Status: Pe
 nding\nHome Team: Gil Vicente FC\nAway Team: CUFC\n
END:VEVENT
BEGIN:VEVENT
UID:14668599@ezleagues.ezfacility.com
DTSTAMP:20260421T214507Z
CREATED:20260421T214507Z
DTSTART:20221128T010000Z
DTEND:20221128T015500Z
LOCATION:CMCC Half Field #2
CONTACT:
SUMMARY:Gil Vicente FC VS. First Touch FC Jaguars U12 Yellow
DESCRIPTION:League Name: BU12 - Target\nGame Type: Regular\nGame Status: Pe
 nding\nHome Team: Gil Vicente FC\nAway Team: First Touch FC Jaguars U12 Ye
 llow\n
END:VEVENT
BEGIN:VEVENT
UID:14668672@ezleagues.ezfacility.com
DTSTAMP:20260421T214507Z
CREATED:20260421T214507Z
DTSTART:20221204T221500Z
DTEND:20221204T231000Z
LOCATION:CMCC Half Field #2
CONTACT:
SUMMARY:SSE 90 '2011 VS. Gil Vicente FC
DESCRIPTION:League Name: BU12 - Target\nGame Type: Regular\nGame Status: Pe
 nding\nHome Team: SSE 90 '2011\nAway Team: Gil Vicente FC\n
END:VEVENT
BEGIN:VEVENT
UID:14668697@ezleagues.ezfacility.com
DTSTAMP:20260421T214507Z
CREATED:20260421T214507Z
DTSTART:20221211T212000Z
DTEND:20221211T221500Z
LOCATION:CMCC Half Field #2
CONTACT:
SUMMARY:Gil Vicente FC VS. Prostars BU12 2011 Blue
DESCRIPTION:League Name: BU12 - Target\nGame Type: Regular\nGame Status: Pe
 nding\nHome Team: Gil Vicente FC\nAway Team: Prostars BU12 2011 Blue\n
END:VEVENT
BEGIN:VEVENT
UID:14668723@ezleagues.ezfacility.com
DTSTAMP:20260421T214507Z
CREATED:20260421T214507Z
DTSTART:20221218T120000Z
DTEND:20221218T125500Z
LOCATION:PFFC Field House Half Field CD
CONTACT:
SUMMARY:Gil Vicente FC VS. SRFC M U12
DESCRIPTION:League Name: BU12 - Target\nGame Type: Regular\nGame Status: Pe
 nding\nHome Team: Gil Vicente FC\nAway Team: SRFC M U12\n
END:VEVENT
BEGIN:VEVENT
UID:14668827@ezleagues.ezfacility.com
DTSTAMP:20260421T214507Z
CREATED:20260421T214507Z
DTSTART:20230115T120000Z
DTEND:20230115T125500Z
LOCATION:PFFC Dome - Half Field #1
CONTACT:
SUMMARY:Gil Vicente FC VS. Clarkson M U12 Target
DESCRIPTION:League Name: BU12 - Target\nGame Type: Regular\nGame Status: Pe
 nding\nHome Team: Gil Vicente FC\nAway Team: Clarkson M U12 Target\n
END:VEVENT
BEGIN:VEVENT
UID:14668852@ezleagues.ezfacility.com
DTSTAMP:20260421T214507Z
CREATED:20260421T214507Z
DTSTART:20230122T125500Z
DTEND:20230122T135000Z
LOCATION:PFFC Dome - Half Field #1
CONTACT:
SUMMARY:Etobicoke FC 2011B VS. Gil Vicente FC
DESCRIPTION:League Name: BU12 - Target\nGame Type: Regular\nGame Status: Pe
 nding\nHome Team: Etobicoke FC 2011B\nAway Team: Gil Vicente FC\n
END:VEVENT
BEGIN:VEVENT
UID:14668876@ezleagues.ezfacility.com
DTSTAMP:20260421T214507Z
CREATED:20260421T214507Z
DTSTART:20230129T202500Z
DTEND:20230129T212000Z
LOCATION:CMCC Half Field #2
CONTACT:
SUMMARY:USC Karpaty VS. Gil Vicente FC
DESCRIPTION:League Name: BU12 - Target\nGame Type: Regular\nGame Status: Pe
 nding\nHome Team: USC Karpaty\nAway Team: Gil Vicente FC\n
END:VEVENT
BEGIN:VEVENT
UID:14668924@ezleagues.ezfacility.com
DTSTAMP:20260421T214507Z
CREATED:20260421T214507Z
DTSTART:20230212T193000Z
DTEND:20230212T202500Z
LOCATION:CMCC Half Field #2
CONTACT:
SUMMARY:First Touch FC Jaguars U12 Yellow VS. Gil Vicente FC
DESCRIPTION:League Name: BU12 - Target\nGame Type: Regular\nGame Status: Pe
 nding\nHome Team: First Touch FC Jaguars U12 Yellow\nAway Team: Gil Vicent
 e FC\n
END:VEVENT
BEGIN:VEVENT
UID:14668952@ezleagues.ezfacility.com
DTSTAMP:20260421T214507Z
CREATED:20260421T214507Z
DTSTART:20230219T212000Z
DTEND:20230219T221500Z
LOCATION:CMCC Half Field #2
CONTACT:
SUMMARY:CUFC VS. Gil Vicente FC
DESCRIPTION:League Name: BU12 - Target\nGame Type: Regular\nGame Status: Pe
 nding\nHome Team: CUFC\nAway Team: Gil Vicente FC\n
END:VEVENT
BEGIN:VEVENT
UID:14668972@ezleagues.ezfacility.com
DTSTAMP:20260421T214507Z
CREATED:20260421T214507Z
DTSTART:20230226T221500Z
DTEND:20230226T231000Z
LOCATION:CMCC Half Field #2
CONTACT:
SUMMARY:NMSC M U12 2011 Target Black VS. Gil Vicente FC
DESCRIPTION:League Name: BU12 - Target\nGame Type: Regular\nGame Status: Pe
 nding\nHome Team: NMSC M U12 2011 Target Black\nAway Team: Gil Vicente FC\
 n
END:VEVENT
BEGIN:VEVENT
UID:14668749@ezleagues.ezfacility.com
DTSTAMP:20260421T214507Z
CREATED:20260421T214507Z
DTSTART:20230312T192500Z
DTEND:20230312T202000Z
LOCATION:CMCC Half Field #2
CONTACT:
SUMMARY:Gil Vicente FC VS. Force Soccer MU12 Target
DESCRIPTION:League Name: BU12 - Target\nGame Type: Regular\nGame Status: Pe
 nding\nHome Team: Gil Vicente FC\nAway Team: Force Soccer MU12 Target\n
END:VEVENT
BEGIN:VEVENT
UID:14668775@ezleagues.ezfacility.com
DTSTAMP:20260421T214507Z
CREATED:20260421T214507Z
DTSTART:20230319T131000Z
DTEND:20230319T140500Z
LOCATION:CMCC Half Field #1
CONTACT:
SUMMARY:Guelph Gryphons BU12 Red  VS. Gil Vicente FC
DESCRIPTION:League Name: BU12 - Target\nGame Type: Regular\nGame Status: Pe
 nding\nHome Team: Guelph Gryphons BU12 Red \nAway Team: Gil Vicente FC\n
END:VEVENT
BEGIN:VEVENT
UID:14668647@ezleagues.ezfacility.com
DTSTAMP:20260421T214507Z
CREATED:20260421T214507Z
DTSTART:20230326T183000Z
DTEND:20230326T192500Z
LOCATION:CMCC Half Field #2
CONTACT:
SUMMARY:Gil Vicente FC VS. NMSC M U12 2011 Target Black
DESCRIPTION:League Name: BU12 - Target\nGame Type: Regular\nGame Status: Pe
 nding\nHome Team: Gil Vicente FC\nAway Team: NMSC M U12 2011 Target Black\
 n
END:VEVENT
BEGIN:VEVENT
UID:14668801@ezleagues.ezfacility.com
DTSTAMP:20260421T214507Z
CREATED:20260421T214507Z
DTSTART:20230416T183000Z
DTEND:20230416T192500Z
LOCATION:CMCC Half Field #2
CONTACT:
SUMMARY:Gil Vicente FC VS. First Touch FC Jaguars U12 White
DESCRIPTION:League Name: BU12 - Target\nGame Type: Regular\nGame Status: Pe
 nding\nHome Team: Gil Vicente FC\nAway Team: First Touch FC Jaguars U12 Wh
 ite\n
END:VEVENT
BEGIN:VEVENT
UID:14668902@ezleagues.ezfacility.com
DTSTAMP:20260421T214507Z
CREATED:20260421T214507Z
DTSTART:20230423T110000Z
DTEND:20230423T115500Z
LOCATION:PFFC Field House Half Field AB
CONTACT:
SUMMARY:Magic Boys 2011 Blue VS. Gil Vicente FC
DESCRIPTION:League Name: BU12 - Target\nGame Type: Regular\nGame Status: Co
 mplete\nHome Team: Magic Boys 2011 Blue\nAway Team: Gil Vicente FC\nHome S
 core: 0\nAway Score: 0
END:VEVENT
END:VCALENDAR
