BEGIN:VCALENDAR
VERSION:2.0
PRODID:-//EZFacility.com, Inc.//EZL 2.5.5.28621
BEGIN:VEVENT
UID:14618905@ezleagues.ezfacility.com
DTSTAMP:20260422T140358Z
CREATED:20260422T140358Z
DTSTART:20221010T084500Z
DTEND:20221010T092500Z
LOCATION:6 Stade Louis II
CONTACT:
SUMMARY:Suchak Spor VS. Ginyu Force
DESCRIPTION:League Name: Summer 2022 Monday Mens 5s Serie A\nGame Type: Reg
 ular\nGame Status: Complete\nHome Team: Suchak Spor\nAway Team: Ginyu Forc
 e\nHome Score: 8\nAway Score: 4
END:VEVENT
BEGIN:VEVENT
UID:14618910@ezleagues.ezfacility.com
DTSTAMP:20260422T140358Z
CREATED:20260422T140358Z
DTSTART:20221017T093000Z
DTEND:20221017T101000Z
LOCATION:6 Stade Louis II
CONTACT:
SUMMARY:Shot Takers FC VS. Ginyu Force
DESCRIPTION:League Name: Summer 2022 Monday Mens 5s Serie A\nGame Type: Reg
 ular\nGame Status: Complete\nHome Team: Shot Takers FC\nAway Team: Ginyu F
 orce\nHome Score: 4\nAway Score: 4
END:VEVENT
BEGIN:VEVENT
UID:14618914@ezleagues.ezfacility.com
DTSTAMP:20260422T140358Z
CREATED:20260422T140358Z
DTSTART:20221024T080000Z
DTEND:20221024T084000Z
LOCATION:6 Stade Louis II
CONTACT:
SUMMARY:Ginyu Force VS. Doubleapple FC
DESCRIPTION:League Name: Summer 2022 Monday Mens 5s Serie A\nGame Type: Reg
 ular\nGame Status: Complete\nHome Team: Ginyu Force\nAway Team: Doubleappl
 e FC\nHome Score: 3\nAway Score: 6
END:VEVENT
BEGIN:VEVENT
UID:14618917@ezleagues.ezfacility.com
DTSTAMP:20260422T140358Z
CREATED:20260422T140358Z
DTSTART:20221031T093000Z
DTEND:20221031T101000Z
LOCATION:6 Stade Louis II
CONTACT:
SUMMARY:Ginyu Force VS. Kubispor
DESCRIPTION:League Name: Summer 2022 Monday Mens 5s Serie A\nGame Type: Reg
 ular\nGame Status: Complete\nHome Team: Ginyu Force\nAway Team: Kubispor\n
 Home Score: 3\nAway Score: 10
END:VEVENT
BEGIN:VEVENT
UID:14618920@ezleagues.ezfacility.com
DTSTAMP:20260422T140358Z
CREATED:20260422T140358Z
DTSTART:20221107T101500Z
DTEND:20221107T105500Z
LOCATION:6 Stade Louis II
CONTACT:
SUMMARY:Ginyu Force VS. Turkish Deligt
DESCRIPTION:League Name: Summer 2022 Monday Mens 5s Serie A\nGame Type: Reg
 ular\nGame Status: Complete\nHome Team: Ginyu Force\nAway Team: Turkish De
 ligt\nHome Score: 5\nAway Score: 5
END:VEVENT
BEGIN:VEVENT
UID:14618923@ezleagues.ezfacility.com
DTSTAMP:20260422T140358Z
CREATED:20260422T140358Z
DTSTART:20221114T080000Z
DTEND:20221114T084000Z
LOCATION:6 Stade Louis II
CONTACT:
SUMMARY:Dacia FC VS. Ginyu Force
DESCRIPTION:League Name: Summer 2022 Monday Mens 5s Serie A\nGame Type: Reg
 ular\nGame Status: Complete\nHome Team: Dacia FC\nAway Team: Ginyu Force\n
 Home Score: 5\nAway Score: 4
END:VEVENT
BEGIN:VEVENT
UID:14618928@ezleagues.ezfacility.com
DTSTAMP:20260422T140358Z
CREATED:20260422T140358Z
DTSTART:20221121T101500Z
DTEND:20221121T105500Z
LOCATION:6 Stade Louis II
CONTACT:
SUMMARY:Erling Halaand Team VS. Ginyu Force
DESCRIPTION:League Name: Summer 2022 Monday Mens 5s Serie A\nGame Type: Reg
 ular\nGame Status: Complete\nHome Team: Erling Halaand Team\nAway Team: Gi
 nyu Force\nHome Score: 0\nAway Score: 10
END:VEVENT
BEGIN:VEVENT
UID:14618933@ezleagues.ezfacility.com
DTSTAMP:20260422T140358Z
CREATED:20260422T140358Z
DTSTART:20221128T071500Z
DTEND:20221128T075500Z
LOCATION:6 Stade Louis II
CONTACT:
SUMMARY:Ginyu Force VS. South Side Hellas
DESCRIPTION:League Name: Summer 2022 Monday Mens 5s Serie A\nGame Type: Reg
 ular\nGame Status: Complete\nHome Team: Ginyu Force\nAway Team: South Side
  Hellas\nHome Score: 6\nAway Score: 1
END:VEVENT
BEGIN:VEVENT
UID:14618938@ezleagues.ezfacility.com
DTSTAMP:20260422T140358Z
CREATED:20260422T140358Z
DTSTART:20221205T084500Z
DTEND:20221205T092500Z
LOCATION:6 Stade Louis II
CONTACT:
SUMMARY:Ginyu Force VS. Shot Takers FC
DESCRIPTION:League Name: Summer 2022 Monday Mens 5s Serie A\nGame Type: Reg
 ular\nGame Status: Complete\nHome Team: Ginyu Force\nAway Team: Shot Taker
 s FC\nHome Score: 5\nAway Score: 2
END:VEVENT
BEGIN:VEVENT
UID:14618942@ezleagues.ezfacility.com
DTSTAMP:20260422T140358Z
CREATED:20260422T140358Z
DTSTART:20221212T084500Z
DTEND:20221212T092500Z
LOCATION:6 Stade Louis II
CONTACT:
SUMMARY:Doubleapple FC VS. Ginyu Force
DESCRIPTION:League Name: Summer 2022 Monday Mens 5s Serie A\nGame Type: Reg
 ular\nGame Status: Complete\nHome Team: Doubleapple FC\nAway Team: Ginyu F
 orce\nHome Score: 3\nAway Score: 6
END:VEVENT
BEGIN:VEVENT
UID:14618945@ezleagues.ezfacility.com
DTSTAMP:20260422T140358Z
CREATED:20260422T140358Z
DTSTART:20221219T080000Z
DTEND:20221219T084000Z
LOCATION:6 Stade Louis II
CONTACT:
SUMMARY:Kubispor VS. Ginyu Force
DESCRIPTION:League Name: Summer 2022 Monday Mens 5s Serie A\nGame Type: Reg
 ular\nGame Status: Complete\nHome Team: Kubispor\nAway Team: Ginyu Force\n
 Home Score: 4\nAway Score: 6
END:VEVENT
BEGIN:VEVENT
UID:14618956@ezleagues.ezfacility.com
DTSTAMP:20260422T140358Z
CREATED:20260422T140358Z
DTSTART:20230109T080000Z
DTEND:20230109T084000Z
LOCATION:6 Stade Louis II
CONTACT:
SUMMARY:Ginyu Force VS. Erling Halaand Team
DESCRIPTION:League Name: Summer 2022 Monday Mens 5s Serie A\nGame Type: Reg
 ular\nGame Status: Complete\nHome Team: Ginyu Force\nAway Team: Erling Hal
 aand Team\nHome Score: 2\nAway Score: 4
END:VEVENT
BEGIN:VEVENT
UID:14618948@ezleagues.ezfacility.com
DTSTAMP:20260422T140358Z
CREATED:20260422T140358Z
DTSTART:20230116T093000Z
DTEND:20230116T101000Z
LOCATION:6 Stade Louis II
CONTACT:
SUMMARY:Turkish Deligt VS. Ginyu Force
DESCRIPTION:League Name: Summer 2022 Monday Mens 5s Serie A\nGame Type: Reg
 ular\nGame Status: Complete\nHome Team: Turkish Deligt\nAway Team: Ginyu F
 orce\nHome Score: 10\nAway Score: 0
END:VEVENT
BEGIN:VEVENT
UID:14618951@ezleagues.ezfacility.com
DTSTAMP:20260422T140358Z
CREATED:20260422T140358Z
DTSTART:20230123T093000Z
DTEND:20230123T101000Z
LOCATION:6 Stade Louis II
CONTACT:
SUMMARY:Ginyu Force VS. Dacia FC
DESCRIPTION:League Name: Summer 2022 Monday Mens 5s Serie A\nGame Type: Reg
 ular\nGame Status: Complete\nHome Team: Ginyu Force\nAway Team: Dacia FC\n
 Home Score: 2\nAway Score: 11
END:VEVENT
BEGIN:VEVENT
UID:14869338@ezleagues.ezfacility.com
DTSTAMP:20260422T140358Z
CREATED:20260422T140358Z
DTSTART:20230130T101500Z
DTEND:20230130T105500Z
LOCATION:6 Stade Louis II
CONTACT:
SUMMARY:Ginyu Force VS. South Side Hellas
DESCRIPTION:League Name: Summer 2022 Monday Mens 5s Serie A\nGame Type: Pos
 tseason\nGame Status: Complete\nHome Team: Ginyu Force\nAway Team: South S
 ide Hellas\nHome Score: 7\nAway Score: 3
END:VEVENT
BEGIN:VEVENT
UID:14869342@ezleagues.ezfacility.com
DTSTAMP:20260422T140358Z
CREATED:20260422T140358Z
DTSTART:20230206T084500Z
DTEND:20230206T092500Z
LOCATION:6 Stade Louis II
CONTACT:
SUMMARY:Ginyu Force VS. Shot Takers FC
DESCRIPTION:League Name: Summer 2022 Monday Mens 5s Serie A\nGame Type: Pos
 tseason\nGame Status: Complete\nHome Team: Ginyu Force\nAway Team: Shot Ta
 kers FC\nHome Score: 4\nAway Score: 2
END:VEVENT
END:VCALENDAR
