BEGIN:VCALENDAR
VERSION:2.0
PRODID:-//EZFacility.com, Inc.//EZL 2.5.5.28621
BEGIN:VEVENT
UID:14655070@ezleagues.ezfacility.com
DTSTAMP:20260426T034850Z
CREATED:20260426T034850Z
DTSTART:20221029T205000Z
DTEND:20221029T214500Z
LOCATION:PFFC Dome - Full Field
CONTACT:
SUMMARY:Blue Devils 2008 EXCEL VS. Clarkson M U15
DESCRIPTION:League Name: BU15 - Target\nGame Type: Regular\nGame Status: Co
 mplete\nHome Team: Blue Devils 2008 EXCEL\nAway Team: Clarkson M U15\nHome
  Score: 2\nAway Score: 0
END:VEVENT
BEGIN:VEVENT
UID:14661767@ezleagues.ezfacility.com
DTSTAMP:20260426T034850Z
CREATED:20260426T034850Z
DTSTART:20221106T195000Z
DTEND:20221106T204500Z
LOCATION:PFFC Dome - Full Field
CONTACT:
SUMMARY:Blue Devils 2008 EXCEL VS. Georgetown Mustangs BU15
DESCRIPTION:League Name: BU15 - Target\nGame Type: Regular\nGame Status: Co
 mplete\nHome Team: Blue Devils 2008 EXCEL\nAway Team: Georgetown Mustangs
  BU15\nHome Score: 0\nAway Score: 1
END:VEVENT
BEGIN:VEVENT
UID:14661798@ezleagues.ezfacility.com
DTSTAMP:20260426T034850Z
CREATED:20260426T034850Z
DTSTART:20221120T000500Z
DTEND:20221120T010000Z
LOCATION:CMCC - Full Field
CONTACT:
SUMMARY:NMSC M U15 2008 Target Black VS. Blue Devils 2008 EXCEL
DESCRIPTION:League Name: BU15 - Target\nGame Type: Regular\nGame Status: Co
 mplete\nHome Team: NMSC M U15 2008 Target Black\nAway Team: Blue Devils 20
 08 EXCEL\nHome Score: 1\nAway Score: 3
END:VEVENT
BEGIN:VEVENT
UID:14661825@ezleagues.ezfacility.com
DTSTAMP:20260426T034850Z
CREATED:20260426T034850Z
DTSTART:20221204T201000Z
DTEND:20221204T210500Z
LOCATION:PFFC Field House - Full Field 
CONTACT:
SUMMARY:Blue Devils 2008 EXCEL VS. Croatia Norval 2008
DESCRIPTION:League Name: BU15 - Target\nGame Type: Regular\nGame Status: Co
 mplete\nHome Team: Blue Devils 2008 EXCEL\nAway Team: Croatia Norval 2008\
 nHome Score: 0\nAway Score: 3
END:VEVENT
BEGIN:VEVENT
UID:14661856@ezleagues.ezfacility.com
DTSTAMP:20260426T034850Z
CREATED:20260426T034850Z
DTSTART:20221218T182000Z
DTEND:20221218T191500Z
LOCATION:PFFC Field House - Full Field 
CONTACT:
SUMMARY:Blue Devils 2008 EXCEL VS. Burlington Bayhawks BU15 A Target
DESCRIPTION:League Name: BU15 - Target\nGame Type: Regular\nGame Status: Co
 mplete\nHome Team: Blue Devils 2008 EXCEL\nAway Team: Burlington Bayhawks 
 BU15 A Target\nHome Score: 0\nAway Score: 0
END:VEVENT
BEGIN:VEVENT
UID:14661918@ezleagues.ezfacility.com
DTSTAMP:20260426T034850Z
CREATED:20260426T034850Z
DTSTART:20230107T225000Z
DTEND:20230107T234500Z
LOCATION:PFFC Field House - Full Field 
CONTACT:
SUMMARY:DIXIE B2008 BLACK VS. Blue Devils 2008 EXCEL
DESCRIPTION:League Name: BU15 - Target\nGame Type: Regular\nGame Status: Co
 mplete\nHome Team: DIXIE B2008 BLACK\nAway Team: Blue Devils 2008 EXCEL\nH
 ome Score: 1\nAway Score: 1
END:VEVENT
BEGIN:VEVENT
UID:14661783@ezleagues.ezfacility.com
DTSTAMP:20260426T034850Z
CREATED:20260426T034850Z
DTSTART:20230129T000500Z
DTEND:20230129T010000Z
LOCATION:CMCC - Full Field
CONTACT:
SUMMARY:DIXIE B2008 BLACK VS. Blue Devils 2008 EXCEL
DESCRIPTION:League Name: BU15 - Target\nGame Type: Regular\nGame Status: Co
 mplete\nHome Team: DIXIE B2008 BLACK\nAway Team: Blue Devils 2008 EXCEL\nH
 ome Score: 0\nAway Score: 1
END:VEVENT
BEGIN:VEVENT
UID:14661811@ezleagues.ezfacility.com
DTSTAMP:20260426T034850Z
CREATED:20260426T034850Z
DTSTART:20230212T185500Z
DTEND:20230212T195000Z
LOCATION:PFFC Dome - Full Field
CONTACT:
SUMMARY:USC Karpaty VS. Blue Devils 2008 EXCEL
DESCRIPTION:League Name: BU15 - Target\nGame Type: Regular\nGame Status: Co
 mplete\nHome Team: USC Karpaty\nAway Team: Blue Devils 2008 EXCEL\nHome Sc
 ore: 0\nAway Score: 4
END:VEVENT
BEGIN:VEVENT
UID:14661841@ezleagues.ezfacility.com
DTSTAMP:20260426T034850Z
CREATED:20260426T034850Z
DTSTART:20230226T182000Z
DTEND:20230226T191500Z
LOCATION:PFFC Field House - Full Field 
CONTACT:
SUMMARY:Blue Devils 2008 EXCEL VS. SRFC M U15
DESCRIPTION:League Name: BU15 - Target\nGame Type: Regular\nGame Status: Co
 mplete\nHome Team: Blue Devils 2008 EXCEL\nAway Team: SRFC M U15\nHome Sco
 re: 4\nAway Score: 0
END:VEVENT
BEGIN:VEVENT
UID:14661873@ezleagues.ezfacility.com
DTSTAMP:20260426T034850Z
CREATED:20260426T034850Z
DTSTART:20230312T010000Z
DTEND:20230312T015500Z
LOCATION:CMCC - Full Field
CONTACT:
SUMMARY:Blue Devils 2008 EXCEL VS. Clarkson M U15
DESCRIPTION:League Name: BU15 - Target\nGame Type: Regular\nGame Status: Co
 mplete\nHome Team: Blue Devils 2008 EXCEL\nAway Team: Clarkson M U15\nHome
  Score: 0\nAway Score: 3
END:VEVENT
BEGIN:VEVENT
UID:14661887@ezleagues.ezfacility.com
DTSTAMP:20260426T034850Z
CREATED:20260426T034850Z
DTSTART:20230326T191000Z
DTEND:20230326T200500Z
LOCATION:PFFC Field House - Full Field 
CONTACT:
SUMMARY:Blue Devils 2008 EXCEL VS. Prostars BU15 2008 Blue
DESCRIPTION:League Name: BU15 - Target\nGame Type: Regular\nGame Status: Co
 mplete\nHome Team: Blue Devils 2008 EXCEL\nAway Team: Prostars BU15 2008 B
 lue\nHome Score: 0\nAway Score: 2
END:VEVENT
BEGIN:VEVENT
UID:14661904@ezleagues.ezfacility.com
DTSTAMP:20260426T034850Z
CREATED:20260426T034850Z
DTSTART:20230408T190000Z
DTEND:20230408T195500Z
LOCATION:PFFC Dome - Full Field
CONTACT:
SUMMARY:Georgetown Mustangs BU15 VS. Blue Devils 2008 EXCEL
DESCRIPTION:League Name: BU15 - Target\nGame Type: Regular\nGame Status: Co
 mplete\nHome Team: Georgetown Mustangs BU15\nAway Team: Blue Devils 2008 
 EXCEL\nHome Score: 0\nAway Score: 1
END:VEVENT
END:VCALENDAR
