BEGIN:VCALENDAR
VERSION:2.0
PRODID:-//EZFacility.com, Inc.//EZL 2.5.5.28621
BEGIN:VEVENT
UID:14644775@ezleagues.ezfacility.com
DTSTAMP:20260420T015014Z
CREATED:20260420T015014Z
DTSTART:20221023T020000Z
DTEND:20221023T030000Z
LOCATION:Soccer Field (half field) 2
CONTACT:
SUMMARY:Barca VS. Lakes FC
DESCRIPTION:League Name: Saturday Nights Mens Open\nGame Type: Regular\nGam
 e Status: Complete\nHome Team: Barca\nAway Team: Lakes FC\nHome Score: 2\n
 Away Score: 8
END:VEVENT
BEGIN:VEVENT
UID:14644780@ezleagues.ezfacility.com
DTSTAMP:20260420T015014Z
CREATED:20260420T015014Z
DTSTART:20221030T030000Z
DTEND:20221030T040000Z
LOCATION:Soccer Field (half field) 1
CONTACT:
SUMMARY:Barca VS. Halcones
DESCRIPTION:League Name: Saturday Nights Mens Open\nGame Type: Regular\nGam
 e Status: Complete\nHome Team: Barca\nAway Team: Halcones\nHome Score: 4\n
 Away Score: 2
END:VEVENT
BEGIN:VEVENT
UID:14644784@ezleagues.ezfacility.com
DTSTAMP:20260420T015014Z
CREATED:20260420T015014Z
DTSTART:20221106T030000Z
DTEND:20221106T040000Z
LOCATION:Soccer Field (half field) 2
CONTACT:
SUMMARY:Gladiadores VS. Barca
DESCRIPTION:League Name: Saturday Nights Mens Open\nGame Type: Regular\nGam
 e Status: Complete\nHome Team: Gladiadores\nAway Team: Barca\nHome Score: 
 3\nAway Score: 6
END:VEVENT
BEGIN:VEVENT
UID:14644787@ezleagues.ezfacility.com
DTSTAMP:20260420T015014Z
CREATED:20260420T015014Z
DTSTART:20221113T040000Z
DTEND:20221113T050000Z
LOCATION:Soccer Field (half field) 1
CONTACT:
SUMMARY:Masters VS. Barca
DESCRIPTION:League Name: Saturday Nights Mens Open\nGame Type: Regular\nGam
 e Status: Complete\nHome Team: Masters\nAway Team: Barca\nHome Score: 3\nA
 way Score: 2
END:VEVENT
BEGIN:VEVENT
UID:14644790@ezleagues.ezfacility.com
DTSTAMP:20260420T015014Z
CREATED:20260420T015014Z
DTSTART:20221120T040000Z
DTEND:20221120T050000Z
LOCATION:Soccer Field (half field) 2
CONTACT:
SUMMARY:Unathletico Madrid VS. Barca
DESCRIPTION:League Name: Saturday Nights Mens Open\nGame Type: Regular\nGam
 e Status: Complete\nHome Team: Unathletico Madrid\nAway Team: Barca\nHome 
 Score: 2\nAway Score: 2
END:VEVENT
BEGIN:VEVENT
UID:14644798@ezleagues.ezfacility.com
DTSTAMP:20260420T015014Z
CREATED:20260420T015014Z
DTSTART:20221204T050000Z
DTEND:20221204T060000Z
LOCATION:Soccer Field (half field) 1
CONTACT:
SUMMARY:Barca VS. Halcones
DESCRIPTION:League Name: Saturday Nights Mens Open\nGame Type: Regular\nGam
 e Status: Complete\nHome Team: Barca\nAway Team: Halcones\nHome Score: 5\n
 Away Score: 3
END:VEVENT
BEGIN:VEVENT
UID:14776435@ezleagues.ezfacility.com
DTSTAMP:20260420T015014Z
CREATED:20260420T015014Z
DTSTART:20221211T050000Z
DTEND:20221211T060000Z
LOCATION:Soccer Field (half field) 1
CONTACT:
SUMMARY:Barca VS. River FC
DESCRIPTION:League Name: Saturday Nights Mens Open\nGame Type: Regular\nGam
 e Status: Complete\nHome Team: Barca\nAway Team: River FC\nHome Score: 5\n
 Away Score: 4
END:VEVENT
BEGIN:VEVENT
UID:14776450@ezleagues.ezfacility.com
DTSTAMP:20260420T015014Z
CREATED:20260420T015014Z
DTSTART:20221218T040000Z
DTEND:20221218T050000Z
LOCATION:Soccer Field (half field) 1
CONTACT:
SUMMARY:Barca VS. Santos
DESCRIPTION:League Name: Saturday Nights Mens Open\nGame Type: Regular\nGam
 e Status: Complete\nHome Team: Barca\nAway Team: Santos\nHome Score: 1\nAw
 ay Score: 5
END:VEVENT
BEGIN:VEVENT
UID:14800480@ezleagues.ezfacility.com
DTSTAMP:20260420T015014Z
CREATED:20260420T015014Z
DTSTART:20221224T190000Z
DTEND:20221224T200000Z
LOCATION:Soccer Field (half field) 2
CONTACT:
SUMMARY:Barca VS. Toros Neza
DESCRIPTION:League Name: Saturday Nights Mens Open\nGame Type: Regular\nGam
 e Status: Complete\nHome Team: Barca\nAway Team: Toros Neza\nHome Score: 7
 \nAway Score: 3
END:VEVENT
BEGIN:VEVENT
UID:14800487@ezleagues.ezfacility.com
DTSTAMP:20260420T015014Z
CREATED:20260420T015014Z
DTSTART:20221231T200000Z
DTEND:20221231T210000Z
LOCATION:Soccer Field (half field) 2
CONTACT:
SUMMARY:River FC VS. Barca
DESCRIPTION:League Name: Saturday Nights Mens Open\nGame Type: Regular\nGam
 e Status: Complete\nHome Team: River FC\nAway Team: Barca\nHome Score: 3\n
 Away Score: 1
END:VEVENT
BEGIN:VEVENT
UID:14834791@ezleagues.ezfacility.com
DTSTAMP:20260420T015014Z
CREATED:20260420T015014Z
DTSTART:20230108T050000Z
DTEND:20230108T060000Z
LOCATION:Soccer Field (half field) 2
CONTACT:
SUMMARY:Unathletico Madrid VS. Barca
DESCRIPTION:League Name: Saturday Nights Mens Open\nGame Type: Regular\nGam
 e Status: Complete\nHome Team: Unathletico Madrid\nAway Team: Barca\nHome 
 Score: 5\nAway Score: 3
END:VEVENT
BEGIN:VEVENT
UID:14834926@ezleagues.ezfacility.com
DTSTAMP:20260420T015014Z
CREATED:20260420T015014Z
DTSTART:20230115T030000Z
DTEND:20230115T040000Z
LOCATION:Soccer Field (half field) 2
CONTACT:
SUMMARY:Barca VS. Toros Neza
DESCRIPTION:League Name: Saturday Nights Mens Open\nGame Type: Regular\nGam
 e Status: Complete\nHome Team: Barca\nAway Team: Toros Neza\nHome Score: 2
 \nAway Score: 1
END:VEVENT
BEGIN:VEVENT
UID:14835147@ezleagues.ezfacility.com
DTSTAMP:20260420T015014Z
CREATED:20260420T015014Z
DTSTART:20230122T050000Z
DTEND:20230122T060000Z
LOCATION:Soccer Field (half field) 1
CONTACT:
SUMMARY:Barca VS. Gladiadores
DESCRIPTION:League Name: Saturday Nights Mens Open\nGame Type: Regular\nGam
 e Status: Complete\nHome Team: Barca\nAway Team: Gladiadores\nHome Score: 
 3\nAway Score: 6
END:VEVENT
BEGIN:VEVENT
UID:14835223@ezleagues.ezfacility.com
DTSTAMP:20260420T015014Z
CREATED:20260420T015014Z
DTSTART:20230129T050000Z
DTEND:20230129T060000Z
LOCATION:Soccer Field (half field) 1
CONTACT:
SUMMARY:Barca VS. Santos
DESCRIPTION:League Name: Saturday Nights Mens Open\nGame Type: Regular\nGam
 e Status: Postponed\nHome Team: Barca\nAway Team: Santos\n
END:VEVENT
BEGIN:VEVENT
UID:14835300@ezleagues.ezfacility.com
DTSTAMP:20260420T015014Z
CREATED:20260420T015014Z
DTSTART:20230205T054500Z
DTEND:20230205T064500Z
LOCATION:Soccer Field (half field) 1
CONTACT:
SUMMARY:Barca VS. Real Amistad
DESCRIPTION:League Name: Saturday Nights Mens Open\nGame Type: Regular\nGam
 e Status: Complete\nHome Team: Barca\nAway Team: Real Amistad\nHome Score:
  0\nAway Score: 4
END:VEVENT
END:VCALENDAR
